PDS_VERSION_ID = PDS3
/* FILE DATA ELEMENTS */
RECORD_TYPE = STREAM
/* POINTERS TO DATA OBJECTS */
^COMPRESSED_FILE = "H4248_0000_S13.JP2"
/* IDENTIFICATION DATA ELEMENTS */
DATA_SET_ID = "MEX-M-HRSC-5-REFDR-MAPPROJECTED-V3.0"
DATA_SET_NAME = "MARS EXPRESS HRSC MAP PROJECTED REFDR V3.0"
DETECTOR_ID = MEX_HRSC_S1
EVENT_TYPE = "MARS-REGIONAL-MAPPING-Vo-Te-Fl"
INSTRUMENT_HOST_ID = MEX
INSTRUMENT_HOST_NAME = "MARS EXPRESS"
INSTRUMENT_ID = HRSC
INSTRUMENT_NAME = "HIGH RESOLUTION STEREO CAMERA"
MISSION_NAME = "MARS EXPRESS"
MISSION_PHASE_NAME = ME_Phase_7
PROCESSING_LEVEL_ID = 3
PRODUCT_CREATION_TIME = 2016-04-21T04:35:46.000Z
PRODUCT_ID = "H4248_0000_S13.JP2"
RELEASE_ID = 0048
REVISION_ID = 0000
/* QUALITY DATA ELEMENTS */
DATA_QUALITY_ID = 2
DATA_QUALITY_DESC = "Data calculated based on photogrammetrically improved orbit and attitude data"
/* TIME DATA ELEMENTS */
SPACECRAFT_CLOCK_START_COUNT = "1/0125727299.08384"
SPACECRAFT_CLOCK_STOP_COUNT = "1/0125727463.63830"
START_TIME = 2007-04-27T04:15:57.665Z
STOP_TIME = 2007-04-27T04:17:46.124Z
/* ORBITAL DATA ELEMENTS */
ASCENDING_NODE_LONGITUDE = 139.32
MAXIMUM_RESOLUTION = 25.1
FOOTPRINT_POINT_LATITUDE = (-32.4712,-32.4801,-32.4891,-32.498, -32.507,-32.4661,-32.2535,-32.1117, -31.899,-31.7574,-31.6157,-31.4034, -31.2617,-31.0498,-30.9084,-30.6964, -30.5517,-30.4102,-30.2689,-30.057, -29.9159,-29.7749,-29.6336,-29.4926, -29.3515,-29.2104,-28.9987,-28.8576, -28.716,-28.5746,-28.3635,-28.222, -28.0814,-27.9414,-27.7306,-27.5903, -27.4506,-27.3112,-27.1657,-26.9472, -26.8025,-26.6579,-26.441,-26.2969, -26.1525,-25.9359,-25.7912,-25.5745, -25.4096,-25.3969,-25.3875,-25.3736, -25.361,-25.3449,-25.4911,-25.634, -25.7789,-25.9241,-26.0688,-26.2858, -26.4307,-26.576,-26.7933,-26.9386, -27.1567,-27.3004,-27.51,-27.6506, -27.7925,-27.9332,-28.074,-28.216, -28.3569,-28.4978,-28.6392,-28.7805, -28.9214,-29.063,-29.2747,-29.4865, -29.628,-29.7691,-29.9106,-30.0523, -30.1935,-30.335,-30.4776,-30.6928, -30.905,-31.1175,-31.2596,-31.4006, -31.5421,-31.7545,-31.8963,-32.0385, -32.1808,-32.3228,-32.4649,-32.4712)
FOOTPRINT_POINT_LONGITUDE = (298.347,298.154,297.958,297.759, 297.556,297.236,297.245,297.251,297.26, 297.266,297.272,297.28,297.286,297.294, 297.299,297.307,297.313,297.318,297.324 ,297.331,297.336,297.341,297.346, 297.351,297.356,297.361,297.369,297.374 ,297.379,297.384,297.391,297.397, 297.401,297.405,297.411,297.415,297.418 ,297.421,297.425,297.432,297.435, 297.439,297.444,297.446,297.45,297.454, 297.458,297.463,297.566,297.789,297.959 ,298.198,298.42,298.699,298.695,298.693 ,298.69,298.687,298.684,298.68,298.677, 298.673,298.669,298.666,298.661,298.658 ,298.654,298.651,298.647,298.644,298.64 ,298.637,298.633,298.63,298.627,298.623 ,298.62,298.616,298.611,298.606,298.603 ,298.599,298.596,298.592,298.589, 298.585,298.581,298.576,298.571,298.565 ,298.561,298.558,298.554,298.549, 298.545,298.541,298.537,298.534,298.53, 298.347)
ORBIT_NUMBER = 4248
ORBITAL_ECCENTRICITY = 0.571
ORBITAL_INCLINATION = 86.68
ORBITAL_SEMIMAJOR_AXIS = 8601.06
PERIAPSIS_ALTITUDE = 296.27
PERIAPSIS_ARGUMENT_ANGLE = 329.81
PERIAPSIS_TIME = 2007-04-27T04:16:08.000Z
SPACECRAFT_ORIENTATION = (0.0,1.0,0.0)
^MEX_ORIENTATION_DESC = "MEX_ORIENTATION_DESC.TXT"
SPACECRAFT_POINTING_MODE = ACROSSTRACK
^MEX_POINTING_DESC = "MEX_POINTING_DESC.TXT"
RIGHT_ASCENSION = -1e+32
DECLINATION = -1e+32
OFFSET_ANGLE = 1.1
SPACECRAFT_SOLAR_DISTANCE = 2.0823e+08
TARGET_NAME = MARS
/* CAMERA DATA ELEMENTS */
DETECTOR_TEMPERATURE = 17.7588
FOCAL_PLANE_TEMPERATURE = 9.195
INST_CMPRS_NAME = "DISCRETE COSINE TRANSFORMATION (DCT)"
INST_CMPRS_RATIO = 9.32185
INST_CMPRS_QUALITY = 0
INST_CMPRS_QUANTZ_TBL_ID = 0
INSTRUMENT_TEMPERATURE = 11.4379
LENS_TEMPERATURE = 9.6028
MACROPIXEL_SIZE = 2
MISSING_FRAMES = 1
PIXEL_SUBSAMPLING_FLAG = N
SIGNAL_CHAIN_ID = 1
/* RADIOMETRIC DATA ELEMENTS */
BANDWIDTH = 180.0
CENTER_FILTER_WAVELENGTH = 677.0
RADIANCE_OFFSET = 4.33028
RADIANCE_SCALING_FACTOR = 0.011662
REFLECTANCE_SCALING_FACTOR = 0.000263816
MEX:REFLECTANCE_OFFSET = 0.0979591
/* IMAGE OBJECT DEFINITIONS */
OBJECT = IMAGE
  INTERCHANGE_FORMAT = BINARY
  LINES = 16987
  LINE_SAMPLES = 3285
  SAMPLE_TYPE = UNSIGNED_INTEGER
  SAMPLE_BITS = 8
  BANDS = 1
  BAND_STORAGE_TYPE = BAND_SEQUENTIAL
  MAXIMUM = 255
  MEAN = 164.102
  MINIMUM = 1
  STANDARD_DEVIATION = 27.9928
END_OBJECT = IMAGE
/* MAP OBJECT DEFINITIONS */
OBJECT = IMAGE_MAP_PROJECTION
  ^DATA_SET_MAP_PROJECTION_CATALOG= "DSMAP.CAT"
  A_AXIS_RADIUS = 3396.0
  B_AXIS_RADIUS = 3396.0
  C_AXIS_RADIUS = 3396.0
  CENTER_LATITUDE = 0.0
  CENTER_LONGITUDE = 298.0
  COORDINATE_SYSTEM_NAME = PLANETOGRAPHIC
  COORDINATE_SYSTEM_TYPE = "BODY-FIXED ROTATING"
  EASTERNMOST_LONGITUDE = 298.699
  FIRST_STANDARD_PARALLEL = "N/A"
  LINE_FIRST_PIXEL = 1
  LINE_LAST_PIXEL = 16987
  LINE_PROJECTION_OFFSET = -60171.25
  MAP_PROJECTION_ROTATION = 0.0
  MAP_PROJECTION_TYPE = SINUSOIDAL
  MAP_RESOLUTION = 2370.85521546667
  MAP_SCALE = 0.025
  MAXIMUM_LATITUDE = -25.3449
  MINIMUM_LATITUDE = -32.507
  POSITIVE_LONGITUDE_DIRECTION = EAST
  REFERENCE_LATITUDE = "N/A"
  REFERENCE_LONGITUDE = "N/A"
  SAMPLE_FIRST_PIXEL = 1
  SAMPLE_LAST_PIXEL = 3285
  SAMPLE_PROJECTION_OFFSET = 1796.75
  SECOND_STANDARD_PARALLEL = "N/A"
  WESTERNMOST_LONGITUDE = 297.236
END_OBJECT = IMAGE_MAP_PROJECTION
/* The JPEG2000 image data file associated with this label. */
OBJECT = COMPRESSED_FILE
  FILE_NAME = "H4248_0000_S13.JP2"
  RECORD_TYPE = UNDEFINED
  FILE_RECORDS = UNK
  ENCODING_TYPE = "JP2"
  INTERCHANGE_FORMAT = BINARY
  UNCOMPRESSED_FILE_NAME = "H4248_0000_S13.IMG"
  REQUIRED_STORAGE_BYTES = "55825290"
  ^DESCRIPTION = "JP2INFO.TXT"
END_OBJECT = COMPRESSED_FILE
END
