PDS_VERSION_ID = PDS3
/* FILE DATA ELEMENTS */
RECORD_TYPE = STREAM
/* POINTERS TO DATA OBJECTS */
^COMPRESSED_FILE = "H4258_0000_BL3.JP2"
/* IDENTIFICATION DATA ELEMENTS */
DATA_SET_ID = "MEX-M-HRSC-5-REFDR-MAPPROJECTED-V3.0"
DATA_SET_NAME = "MARS EXPRESS HRSC MAP PROJECTED REFDR V3.0"
DETECTOR_ID = MEX_HRSC_BLUE
EVENT_TYPE = "MARS-REGIONAL-MAPPING-Im-Eo"
INSTRUMENT_HOST_ID = MEX
INSTRUMENT_HOST_NAME = "MARS EXPRESS"
INSTRUMENT_ID = HRSC
INSTRUMENT_NAME = "HIGH RESOLUTION STEREO CAMERA"
MISSION_NAME = "MARS EXPRESS"
MISSION_PHASE_NAME = ME_Phase_7
PROCESSING_LEVEL_ID = 3
PRODUCT_CREATION_TIME = 2016-04-21T04:35:46.000Z
PRODUCT_ID = "H4258_0000_BL3.JP2"
RELEASE_ID = 0048
REVISION_ID = 0000
/* QUALITY DATA ELEMENTS */
DATA_QUALITY_ID = 1
DATA_QUALITY_DESC = "Data calculated based on original SPICE kernels"
/* TIME DATA ELEMENTS */
SPACECRAFT_CLOCK_START_COUNT = "1/0125969010.09046"
SPACECRAFT_CLOCK_STOP_COUNT = "1/0125969260.26412"
START_TIME = 2007-04-29T23:24:01.274Z
STOP_TIME = 2007-04-29T23:27:12.337Z
/* ORBITAL DATA ELEMENTS */
ASCENDING_NODE_LONGITUDE = 139.12
MAXIMUM_RESOLUTION = 94.6
FOOTPRINT_POINT_LATITUDE = (-45.8562,-45.8419,-45.8284,-45.6685, -45.4037,-45.1387,-44.8735,-44.6093, -44.3503,-43.9637,-43.7058,-43.4477, -43.1895,-42.9329,-42.5528,-42.3024, -42.0513,-41.8006,-41.5496,-41.2984, -40.9215,-40.67,-40.4231,-40.1796, -39.936,-39.6923,-39.4485,-39.2046, -38.9605,-38.7163,-38.472,-38.1053, -37.8607,-37.617,-37.381,-37.1447, -36.7899,-36.5531,-36.3166,-36.0798, -35.8432,-35.6064,-35.3694,-35.1323, -34.7767,-34.4205,-34.1829,-33.8274, -33.5903,-33.3528,-33.3339,-33.3403, -33.3442,-33.4673,-33.7052,-33.9429, -34.2995,-34.5372,-34.773,-35.0104, -35.3691,-35.7246,-35.9617,-36.3173, -36.5544,-36.7912,-37.0284,-37.3837, -37.6201,-37.8636,-38.1086,-38.3536, -38.5986,-38.843,-39.0877,-39.3323, -39.6991,-39.9434,-40.3095,-40.5533, -40.804,-41.056,-41.3079,-41.5597, -41.8115,-42.0629,-42.3143,-42.5655, -42.8165,-43.2052,-43.4643,-43.7232, -43.9818,-44.2401,-44.627,-44.8914, -45.1577,-45.4237,-45.688,-45.8562)
FOOTPRINT_POINT_LONGITUDE = (36.7521,36.1649,35.7018,35.2363, 35.2588,35.2812,35.3033,35.3249,35.342, 35.3713,35.3908,35.4097,35.4286,35.4509 ,35.4767,35.4937,35.5096,35.5261, 35.5422,35.5579,35.5814,35.5966,35.6105 ,35.6241,35.6374,35.6507,35.6638, 35.6767,35.6892,35.7015,35.7137,35.7315 ,35.7432,35.7549,35.7659,35.7762, 35.7911,35.8006,35.8105,35.8199,35.8295 ,35.8388,35.8477,35.8564,35.8694, 35.8811,35.8887,35.9016,35.9098,35.9172 ,36.2133,36.6137,36.9,37.1351,37.1322, 37.1294,37.1249,37.1218,37.1224,37.1195 ,37.1097,37.1058,37.1026,37.0978, 37.0943,37.0911,37.0868,37.081,37.0777, 37.0741,37.0706,37.0666,37.0626,37.0593 ,37.0551,37.0508,37.0438,37.0394, 37.0327,37.0282,37.0237,37.0192,37.0148 ,37.01,37.0051,37.0001,36.995,36.9897, 36.9844,36.9757,36.9702,36.9645,36.9588 ,36.9533,36.9452,36.9389,36.9324, 36.9259,36.9227,36.7521)
ORBIT_NUMBER = 4258
ORBITAL_ECCENTRICITY = 0.571
ORBITAL_INCLINATION = 86.68
ORBITAL_SEMIMAJOR_AXIS = 8600.82
PERIAPSIS_ALTITUDE = 295.77
PERIAPSIS_ARGUMENT_ANGLE = 328.04
PERIAPSIS_TIME = 2007-04-29T23:27:39.000Z
SPACECRAFT_ORIENTATION = (0.0,1.0,0.0)
^MEX_ORIENTATION_DESC = "MEX_ORIENTATION_DESC.TXT"
SPACECRAFT_POINTING_MODE = NADIR
^MEX_POINTING_DESC = "MEX_POINTING_DESC.TXT"
RIGHT_ASCENSION = -1e+32
DECLINATION = -1e+32
OFFSET_ANGLE = -1e+32
SPACECRAFT_SOLAR_DISTANCE = 2.08013e+08
TARGET_NAME = MARS
/* CAMERA DATA ELEMENTS */
DETECTOR_TEMPERATURE = 18.5744
FOCAL_PLANE_TEMPERATURE = 9.195
INST_CMPRS_NAME = "DISCRETE COSINE TRANSFORMATION (DCT)"
INST_CMPRS_RATIO = 23.7352
INST_CMPRS_QUALITY = 0
INST_CMPRS_QUANTZ_TBL_ID = 0
INSTRUMENT_TEMPERATURE = 11.4379
LENS_TEMPERATURE = 9.3989
MACROPIXEL_SIZE = 8
MISSING_FRAMES = 0
PIXEL_SUBSAMPLING_FLAG = N
SIGNAL_CHAIN_ID = 2
/* RADIOMETRIC DATA ELEMENTS */
BANDWIDTH = 76.0
CENTER_FILTER_WAVELENGTH = 444.0
RADIANCE_OFFSET = 0.950775
RADIANCE_SCALING_FACTOR = 0.000892747
REFLECTANCE_SCALING_FACTOR = 3.96887e-05
MEX:REFLECTANCE_OFFSET = 0.0422684
/* IMAGE OBJECT DEFINITIONS */
OBJECT = IMAGE
  INTERCHANGE_FORMAT = BINARY
  LINES = 7412
  LINE_SAMPLES = 911
  SAMPLE_TYPE = UNSIGNED_INTEGER
  SAMPLE_BITS = 8
  BANDS = 1
  BAND_STORAGE_TYPE = BAND_SEQUENTIAL
  MAXIMUM = 255
  MEAN = 154.426
  MINIMUM = 1
  STANDARD_DEVIATION = 25.4901
END_OBJECT = IMAGE
/* MAP OBJECT DEFINITIONS */
OBJECT = IMAGE_MAP_PROJECTION
  ^DATA_SET_MAP_PROJECTION_CATALOG= "DSMAP.CAT"
  A_AXIS_RADIUS = 3396.0
  B_AXIS_RADIUS = 3396.0
  C_AXIS_RADIUS = 3396.0
  CENTER_LATITUDE = 0.0
  CENTER_LONGITUDE = 36.0
  COORDINATE_SYSTEM_NAME = PLANETOGRAPHIC
  COORDINATE_SYSTEM_TYPE = "BODY-FIXED ROTATING"
  EASTERNMOST_LONGITUDE = 37.1351
  FIRST_STANDARD_PARALLEL = "N/A"
  LINE_FIRST_PIXEL = 1
  LINE_LAST_PIXEL = 7412
  LINE_PROJECTION_OFFSET = -19763.5625
  MAP_PROJECTION_ROTATION = 0.0
  MAP_PROJECTION_TYPE = SINUSOIDAL
  MAP_RESOLUTION = 592.713803866667
  MAP_SCALE = 0.1
  MAXIMUM_LATITUDE = -33.3339
  MINIMUM_LATITUDE = -45.8562
  POSITIVE_LONGITUDE_DIRECTION = EAST
  REFERENCE_LATITUDE = "N/A"
  REFERENCE_LONGITUDE = "N/A"
  SAMPLE_FIRST_PIXEL = 1
  SAMPLE_LAST_PIXEL = 911
  SAMPLE_PROJECTION_OFFSET = 331.5625
  SECOND_STANDARD_PARALLEL = "N/A"
  WESTERNMOST_LONGITUDE = 35.2363
END_OBJECT = IMAGE_MAP_PROJECTION
/* The JPEG2000 image data file associated with this label. */
OBJECT = COMPRESSED_FILE
  FILE_NAME = "H4258_0000_BL3.JP2"
  RECORD_TYPE = UNDEFINED
  FILE_RECORDS = UNK
  ENCODING_TYPE = "JP2"
  INTERCHANGE_FORMAT = BINARY
  UNCOMPRESSED_FILE_NAME = "H4258_0000_BL3.IMG"
  REQUIRED_STORAGE_BYTES = "6770552"
  ^DESCRIPTION = "JP2INFO.TXT"
END_OBJECT = COMPRESSED_FILE
END
