PDS_VERSION_ID = PDS3
/* FILE DATA ELEMENTS */
RECORD_TYPE = STREAM
/* POINTERS TO DATA OBJECTS */
^COMPRESSED_FILE = "H4261_0000_GR3.JP2"
/* IDENTIFICATION DATA ELEMENTS */
DATA_SET_ID = "MEX-M-HRSC-5-REFDR-MAPPROJECTED-V3.0"
DATA_SET_NAME = "MARS EXPRESS HRSC MAP PROJECTED REFDR V3.0"
DETECTOR_ID = MEX_HRSC_GREEN
EVENT_TYPE = "MARS-REGIONAL-MAPPING-Vo-Pf"
INSTRUMENT_HOST_ID = MEX
INSTRUMENT_HOST_NAME = "MARS EXPRESS"
INSTRUMENT_ID = HRSC
INSTRUMENT_NAME = "HIGH RESOLUTION STEREO CAMERA"
MISSION_NAME = "MARS EXPRESS"
MISSION_PHASE_NAME = ME_Phase_7
PROCESSING_LEVEL_ID = 3
PRODUCT_CREATION_TIME = 2016-04-21T04:35:46.000Z
PRODUCT_ID = "H4261_0000_GR3.JP2"
RELEASE_ID = 0048
REVISION_ID = 0000
/* QUALITY DATA ELEMENTS */
DATA_QUALITY_ID = 2
DATA_QUALITY_DESC = "Data calculated based on photogrammetrically improved orbit and attitude data"
/* TIME DATA ELEMENTS */
SPACECRAFT_CLOCK_START_COUNT = "1/0126041792.08270"
SPACECRAFT_CLOCK_STOP_COUNT = "1/0126042097.23832"
START_TIME = 2007-04-30T19:37:06.778Z
STOP_TIME = 2007-04-30T19:41:12.773Z
/* ORBITAL DATA ELEMENTS */
ASCENDING_NODE_LONGITUDE = 139.05
MAXIMUM_RESOLUTION = 93.3
FOOTPRINT_POINT_LATITUDE = (-32.9457,-32.94,-32.9372,-32.6224, -32.1591,-31.7068,-31.4041,-31.0901, -30.7752,-30.4603,-30.146,-29.8318, -29.5177,-29.2036,-28.8897,-28.5758, -28.2621,-27.7917,-27.3216,-27.0086, -26.6955,-26.3826,-26.0699,-25.7574, -25.4451,-25.1329,-24.8205,-24.4968, -24.1752,-23.8526,-23.5301,-23.2078, -22.8859,-22.5641,-22.2425,-21.9213, -21.424,-21.0921,-20.7605,-20.4294, -20.0986,-19.768,-19.2585,-18.9176, -18.5769,-18.2368,-17.897,-17.549, -17.1987,-16.849,-16.8202,-16.8213, -16.8232,-17.1731,-17.5237,-17.873, -18.213,-18.5535,-18.8943,-19.2355, -19.7462,-20.077,-20.4082,-20.7396, -21.0714,-21.5698,-21.9021,-22.2236, -22.5453,-22.8673,-23.1897,-23.5122, -23.8349,-24.1579,-24.4812,-24.9612, -25.2736,-25.5861,-25.8988,-26.2117, -26.5246,-26.8377,-27.1512,-27.6217, -27.9355,-28.2493,-28.5633,-28.8775, -29.349,-29.6633,-30.135,-30.4496, -30.7638,-31.0784,-31.5457,-31.849, -32.1524,-32.4569,-32.9289,-32.9457)
FOOTPRINT_POINT_LONGITUDE = (102.265,101.906,101.553,101.56,101.571 ,101.579,101.585,101.59,101.596,101.602 ,101.607,101.612,101.616,101.62,101.625 ,101.628,101.632,101.637,101.642, 101.644,101.647,101.649,101.651,101.653 ,101.655,101.657,101.658,101.66,101.66, 101.661,101.661,101.662,101.662,101.662 ,101.661,101.661,101.66,101.659,101.658 ,101.656,101.655,101.653,101.65,101.648 ,101.645,101.643,101.64,101.637,101.633 ,101.63,102.053,102.553,102.866,102.864 ,102.862,102.86,102.858,102.856,102.853 ,102.851,102.848,102.846,102.844, 102.842,102.84,102.837,102.835,102.833, 102.831,102.829,102.828,102.826,102.824 ,102.822,102.821,102.818,102.817, 102.816,102.814,102.812,102.811,102.808 ,102.807,102.805,102.804,102.802,102.8, 102.799,102.796,102.794,102.791,102.789 ,102.785,102.783,102.781,102.779, 102.777,102.778,102.772,102.265)
ORBIT_NUMBER = 4261
ORBITAL_ECCENTRICITY = 0.572
ORBITAL_INCLINATION = 86.69
ORBITAL_SEMIMAJOR_AXIS = 8601.11
PERIAPSIS_ALTITUDE = 294.88
PERIAPSIS_ARGUMENT_ANGLE = 327.49
PERIAPSIS_TIME = 2007-04-30T19:37:10.000Z
SPACECRAFT_ORIENTATION = (0.0,1.0,0.0)
^MEX_ORIENTATION_DESC = "MEX_ORIENTATION_DESC.TXT"
SPACECRAFT_POINTING_MODE = ACROSSTRACK
^MEX_POINTING_DESC = "MEX_POINTING_DESC.TXT"
RIGHT_ASCENSION = -1e+32
DECLINATION = -1e+32
OFFSET_ANGLE = -0.37
SPACECRAFT_SOLAR_DISTANCE = 2.07951e+08
TARGET_NAME = MARS
/* CAMERA DATA ELEMENTS */
DETECTOR_TEMPERATURE = 18.3705
FOCAL_PLANE_TEMPERATURE = 9.195
INST_CMPRS_NAME = "DISCRETE COSINE TRANSFORMATION (DCT)"
INST_CMPRS_RATIO = 17.4009
INST_CMPRS_QUALITY = 0
INST_CMPRS_QUANTZ_TBL_ID = 0
INSTRUMENT_TEMPERATURE = 11.6418
LENS_TEMPERATURE = 9.6028
MACROPIXEL_SIZE = 8
MISSING_FRAMES = 0
PIXEL_SUBSAMPLING_FLAG = N
SIGNAL_CHAIN_ID = 2
/* RADIOMETRIC DATA ELEMENTS */
BANDWIDTH = 88.0
CENTER_FILTER_WAVELENGTH = 538.0
RADIANCE_OFFSET = 1.83464
RADIANCE_SCALING_FACTOR = 0.00504788
REFLECTANCE_SCALING_FACTOR = 0.000187941
MEX:REFLECTANCE_OFFSET = 0.0683066
/* IMAGE OBJECT DEFINITIONS */
OBJECT = IMAGE
  INTERCHANGE_FORMAT = BINARY
  LINES = 9557
  LINE_SAMPLES = 757
  SAMPLE_TYPE = UNSIGNED_INTEGER
  SAMPLE_BITS = 8
  BANDS = 1
  BAND_STORAGE_TYPE = BAND_SEQUENTIAL
  MAXIMUM = 255
  MEAN = 143.733
  MINIMUM = 1
  STANDARD_DEVIATION = 54.3086
END_OBJECT = IMAGE
/* MAP OBJECT DEFINITIONS */
OBJECT = IMAGE_MAP_PROJECTION
  ^DATA_SET_MAP_PROJECTION_CATALOG= "DSMAP.CAT"
  A_AXIS_RADIUS = 3396.0
  B_AXIS_RADIUS = 3396.0
  C_AXIS_RADIUS = 3396.0
  CENTER_LATITUDE = 0.0
  CENTER_LONGITUDE = 102.0
  COORDINATE_SYSTEM_NAME = PLANETOGRAPHIC
  COORDINATE_SYSTEM_TYPE = "BODY-FIXED ROTATING"
  EASTERNMOST_LONGITUDE = 102.866
  FIRST_STANDARD_PARALLEL = "N/A"
  LINE_FIRST_PIXEL = 1
  LINE_LAST_PIXEL = 9557
  LINE_PROJECTION_OFFSET = -9975.8125
  MAP_PROJECTION_ROTATION = 0.0
  MAP_PROJECTION_TYPE = SINUSOIDAL
  MAP_RESOLUTION = 592.713803866667
  MAP_SCALE = 0.1
  MAXIMUM_LATITUDE = -16.8202
  MINIMUM_LATITUDE = -32.9457
  POSITIVE_LONGITUDE_DIRECTION = EAST
  REFERENCE_LATITUDE = "N/A"
  REFERENCE_LONGITUDE = "N/A"
  SAMPLE_FIRST_PIXEL = 1
  SAMPLE_LAST_PIXEL = 757
  SAMPLE_PROJECTION_OFFSET = 229.6875
  SECOND_STANDARD_PARALLEL = "N/A"
  WESTERNMOST_LONGITUDE = 101.553
END_OBJECT = IMAGE_MAP_PROJECTION
/* The JPEG2000 image data file associated with this label. */
OBJECT = COMPRESSED_FILE
  FILE_NAME = "H4261_0000_GR3.JP2"
  RECORD_TYPE = UNDEFINED
  FILE_RECORDS = UNK
  ENCODING_TYPE = "JP2"
  INTERCHANGE_FORMAT = BINARY
  UNCOMPRESSED_FILE_NAME = "H4261_0000_GR3.IMG"
  REQUIRED_STORAGE_BYTES = "7252817"
  ^DESCRIPTION = "JP2INFO.TXT"
END_OBJECT = COMPRESSED_FILE
END
