PDS_VERSION_ID = PDS3
/* FILE DATA ELEMENTS */
RECORD_TYPE = STREAM
/* POINTERS TO DATA OBJECTS */
^COMPRESSED_FILE = "H4262_0000_P23.JP2"
/* IDENTIFICATION DATA ELEMENTS */
DATA_SET_ID = "MEX-M-HRSC-5-REFDR-MAPPROJECTED-V3.0"
DATA_SET_NAME = "MARS EXPRESS HRSC MAP PROJECTED REFDR V3.0"
DETECTOR_ID = MEX_HRSC_P2
EVENT_TYPE = "MARS-REGIONAL-MAPPING-Im"
INSTRUMENT_HOST_ID = MEX
INSTRUMENT_HOST_NAME = "MARS EXPRESS"
INSTRUMENT_ID = HRSC
INSTRUMENT_NAME = "HIGH RESOLUTION STEREO CAMERA"
MISSION_NAME = "MARS EXPRESS"
MISSION_PHASE_NAME = ME_Phase_7
PROCESSING_LEVEL_ID = 3
PRODUCT_CREATION_TIME = 2016-04-21T04:35:46.000Z
PRODUCT_ID = "H4262_0000_P23.JP2"
RELEASE_ID = 0048
REVISION_ID = 0000
/* QUALITY DATA ELEMENTS */
DATA_QUALITY_ID = 1
DATA_QUALITY_DESC = "Data calculated based on original SPICE kernels"
/* TIME DATA ELEMENTS */
SPACECRAFT_CLOCK_START_COUNT = "1/0126065822.09044"
SPACECRAFT_CLOCK_STOP_COUNT = "1/0126066001.07352"
START_TIME = 2007-05-01T02:17:16.659Z
STOP_TIME = 2007-05-01T02:19:19.670Z
/* ORBITAL DATA ELEMENTS */
ASCENDING_NODE_LONGITUDE = 139.03
MAXIMUM_RESOLUTION = 24.6
FOOTPRINT_POINT_LATITUDE = (-43.4031,-43.3971,-43.3867,-43.3803, -43.3729,-43.2505,-43.0805,-42.9122, -42.7463,-42.5844,-42.4234,-42.1787, -42.0158,-41.8546,-41.697,-41.5346, -41.3711,-41.2083,-41.045,-40.8003, -40.637,-40.4767,-40.241,-40.0824, -39.8416,-39.6818,-39.5243,-39.2892, -39.1299,-38.9711,-38.8123,-38.6533, -38.4942,-38.3351,-38.1759,-37.9371, -37.6997,-37.5462,-37.3923,-37.2385, -37.0844,-36.8529,-36.6217,-36.4674, -36.3132,-36.1587,-35.927,-35.7732, -35.6184,-35.3857,-35.384,-35.3885, -35.3919,-35.3965,-35.4774,-35.6324, -35.864,-36.019,-36.1737,-36.4058, -36.5605,-36.7151,-36.8696,-37.024, -37.2555,-37.41,-37.5639,-37.7181, -37.8757,-38.0352,-38.2744,-38.4338, -38.5934,-38.8324,-38.9915,-39.2302, -39.4686,-39.6275,-39.7863,-39.9452, -40.1834,-40.3426,-40.4985,-40.7427, -40.9884,-41.1525,-41.3159,-41.5603, -41.7233,-41.8864,-42.0491,-42.2119, -42.3748,-42.5372,-42.699,-42.8626, -43.0305,-43.198,-43.3654,-43.4031)
FOOTPRINT_POINT_LONGITUDE = (3.69867,3.41511,2.99725,2.77361, 2.53489,2.31032,2.32094,2.33235,2.34394 ,2.35527,2.36705,2.38285,2.39344, 2.40486,2.41811,2.42874,2.43874,2.44903 ,2.45899,2.47395,2.48375,2.49209, 2.50652,2.51531,2.52684,2.5348,2.54394, 2.55816,2.56618,2.57444,2.58266,2.59068 ,2.59861,2.60652,2.61427,2.62583, 2.63704,2.64428,2.65136,2.65837,2.6652, 2.67515,2.68513,2.69169,2.69817,2.70448 ,2.71388,2.72046,2.72641,2.73508, 3.10791,3.34398,3.54303,3.84133,4.01859 ,4.0165,4.01372,4.01154,4.00942,4.00609 ,4.00385,4.0016,3.99936,3.99712,3.99367 ,3.99126,3.98908,3.98668,3.98431, 3.98191,3.97825,3.97574,3.97309,3.96914 ,3.96657,3.96252,3.95853,3.95577, 3.95301,3.95011,3.94565,3.94239,3.94099 ,3.93427,3.92963,3.92628,3.9232,3.91889 ,3.91587,3.91269,3.90969,3.90648, 3.90316,3.89998,3.89714,3.89345,3.88993 ,3.88655,3.88318,3.69867)
ORBIT_NUMBER = 4262
ORBITAL_ECCENTRICITY = 0.571
ORBITAL_INCLINATION = 86.68
ORBITAL_SEMIMAJOR_AXIS = 8597.19
PERIAPSIS_ALTITUDE = 295.67
PERIAPSIS_ARGUMENT_ANGLE = 327.32
PERIAPSIS_TIME = 2007-05-01T02:20:19.000Z
SPACECRAFT_ORIENTATION = (0.0,1.0,0.0)
^MEX_ORIENTATION_DESC = "MEX_ORIENTATION_DESC.TXT"
SPACECRAFT_POINTING_MODE = NADIR
^MEX_POINTING_DESC = "MEX_POINTING_DESC.TXT"
RIGHT_ASCENSION = -1e+32
DECLINATION = -1e+32
OFFSET_ANGLE = -1e+32
SPACECRAFT_SOLAR_DISTANCE = 2.07931e+08
TARGET_NAME = MARS
/* CAMERA DATA ELEMENTS */
DETECTOR_TEMPERATURE = 18.7783
FOCAL_PLANE_TEMPERATURE = 9.195
INST_CMPRS_NAME = "DISCRETE COSINE TRANSFORMATION (DCT)"
INST_CMPRS_RATIO = 7.41231
INST_CMPRS_QUALITY = 0
INST_CMPRS_QUANTZ_TBL_ID = 0
INSTRUMENT_TEMPERATURE = 11.6418
LENS_TEMPERATURE = 9.3989
MACROPIXEL_SIZE = 2
MISSING_FRAMES = 0
PIXEL_SUBSAMPLING_FLAG = N
SIGNAL_CHAIN_ID = 3
/* RADIOMETRIC DATA ELEMENTS */
BANDWIDTH = 177.0
CENTER_FILTER_WAVELENGTH = 676.5
RADIANCE_OFFSET = 5.98573
RADIANCE_SCALING_FACTOR = 0.0110463
REFLECTANCE_SCALING_FACTOR = 0.000253229
MEX:REFLECTANCE_OFFSET = 0.137219
/* IMAGE OBJECT DEFINITIONS */
OBJECT = IMAGE
  INTERCHANGE_FORMAT = BINARY
  LINES = 18952
  LINE_SAMPLES = 3222
  SAMPLE_TYPE = UNSIGNED_INTEGER
  SAMPLE_BITS = 8
  BANDS = 1
  BAND_STORAGE_TYPE = BAND_SEQUENTIAL
  MAXIMUM = 255
  MEAN = 104.316
  MINIMUM = 1
  STANDARD_DEVIATION = 25.5941
END_OBJECT = IMAGE
/* MAP OBJECT DEFINITIONS */
OBJECT = IMAGE_MAP_PROJECTION
  ^DATA_SET_MAP_PROJECTION_CATALOG= "DSMAP.CAT"
  A_AXIS_RADIUS = 3396.0
  B_AXIS_RADIUS = 3396.0
  C_AXIS_RADIUS = 3396.0
  CENTER_LATITUDE = 0.0
  CENTER_LONGITUDE = 3.0
  COORDINATE_SYSTEM_NAME = PLANETOGRAPHIC
  COORDINATE_SYSTEM_TYPE = "BODY-FIXED ROTATING"
  EASTERNMOST_LONGITUDE = 4.01859
  FIRST_STANDARD_PARALLEL = "N/A"
  LINE_FIRST_PIXEL = 1
  LINE_LAST_PIXEL = 18952
  LINE_PROJECTION_OFFSET = -83868.75
  MAP_PROJECTION_ROTATION = 0.0
  MAP_PROJECTION_TYPE = SINUSOIDAL
  MAP_RESOLUTION = 2370.85521546667
  MAP_SCALE = 0.025
  MAXIMUM_LATITUDE = -35.384
  MINIMUM_LATITUDE = -43.4031
  POSITIVE_LONGITUDE_DIRECTION = EAST
  REFERENCE_LATITUDE = "N/A"
  REFERENCE_LONGITUDE = "N/A"
  SAMPLE_FIRST_PIXEL = 1
  SAMPLE_LAST_PIXEL = 3222
  SAMPLE_PROJECTION_OFFSET = 1199.75
  SECOND_STANDARD_PARALLEL = "N/A"
  WESTERNMOST_LONGITUDE = 2.31032
END_OBJECT = IMAGE_MAP_PROJECTION
/* The JPEG2000 image data file associated with this label. */
OBJECT = COMPRESSED_FILE
  FILE_NAME = "H4262_0000_P23.JP2"
  RECORD_TYPE = UNDEFINED
  FILE_RECORDS = UNK
  ENCODING_TYPE = "JP2"
  INTERCHANGE_FORMAT = BINARY
  UNCOMPRESSED_FILE_NAME = "H4262_0000_P23.IMG"
  REQUIRED_STORAGE_BYTES = "61085898"
  ^DESCRIPTION = "JP2INFO.TXT"
END_OBJECT = COMPRESSED_FILE
END
