PDS_VERSION_ID = PDS3
/* FILE DATA ELEMENTS */
RECORD_TYPE = STREAM
/* POINTERS TO DATA OBJECTS */
^COMPRESSED_FILE = "H4262_0000_S13.JP2"
/* IDENTIFICATION DATA ELEMENTS */
DATA_SET_ID = "MEX-M-HRSC-5-REFDR-MAPPROJECTED-V3.0"
DATA_SET_NAME = "MARS EXPRESS HRSC MAP PROJECTED REFDR V3.0"
DETECTOR_ID = MEX_HRSC_S1
EVENT_TYPE = "MARS-REGIONAL-MAPPING-Im"
INSTRUMENT_HOST_ID = MEX
INSTRUMENT_HOST_NAME = "MARS EXPRESS"
INSTRUMENT_ID = HRSC
INSTRUMENT_NAME = "HIGH RESOLUTION STEREO CAMERA"
MISSION_NAME = "MARS EXPRESS"
MISSION_PHASE_NAME = ME_Phase_7
PROCESSING_LEVEL_ID = 3
PRODUCT_CREATION_TIME = 2016-04-21T04:35:46.000Z
PRODUCT_ID = "H4262_0000_S13.JP2"
RELEASE_ID = 0048
REVISION_ID = 0000
/* QUALITY DATA ELEMENTS */
DATA_QUALITY_ID = 1
DATA_QUALITY_DESC = "Data calculated based on original SPICE kernels"
/* TIME DATA ELEMENTS */
SPACECRAFT_CLOCK_START_COUNT = "1/0126065822.09044"
SPACECRAFT_CLOCK_STOP_COUNT = "1/0126066001.07352"
START_TIME = 2007-05-01T02:18:04.173Z
STOP_TIME = 2007-05-01T02:20:03.265Z
/* ORBITAL DATA ELEMENTS */
ASCENDING_NODE_LONGITUDE = 139.03
MAXIMUM_RESOLUTION = 25.1
FOOTPRINT_POINT_LATITUDE = (-43.2965,-43.2915,-43.2823,-43.2746, -43.3122,-43.1502,-42.9909,-42.8282, -42.6649,-42.5011,-42.2556,-42.0941, -41.9303,-41.7606,-41.5937,-41.4323, -41.2691,-41.0243,-40.8607,-40.6981, -40.5404,-40.3062,-40.1476,-39.9916, -39.8384,-39.6852,-39.4471,-39.2856, -39.1295,-38.9724,-38.8153,-38.6583, -38.5016,-38.3446,-38.1876,-38.0305, -37.8735,-37.7165,-37.5594,-37.4026, -37.2457,-37.0107,-36.8543,-36.6975, -36.5408,-36.3844,-36.2277,-36.0712, -35.9143,-35.7569,-35.5233,-35.3585, -35.3624,-35.3677,-35.3734,-35.3759, -35.6103,-35.768,-35.9245,-36.0813, -36.3164,-36.4732,-36.6299,-36.7867, -36.9437,-37.1007,-37.3361,-37.5719, -37.7289,-37.8862,-38.0436,-38.2009, -38.437,-38.5941,-38.7515,-38.9088, -39.1447,-39.3022,-39.4597,-39.617, -39.7745,-39.9317,-40.1674,-40.4041, -40.716,-40.8796,-41.0423,-41.2055, -41.3696,-41.6154,-41.7792,-42.0251, -42.1891,-42.3526,-42.5164,-42.681, -42.9261,-43.0899,-43.2541,-43.2965)
FOOTPRINT_POINT_LONGITUDE = (3.48009,3.25186,2.86698,2.56753, 2.34221,2.35277,2.36191,2.37251,2.38329 ,2.3942,2.41018,2.41965,2.43007,2.44311 ,2.45475,2.46368,2.47327,2.48753, 2.49704,2.50602,2.51474,2.5269,2.53598, 2.54379,2.55026,2.55664,2.56972,2.57959 ,2.58693,2.59459,2.60223,2.60967, 2.61695,2.62423,2.63142,2.63857,2.64563 ,2.65257,2.65951,2.66618,2.67286, 2.68259,2.68884,2.6952,2.70143,2.70749, 2.71358,2.71953,2.72555,2.73173,2.73984 ,2.88044,3.07714,3.38437,3.76575, 4.01579,4.01185,4.00969,4.00707,4.00451 ,4.00054,3.99791,3.99516,3.99244, 3.98974,3.98701,3.98279,3.97865,3.97572 ,3.97292,3.97008,3.96721,3.96285, 3.95977,3.95678,3.9537,3.94899,3.94589, 3.94276,3.93952,3.9363,3.93292,3.92776, 3.9229,3.91481,3.91127,3.90738,3.90365, 3.90016,3.89478,3.89109,3.88557,3.88183 ,3.87788,3.874,3.8704,3.86419,3.86018, 3.85626,3.48009)
ORBIT_NUMBER = 4262
ORBITAL_ECCENTRICITY = 0.571
ORBITAL_INCLINATION = 86.68
ORBITAL_SEMIMAJOR_AXIS = 8597.19
PERIAPSIS_ALTITUDE = 295.67
PERIAPSIS_ARGUMENT_ANGLE = 327.32
PERIAPSIS_TIME = 2007-05-01T02:20:19.000Z
SPACECRAFT_ORIENTATION = (0.0,1.0,0.0)
^MEX_ORIENTATION_DESC = "MEX_ORIENTATION_DESC.TXT"
SPACECRAFT_POINTING_MODE = NADIR
^MEX_POINTING_DESC = "MEX_POINTING_DESC.TXT"
RIGHT_ASCENSION = -1e+32
DECLINATION = -1e+32
OFFSET_ANGLE = -1e+32
SPACECRAFT_SOLAR_DISTANCE = 2.07931e+08
TARGET_NAME = MARS
/* CAMERA DATA ELEMENTS */
DETECTOR_TEMPERATURE = 16.3315
FOCAL_PLANE_TEMPERATURE = 9.195
INST_CMPRS_NAME = "DISCRETE COSINE TRANSFORMATION (DCT)"
INST_CMPRS_RATIO = 13.4654
INST_CMPRS_QUALITY = 0
INST_CMPRS_QUANTZ_TBL_ID = 0
INSTRUMENT_TEMPERATURE = 11.6418
LENS_TEMPERATURE = 9.3989
MACROPIXEL_SIZE = 2
MISSING_FRAMES = 0
PIXEL_SUBSAMPLING_FLAG = N
SIGNAL_CHAIN_ID = 1
/* RADIOMETRIC DATA ELEMENTS */
BANDWIDTH = 180.0
CENTER_FILTER_WAVELENGTH = 677.0
RADIANCE_OFFSET = 6.64727
RADIANCE_SCALING_FACTOR = 0.0107167
REFLECTANCE_SCALING_FACTOR = 0.000241736
MEX:REFLECTANCE_OFFSET = 0.149942
/* IMAGE OBJECT DEFINITIONS */
OBJECT = IMAGE
  INTERCHANGE_FORMAT = BINARY
  LINES = 18952
  LINE_SAMPLES = 3222
  SAMPLE_TYPE = UNSIGNED_INTEGER
  SAMPLE_BITS = 8
  BANDS = 1
  BAND_STORAGE_TYPE = BAND_SEQUENTIAL
  MAXIMUM = 255
  MEAN = 111.241
  MINIMUM = 1
  STANDARD_DEVIATION = 24.7676
END_OBJECT = IMAGE
/* MAP OBJECT DEFINITIONS */
OBJECT = IMAGE_MAP_PROJECTION
  ^DATA_SET_MAP_PROJECTION_CATALOG= "DSMAP.CAT"
  A_AXIS_RADIUS = 3396.0
  B_AXIS_RADIUS = 3396.0
  C_AXIS_RADIUS = 3396.0
  CENTER_LATITUDE = 0.0
  CENTER_LONGITUDE = 3.0
  COORDINATE_SYSTEM_NAME = PLANETOGRAPHIC
  COORDINATE_SYSTEM_TYPE = "BODY-FIXED ROTATING"
  EASTERNMOST_LONGITUDE = 4.01579
  FIRST_STANDARD_PARALLEL = "N/A"
  LINE_FIRST_PIXEL = 1
  LINE_LAST_PIXEL = 18952
  LINE_PROJECTION_OFFSET = -83868.75
  MAP_PROJECTION_ROTATION = 0.0
  MAP_PROJECTION_TYPE = SINUSOIDAL
  MAP_RESOLUTION = 2370.85521546667
  MAP_SCALE = 0.025
  MAXIMUM_LATITUDE = -35.3585
  MINIMUM_LATITUDE = -43.3122
  POSITIVE_LONGITUDE_DIRECTION = EAST
  REFERENCE_LATITUDE = "N/A"
  REFERENCE_LONGITUDE = "N/A"
  SAMPLE_FIRST_PIXEL = 1
  SAMPLE_LAST_PIXEL = 3222
  SAMPLE_PROJECTION_OFFSET = 1199.75
  SECOND_STANDARD_PARALLEL = "N/A"
  WESTERNMOST_LONGITUDE = 2.34221
END_OBJECT = IMAGE_MAP_PROJECTION
/* The JPEG2000 image data file associated with this label. */
OBJECT = COMPRESSED_FILE
  FILE_NAME = "H4262_0000_S13.JP2"
  RECORD_TYPE = UNDEFINED
  FILE_RECORDS = UNK
  ENCODING_TYPE = "JP2"
  INTERCHANGE_FORMAT = BINARY
  UNCOMPRESSED_FILE_NAME = "H4262_0000_S13.IMG"
  REQUIRED_STORAGE_BYTES = "61085898"
  ^DESCRIPTION = "JP2INFO.TXT"
END_OBJECT = COMPRESSED_FILE
END
