PDS_VERSION_ID = PDS3
/* FILE DATA ELEMENTS */
RECORD_TYPE = STREAM
/* POINTERS TO DATA OBJECTS */
^COMPRESSED_FILE = "H4264_0000_P23.JP2"
/* IDENTIFICATION DATA ELEMENTS */
DATA_SET_ID = "MEX-M-HRSC-5-REFDR-MAPPROJECTED-V3.0"
DATA_SET_NAME = "MARS EXPRESS HRSC MAP PROJECTED REFDR V3.0"
DETECTOR_ID = MEX_HRSC_P2
EVENT_TYPE = "MARS-REGIONAL-MAPPING-Im-Fl"
INSTRUMENT_HOST_ID = MEX
INSTRUMENT_HOST_NAME = "MARS EXPRESS"
INSTRUMENT_ID = HRSC
INSTRUMENT_NAME = "HIGH RESOLUTION STEREO CAMERA"
MISSION_NAME = "MARS EXPRESS"
MISSION_PHASE_NAME = ME_Phase_7
PROCESSING_LEVEL_ID = 3
PRODUCT_CREATION_TIME = 2016-04-21T04:35:46.000Z
PRODUCT_ID = "H4264_0000_P23.JP2"
RELEASE_ID = 0048
REVISION_ID = 0000
/* QUALITY DATA ELEMENTS */
DATA_QUALITY_ID = 1
DATA_QUALITY_DESC = "Data calculated based on original SPICE kernels"
/* TIME DATA ELEMENTS */
SPACECRAFT_CLOCK_START_COUNT = "1/0126113942.09064"
SPACECRAFT_CLOCK_STOP_COUNT = "1/0126114182.07668"
START_TIME = 2007-05-01T15:39:23.911Z
STOP_TIME = 2007-05-01T15:42:08.412Z
/* ORBITAL DATA ELEMENTS */
ASCENDING_NODE_LONGITUDE = 138.99
MAXIMUM_RESOLUTION = 30.7
FOOTPRINT_POINT_LATITUDE = (-59.2619,-59.275,-59.2853,-59.293, -59.2983,-59.3013,-58.9314,-58.6118, -58.4019,-58.1911,-57.8746,-57.6688, -57.4614,-57.2538,-57.0461,-56.8427, -56.6389,-56.4348,-56.2305,-56.0295, -55.8294,-55.6291,-55.4242,-55.2249, -55.0293,-54.8331,-54.5386,-54.2404, -54.0479,-53.7624,-53.5686,-53.3736, -53.1843,-52.9947,-52.8048,-52.6145, -52.4242,-52.2351,-52.0492,-51.7698, -51.5836,-51.3968,-51.1162,-50.835, -50.6475,-50.4594,-50.2715,-50.0831, -49.8951,-49.7066,-49.3919,-49.382, -49.3657,-49.3438,-49.3167,-49.5913, -49.8744,-50.0628,-50.3451,-50.5326, -50.814,-51.0014,-51.1888,-51.3757, -51.6559,-51.8422,-52.1216,-52.4058, -52.5963,-52.7866,-53.0714,-53.2612, -53.4561,-53.6508,-53.8452,-54.0389, -54.233,-54.5293,-54.7274,-54.9243, -55.1216,-55.3215,-55.5229,-55.8286, -56.0295,-56.2328,-56.4377,-56.7437, -56.948,-57.1564,-57.3648,-57.5709, -57.7781,-57.9889,-58.2006,-58.4116, -58.7284,-58.9438,-59.1595,-59.2619)
FOOTPRINT_POINT_LONGITUDE = (169.836,169.3,168.774,168.258,167.75, 167.251,167.098,167.14,167.168,167.195, 167.235,167.259,167.284,167.309,167.333 ,167.356,167.379,167.401,167.423, 167.444,167.465,167.485,167.506,167.525 ,167.543,167.56,167.586,167.618,167.634 ,167.654,167.67,167.687,167.702,167.717 ,167.732,167.747,167.761,167.775, 167.789,167.809,167.822,167.835,167.854 ,167.873,167.885,167.897,167.908,167.92 ,167.931,167.941,168.057,168.377, 168.828,169.376,169.947,170.144,170.153 ,170.159,170.169,170.176,170.185, 170.191,170.197,170.203,170.212,170.219 ,170.228,170.237,170.243,170.25,170.26, 170.267,170.272,170.278,170.283,170.29, 170.295,170.305,170.311,170.319,170.326 ,170.332,170.34,170.352,170.359,170.366 ,170.375,170.389,170.396,170.404, 170.412,170.425,170.435,170.445,170.454 ,170.464,170.483,170.492,170.499, 169.836)
ORBIT_NUMBER = 4264
ORBITAL_ECCENTRICITY = 0.571
ORBITAL_INCLINATION = 86.69
ORBITAL_SEMIMAJOR_AXIS = 8594.01
PERIAPSIS_ALTITUDE = 295.82
PERIAPSIS_ARGUMENT_ANGLE = 327.0
PERIAPSIS_TIME = 2007-05-01T15:46:42.000Z
SPACECRAFT_ORIENTATION = (0.0,1.0,0.0)
^MEX_ORIENTATION_DESC = "MEX_ORIENTATION_DESC.TXT"
SPACECRAFT_POINTING_MODE = ACROSSTRACK
^MEX_POINTING_DESC = "MEX_POINTING_DESC.TXT"
RIGHT_ASCENSION = -1e+32
DECLINATION = -1e+32
OFFSET_ANGLE = -1.78
SPACECRAFT_SOLAR_DISTANCE = 2.07891e+08
TARGET_NAME = MARS
/* CAMERA DATA ELEMENTS */
DETECTOR_TEMPERATURE = 18.7783
FOCAL_PLANE_TEMPERATURE = 8.5833
INST_CMPRS_NAME = "DISCRETE COSINE TRANSFORMATION (DCT)"
INST_CMPRS_RATIO = 7.74632
INST_CMPRS_QUALITY = 0
INST_CMPRS_QUANTZ_TBL_ID = 0
INSTRUMENT_TEMPERATURE = 11.234
LENS_TEMPERATURE = 9.195
MACROPIXEL_SIZE = 2
MISSING_FRAMES = 1
PIXEL_SUBSAMPLING_FLAG = N
SIGNAL_CHAIN_ID = 3
/* RADIOMETRIC DATA ELEMENTS */
BANDWIDTH = 177.0
CENTER_FILTER_WAVELENGTH = 676.5
RADIANCE_OFFSET = 6.00397
RADIANCE_SCALING_FACTOR = 0.0104448
REFLECTANCE_SCALING_FACTOR = 0.000239346
MEX:REFLECTANCE_OFFSET = 0.137583
/* IMAGE OBJECT DEFINITIONS */
OBJECT = IMAGE
  INTERCHANGE_FORMAT = BINARY
  LINES = 23475
  LINE_SAMPLES = 4271
  SAMPLE_TYPE = UNSIGNED_INTEGER
  SAMPLE_BITS = 8
  BANDS = 1
  BAND_STORAGE_TYPE = BAND_SEQUENTIAL
  MAXIMUM = 255
  MEAN = 108.842
  MINIMUM = 1
  STANDARD_DEVIATION = 23.3885
END_OBJECT = IMAGE
/* MAP OBJECT DEFINITIONS */
OBJECT = IMAGE_MAP_PROJECTION
  ^DATA_SET_MAP_PROJECTION_CATALOG= "DSMAP.CAT"
  A_AXIS_RADIUS = 3396.0
  B_AXIS_RADIUS = 3396.0
  C_AXIS_RADIUS = 3396.0
  CENTER_LATITUDE = 0.0
  CENTER_LONGITUDE = 169.0
  COORDINATE_SYSTEM_NAME = PLANETOGRAPHIC
  COORDINATE_SYSTEM_TYPE = "BODY-FIXED ROTATING"
  EASTERNMOST_LONGITUDE = 170.499
  FIRST_STANDARD_PARALLEL = "N/A"
  LINE_FIRST_PIXEL = 1
  LINE_LAST_PIXEL = 23475
  LINE_PROJECTION_OFFSET = -116964.25
  MAP_PROJECTION_ROTATION = 0.0
  MAP_PROJECTION_TYPE = SINUSOIDAL
  MAP_RESOLUTION = 2370.85521546667
  MAP_SCALE = 0.025
  MAXIMUM_LATITUDE = -49.3167
  MINIMUM_LATITUDE = -59.3013
  POSITIVE_LONGITUDE_DIRECTION = EAST
  REFERENCE_LATITUDE = "N/A"
  REFERENCE_LONGITUDE = "N/A"
  SAMPLE_FIRST_PIXEL = 1
  SAMPLE_LAST_PIXEL = 4271
  SAMPLE_PROJECTION_OFFSET = 2346.25
  SECOND_STANDARD_PARALLEL = "N/A"
  WESTERNMOST_LONGITUDE = 167.098
END_OBJECT = IMAGE_MAP_PROJECTION
/* The JPEG2000 image data file associated with this label. */
OBJECT = COMPRESSED_FILE
  FILE_NAME = "H4264_0000_P23.JP2"
  RECORD_TYPE = UNDEFINED
  FILE_RECORDS = UNK
  ENCODING_TYPE = "JP2"
  INTERCHANGE_FORMAT = BINARY
  UNCOMPRESSED_FILE_NAME = "H4264_0000_P23.IMG"
  REQUIRED_STORAGE_BYTES = "100287351"
  ^DESCRIPTION = "JP2INFO.TXT"
END_OBJECT = COMPRESSED_FILE
END
