PDS_VERSION_ID = PDS3
/* FILE DATA ELEMENTS */
RECORD_TYPE = STREAM
/* POINTERS TO DATA OBJECTS */
^COMPRESSED_FILE = "H4264_0001_P23.JP2"
/* IDENTIFICATION DATA ELEMENTS */
DATA_SET_ID = "MEX-M-HRSC-5-REFDR-MAPPROJECTED-V3.0"
DATA_SET_NAME = "MARS EXPRESS HRSC MAP PROJECTED REFDR V3.0"
DETECTOR_ID = MEX_HRSC_P2
EVENT_TYPE = "MARS-REGIONAL-MAPPING-Im-Fl-La"
INSTRUMENT_HOST_ID = MEX
INSTRUMENT_HOST_NAME = "MARS EXPRESS"
INSTRUMENT_ID = HRSC
INSTRUMENT_NAME = "HIGH RESOLUTION STEREO CAMERA"
MISSION_NAME = "MARS EXPRESS"
MISSION_PHASE_NAME = ME_Phase_7
PROCESSING_LEVEL_ID = 3
PRODUCT_CREATION_TIME = 2016-04-21T04:35:46.000Z
PRODUCT_ID = "H4264_0001_P23.JP2"
RELEASE_ID = 0048
REVISION_ID = 0000
/* QUALITY DATA ELEMENTS */
DATA_QUALITY_ID = 2
DATA_QUALITY_DESC = "Data calculated based on photogrammetrically improved orbit and attitude data"
/* TIME DATA ELEMENTS */
SPACECRAFT_CLOCK_START_COUNT = "1/0126114558.09090"
SPACECRAFT_CLOCK_STOP_COUNT = "1/0126114830.63591"
START_TIME = 2007-05-01T15:49:32.301Z
STOP_TIME = 2007-05-01T15:52:43.162Z
/* ORBITAL DATA ELEMENTS */
ASCENDING_NODE_LONGITUDE = 138.99
MAXIMUM_RESOLUTION = 26.9
FOOTPRINT_POINT_LATITUDE = (-20.3049,-20.3242,-20.3427,-20.3602, -20.3769,-20.3928,-20.2852,-20.0595, -19.8285,-19.5964,-19.2473,-19.0143, -18.7813,-18.551,-18.3163,-18.0813, -17.7379,-17.5062,-17.1592,-16.9279, -16.6964,-16.3496,-16.0026,-15.7685, -15.5379,-15.1973,-14.8512,-14.5061, -14.2763,-14.0014,-13.5894,-13.1778, -12.9028,-12.6288,-12.218,-11.9427, -11.6687,-11.3957,-10.9861,-10.5772, -10.1693,-9.8974,-9.49027,-9.21836, -8.80768,-8.52959,-8.11267,-7.83524, -7.81131,-7.78319,-7.76143,-7.74432, -7.72435,-7.70746,-7.98455,-8.26274, -8.6802,-9.09128,-9.49854,-9.76987, -10.0418,-10.3141,-10.5879,-10.8629, -11.272,-11.5439,-11.818,-12.0923, -12.3652,-12.6392,-12.9138,-13.1847, -13.4606,-13.7372,-14.0105,-14.2628, -14.6085,-14.8403,-15.0705,-15.3043, -15.5397,-15.7729,-16.0021,-16.227, -16.4578,-16.6888,-16.9203,-17.1517, -17.3833,-17.6205,-17.9675,-18.3149, -18.5468,-18.8954,-19.1274,-19.3592, -19.5917,-19.9389,-20.1639,-20.3049)
FOOTPRINT_POINT_LONGITUDE = (169.529,169.31,169.097,168.888,168.685 ,168.487,168.298,168.296,168.293, 168.289,168.285,168.283,168.28,168.275, 168.274,168.273,168.264,168.26,168.254, 168.25,168.247,168.241,168.235,168.233, 168.229,168.218,168.212,168.205,168.2, 168.195,168.187,168.179,168.174,168.168 ,168.16,168.155,168.15,168.144,168.135, 168.126,168.116,168.11,168.1,168.094, 168.084,168.077,168.067,168.06,168.289, 168.658,168.945,169.162,169.414,169.628 ,169.629,169.627,169.626,169.626, 169.625,169.626,169.626,169.626,169.624 ,169.62,169.621,169.623,169.622,169.621 ,169.623,169.623,169.623,169.629, 169.627,169.624,169.628,169.63,169.631, 169.63,169.632,169.627,169.621,169.618, 169.622,169.634,169.636,169.638,169.639 ,169.64,169.641,169.633,169.636,169.639 ,169.641,169.642,169.644,169.646, 169.648,169.65,169.652,169.529)
ORBIT_NUMBER = 4264
ORBITAL_ECCENTRICITY = 0.571
ORBITAL_INCLINATION = 86.69
ORBITAL_SEMIMAJOR_AXIS = 8594.01
PERIAPSIS_ALTITUDE = 295.82
PERIAPSIS_ARGUMENT_ANGLE = 327.0
PERIAPSIS_TIME = 2007-05-01T15:46:42.000Z
SPACECRAFT_ORIENTATION = (0.0,1.0,0.0)
^MEX_ORIENTATION_DESC = "MEX_ORIENTATION_DESC.TXT"
SPACECRAFT_POINTING_MODE = ACROSSTRACK
^MEX_POINTING_DESC = "MEX_POINTING_DESC.TXT"
RIGHT_ASCENSION = -1e+32
DECLINATION = -1e+32
OFFSET_ANGLE = -1.78
SPACECRAFT_SOLAR_DISTANCE = 2.07891e+08
TARGET_NAME = MARS
/* CAMERA DATA ELEMENTS */
DETECTOR_TEMPERATURE = 20.4095
FOCAL_PLANE_TEMPERATURE = 9.195
INST_CMPRS_NAME = "DISCRETE COSINE TRANSFORMATION (DCT)"
INST_CMPRS_RATIO = 7.03337
INST_CMPRS_QUALITY = 0
INST_CMPRS_QUANTZ_TBL_ID = 0
INSTRUMENT_TEMPERATURE = 13.273
LENS_TEMPERATURE = 9.6028
MACROPIXEL_SIZE = 2
MISSING_FRAMES = 0
PIXEL_SUBSAMPLING_FLAG = N
SIGNAL_CHAIN_ID = 3
/* RADIOMETRIC DATA ELEMENTS */
BANDWIDTH = 177.0
CENTER_FILTER_WAVELENGTH = 676.5
RADIANCE_OFFSET = 7.83712
RADIANCE_SCALING_FACTOR = 0.0138079
REFLECTANCE_SCALING_FACTOR = 0.000316414
MEX:REFLECTANCE_OFFSET = 0.17959
/* IMAGE OBJECT DEFINITIONS */
OBJECT = IMAGE
  INTERCHANGE_FORMAT = BINARY
  LINES = 29820
  LINE_SAMPLES = 4119
  SAMPLE_TYPE = UNSIGNED_INTEGER
  SAMPLE_BITS = 8
  BANDS = 1
  BAND_STORAGE_TYPE = BAND_SEQUENTIAL
  MAXIMUM = 255
  MEAN = 164.68
  MINIMUM = 1
  STANDARD_DEVIATION = 32.0994
END_OBJECT = IMAGE
/* MAP OBJECT DEFINITIONS */
OBJECT = IMAGE_MAP_PROJECTION
  ^DATA_SET_MAP_PROJECTION_CATALOG= "DSMAP.CAT"
  A_AXIS_RADIUS = 3396.0
  B_AXIS_RADIUS = 3396.0
  C_AXIS_RADIUS = 3396.0
  CENTER_LATITUDE = 0.0
  CENTER_LONGITUDE = 169.0
  COORDINATE_SYSTEM_NAME = PLANETOGRAPHIC
  COORDINATE_SYSTEM_TYPE = "BODY-FIXED ROTATING"
  EASTERNMOST_LONGITUDE = 169.652
  FIRST_STANDARD_PARALLEL = "N/A"
  LINE_FIRST_PIXEL = 1
  LINE_LAST_PIXEL = 29820
  LINE_PROJECTION_OFFSET = -18439.75
  MAP_PROJECTION_ROTATION = 0.0
  MAP_PROJECTION_TYPE = SINUSOIDAL
  MAP_RESOLUTION = 2370.85521546667
  MAP_SCALE = 0.025
  MAXIMUM_LATITUDE = -7.70746
  MINIMUM_LATITUDE = -20.3928
  POSITIVE_LONGITUDE_DIRECTION = EAST
  REFERENCE_LATITUDE = "N/A"
  REFERENCE_LONGITUDE = "N/A"
  SAMPLE_FIRST_PIXEL = 1
  SAMPLE_LAST_PIXEL = 4119
  SAMPLE_PROJECTION_OFFSET = 2301.75
  SECOND_STANDARD_PARALLEL = "N/A"
  WESTERNMOST_LONGITUDE = 168.06
END_OBJECT = IMAGE_MAP_PROJECTION
/* The JPEG2000 image data file associated with this label. */
OBJECT = COMPRESSED_FILE
  FILE_NAME = "H4264_0001_P23.JP2"
  RECORD_TYPE = UNDEFINED
  FILE_RECORDS = UNK
  ENCODING_TYPE = "JP2"
  INTERCHANGE_FORMAT = BINARY
  UNCOMPRESSED_FILE_NAME = "H4264_0001_P23.IMG"
  REQUIRED_STORAGE_BYTES = "122853294"
  ^DESCRIPTION = "JP2INFO.TXT"
END_OBJECT = COMPRESSED_FILE
END
