PDS_VERSION_ID = PDS3
/* FILE DATA ELEMENTS */
RECORD_TYPE = STREAM
/* POINTERS TO DATA OBJECTS */
^COMPRESSED_FILE = "H4266_0000_GR3.JP2"
/* IDENTIFICATION DATA ELEMENTS */
DATA_SET_ID = "MEX-M-HRSC-5-REFDR-MAPPROJECTED-V3.0"
DATA_SET_NAME = "MARS EXPRESS HRSC MAP PROJECTED REFDR V3.0"
DETECTOR_ID = MEX_HRSC_GREEN
EVENT_TYPE = "MARS-LOCAL-STEREO-Im-Fl-Lc"
INSTRUMENT_HOST_ID = MEX
INSTRUMENT_HOST_NAME = "MARS EXPRESS"
INSTRUMENT_ID = HRSC
INSTRUMENT_NAME = "HIGH RESOLUTION STEREO CAMERA"
MISSION_NAME = "MARS EXPRESS"
MISSION_PHASE_NAME = ME_Phase_7
PROCESSING_LEVEL_ID = 3
PRODUCT_CREATION_TIME = 2016-04-21T04:35:46.000Z
PRODUCT_ID = "H4266_0000_GR3.JP2"
RELEASE_ID = 0048
REVISION_ID = 0000
/* QUALITY DATA ELEMENTS */
DATA_QUALITY_ID = 2
DATA_QUALITY_DESC = "Data calculated based on photogrammetrically improved orbit and attitude data"
/* TIME DATA ELEMENTS */
SPACECRAFT_CLOCK_START_COUNT = "1/0126162846.09042"
SPACECRAFT_CLOCK_STOP_COUNT = "1/0126163011.32110"
START_TIME = 2007-05-02T05:14:41.496Z
STOP_TIME = 2007-05-02T05:16:28.089Z
/* ORBITAL DATA ELEMENTS */
ASCENDING_NODE_LONGITUDE = 138.95
MAXIMUM_RESOLUTION = 97.1
FOOTPRINT_POINT_LATITUDE = (-26.5755,-26.5747,-26.5737,-26.5725, -26.5711,-26.5695,-26.5677,-26.3738, -26.1142,-25.8474,-25.7126,-25.5778, -25.4431,-25.3084,-25.1066,-24.9719, -24.8373,-24.703,-24.5685,-24.4343, -24.2999,-24.1653,-24.031,-23.8967, -23.6954,-23.4941,-23.3598,-23.0916, -22.9555,-22.8167,-22.678,-22.5394, -22.4007,-22.2622,-22.1238,-21.9854, -21.8472,-21.7092,-21.5021,-21.2948, -21.0881,-20.9504,-20.8137,-20.6027, -20.4603,-20.2465,-20.1039,-19.9618, -19.8196,-19.6776,-19.6269,-19.6276, -19.6278,-19.6279,-19.6278,-19.6276, -19.6291,-19.7713,-19.9136,-20.056, -20.1984,-20.3409,-20.4834,-20.626, -20.7674,-20.9748,-21.1129,-21.3199, -21.4582,-21.596,-21.734,-21.8723, -22.0797,-22.2182,-22.4258,-22.5645, -22.7033,-22.8422,-23.0496,-23.1841, -23.3854,-23.5873,-23.7219,-23.9225, -24.1241,-24.2585,-24.3929,-24.5278, -24.6623,-24.7971,-24.9318,-25.0665, -25.2012,-25.336,-25.4706,-25.6727, -25.8075,-26.076,-26.3367,-26.5755)
FOOTPRINT_POINT_LONGITUDE = (330.485,330.313,330.14,329.965,329.79, 329.613,329.434,329.301,329.301,329.305 ,329.307,329.309,329.311,329.312, 329.315,329.316,329.318,329.319,329.321 ,329.321,329.322,329.325,329.327, 329.328,329.33,329.332,329.334,329.337, 329.339,329.341,329.342,329.343,329.344 ,329.345,329.346,329.347,329.347, 329.347,329.348,329.349,329.348,329.348 ,329.344,329.344,329.344,329.345, 329.347,329.346,329.346,329.346,329.487 ,329.722,329.897,330.048,330.233, 330.417,330.584,330.582,330.581,330.579 ,330.577,330.575,330.573,330.571,330.57 ,330.567,330.565,330.562,330.56,330.558 ,330.557,330.555,330.552,330.55,330.547 ,330.545,330.543,330.541,330.538, 330.537,330.534,330.531,330.529,330.526 ,330.523,330.521,330.519,330.517, 330.515,330.513,330.511,330.509,330.507 ,330.505,330.503,330.5,330.498,330.493, 330.489,330.485)
ORBIT_NUMBER = 4266
ORBITAL_ECCENTRICITY = 0.571
ORBITAL_INCLINATION = 86.7
ORBITAL_SEMIMAJOR_AXIS = 8592.81
PERIAPSIS_ALTITUDE = 295.43
PERIAPSIS_ARGUMENT_ANGLE = 326.63
PERIAPSIS_TIME = 2007-05-02T05:12:56.000Z
SPACECRAFT_ORIENTATION = (0.0,1.0,0.0)
^MEX_ORIENTATION_DESC = "MEX_ORIENTATION_DESC.TXT"
SPACECRAFT_POINTING_MODE = ACROSSTRACK
^MEX_POINTING_DESC = "MEX_POINTING_DESC.TXT"
RIGHT_ASCENSION = -1e+32
DECLINATION = -1e+32
OFFSET_ANGLE = 0.5
SPACECRAFT_SOLAR_DISTANCE = 2.07851e+08
TARGET_NAME = MARS
/* CAMERA DATA ELEMENTS */
DETECTOR_TEMPERATURE = 18.3705
FOCAL_PLANE_TEMPERATURE = 9.195
INST_CMPRS_NAME = "DISCRETE COSINE TRANSFORMATION (DCT)"
INST_CMPRS_RATIO = 11.7208
INST_CMPRS_QUALITY = 0
INST_CMPRS_QUANTZ_TBL_ID = 0
INSTRUMENT_TEMPERATURE = 11.4379
LENS_TEMPERATURE = 9.6028
MACROPIXEL_SIZE = 8
MISSING_FRAMES = 0
PIXEL_SUBSAMPLING_FLAG = N
SIGNAL_CHAIN_ID = 2
/* RADIOMETRIC DATA ELEMENTS */
BANDWIDTH = 88.0
CENTER_FILTER_WAVELENGTH = 538.0
RADIANCE_OFFSET = 2.03338
RADIANCE_SCALING_FACTOR = 0.0033575
REFLECTANCE_SCALING_FACTOR = 0.000124885
MEX:REFLECTANCE_OFFSET = 0.0756332
/* IMAGE OBJECT DEFINITIONS */
OBJECT = IMAGE
  INTERCHANGE_FORMAT = BINARY
  LINES = 4123
  LINE_SAMPLES = 739
  SAMPLE_TYPE = UNSIGNED_INTEGER
  SAMPLE_BITS = 8
  BANDS = 1
  BAND_STORAGE_TYPE = BAND_SEQUENTIAL
  MAXIMUM = 255
  MEAN = 119.463
  MINIMUM = 1
  STANDARD_DEVIATION = 24.3704
END_OBJECT = IMAGE
/* MAP OBJECT DEFINITIONS */
OBJECT = IMAGE_MAP_PROJECTION
  ^DATA_SET_MAP_PROJECTION_CATALOG= "DSMAP.CAT"
  A_AXIS_RADIUS = 3396.0
  B_AXIS_RADIUS = 3396.0
  C_AXIS_RADIUS = 3396.0
  CENTER_LATITUDE = 0.0
  CENTER_LONGITUDE = 330.0
  COORDINATE_SYSTEM_NAME = PLANETOGRAPHIC
  COORDINATE_SYSTEM_TYPE = "BODY-FIXED ROTATING"
  EASTERNMOST_LONGITUDE = 330.584
  FIRST_STANDARD_PARALLEL = "N/A"
  LINE_FIRST_PIXEL = 1
  LINE_LAST_PIXEL = 4123
  LINE_PROJECTION_OFFSET = -11635.0625
  MAP_PROJECTION_ROTATION = 0.0
  MAP_PROJECTION_TYPE = SINUSOIDAL
  MAP_RESOLUTION = 592.713803866667
  MAP_SCALE = 0.1
  MAXIMUM_LATITUDE = -19.6269
  MINIMUM_LATITUDE = -26.5755
  POSITIVE_LONGITUDE_DIRECTION = EAST
  REFERENCE_LATITUDE = "N/A"
  REFERENCE_LONGITUDE = "N/A"
  SAMPLE_FIRST_PIXEL = 1
  SAMPLE_LAST_PIXEL = 739
  SAMPLE_PROJECTION_OFFSET = 414.5625
  SECOND_STANDARD_PARALLEL = "N/A"
  WESTERNMOST_LONGITUDE = 329.301
END_OBJECT = IMAGE_MAP_PROJECTION
/* The JPEG2000 image data file associated with this label. */
OBJECT = COMPRESSED_FILE
  FILE_NAME = "H4266_0000_GR3.JP2"
  RECORD_TYPE = UNDEFINED
  FILE_RECORDS = UNK
  ENCODING_TYPE = "JP2"
  INTERCHANGE_FORMAT = BINARY
  UNCOMPRESSED_FILE_NAME = "H4266_0000_GR3.IMG"
  REQUIRED_STORAGE_BYTES = "3064633"
  ^DESCRIPTION = "JP2INFO.TXT"
END_OBJECT = COMPRESSED_FILE
END
