PDS_VERSION_ID = PDS3
/* FILE DATA ELEMENTS */
RECORD_TYPE = STREAM
/* POINTERS TO DATA OBJECTS */
^COMPRESSED_FILE = "H4267_0000_ND3.JP2"
/* IDENTIFICATION DATA ELEMENTS */
DATA_SET_ID = "MEX-M-HRSC-5-REFDR-MAPPROJECTED-V3.0"
DATA_SET_NAME = "MARS EXPRESS HRSC MAP PROJECTED REFDR V3.0"
DETECTOR_ID = MEX_HRSC_NADIR
EVENT_TYPE = "MARS-LOCAL-STEREO-Vo-Ts"
INSTRUMENT_HOST_ID = MEX
INSTRUMENT_HOST_NAME = "MARS EXPRESS"
INSTRUMENT_ID = HRSC
INSTRUMENT_NAME = "HIGH RESOLUTION STEREO CAMERA"
MISSION_NAME = "MARS EXPRESS"
MISSION_PHASE_NAME = ME_Phase_7
PROCESSING_LEVEL_ID = 3
PRODUCT_CREATION_TIME = 2016-04-21T04:35:46.000Z
PRODUCT_ID = "H4267_0000_ND3.JP2"
RELEASE_ID = 0048
REVISION_ID = 0000
/* QUALITY DATA ELEMENTS */
DATA_QUALITY_ID = 2
DATA_QUALITY_DESC = "Data calculated based on photogrammetrically improved orbit and attitude data"
/* TIME DATA ELEMENTS */
SPACECRAFT_CLOCK_START_COUNT = "1/0126186918.09047"
SPACECRAFT_CLOCK_STOP_COUNT = "1/0126187028.65525"
START_TIME = 2007-05-02T11:55:48.761Z
STOP_TIME = 2007-05-02T11:56:44.773Z
/* ORBITAL DATA ELEMENTS */
ASCENDING_NODE_LONGITUDE = 138.93
MAXIMUM_RESOLUTION = 11.7
FOOTPRINT_POINT_LATITUDE = (-34.3772,-34.3754,-34.3734,-34.3714, -34.3693,-34.3671,-34.3648,-34.3624, -34.36,-34.3574,-34.3547,-34.352, -34.3471,-34.1993,-34.0515,-33.9036, -33.7928,-33.6449,-33.571,-33.4601, -33.3862,-33.3122,-33.2383,-33.1644, -33.0535,-32.9795,-32.8686,-32.7947, -32.6838,-32.6099,-32.5359,-32.425, -32.3511,-32.2771,-32.1662,-32.0923, -31.9444,-31.8335,-31.6857,-31.5009, -31.353,-31.2421,-31.0943,-30.9834, -30.8725,-30.7247,-30.6432,-30.6455, -30.6478,-30.6517,-30.6537,-30.6572, -30.6589,-30.662,-30.6635,-30.6652, -30.777,-30.851,-30.9251,-30.9991, -31.0731,-31.1472,-31.2582,-31.3323, -31.4063,-31.5174,-31.5914,-31.6655, -31.7395,-31.8506,-31.9247,-31.9988, -32.1098,-32.1839,-32.258,-32.332, -32.4431,-32.5172,-32.5912,-32.6653, -32.7764,-32.8505,-32.9616,-33.0727, -33.1467,-33.2208,-33.2949,-33.406, -33.48,-33.5541,-33.6282,-33.7392, -33.8133,-33.8874,-33.9614,-34.0725, -34.1466,-34.2206,-34.2947,-34.3772)
FOOTPRINT_POINT_LONGITUDE = (231.799,231.703,231.607,231.51,231.413 ,231.315,231.216,231.118,231.018, 230.918,230.818,230.717,230.565,230.571 ,230.578,230.584,230.589,230.595, 230.598,230.602,230.605,230.608,230.611 ,230.614,230.619,230.621,230.626, 230.629,230.633,230.636,230.638,230.642 ,230.645,230.648,230.652,230.654,230.66 ,230.663,230.668,230.675,230.68,230.683 ,230.688,230.692,230.695,230.7,230.752, 230.851,230.949,231.132,231.228,231.408 ,231.503,231.68,231.774,231.879,231.917 ,231.916,231.914,231.912,231.911, 231.909,231.907,231.905,231.903,231.901 ,231.899,231.898,231.896,231.893, 231.892,231.89,231.887,231.886,231.884, 231.882,231.88,231.878,231.876,231.874, 231.872,231.87,231.867,231.865,231.863, 231.861,231.859,231.857,231.855,231.853 ,231.851,231.848,231.846,231.845, 231.843,231.84,231.838,231.836,231.834, 231.799)
ORBIT_NUMBER = 4267
ORBITAL_ECCENTRICITY = 0.571
ORBITAL_INCLINATION = 86.7
ORBITAL_SEMIMAJOR_AXIS = 8597.87
PERIAPSIS_ALTITUDE = 294.7
PERIAPSIS_ARGUMENT_ANGLE = 326.43
PERIAPSIS_TIME = 2007-05-02T11:56:02.000Z
SPACECRAFT_ORIENTATION = (0.0,1.0,0.0)
^MEX_ORIENTATION_DESC = "MEX_ORIENTATION_DESC.TXT"
SPACECRAFT_POINTING_MODE = ACROSSTRACK
^MEX_POINTING_DESC = "MEX_POINTING_DESC.TXT"
RIGHT_ASCENSION = -1e+32
DECLINATION = -1e+32
OFFSET_ANGLE = 0.7
SPACECRAFT_SOLAR_DISTANCE = 2.07831e+08
TARGET_NAME = MARS
/* CAMERA DATA ELEMENTS */
DETECTOR_TEMPERATURE = 18.5744
FOCAL_PLANE_TEMPERATURE = 9.6028
INST_CMPRS_NAME = "DISCRETE COSINE TRANSFORMATION (DCT)"
INST_CMPRS_RATIO = 6.14931
INST_CMPRS_QUALITY = 0
INST_CMPRS_QUANTZ_TBL_ID = 0
INSTRUMENT_TEMPERATURE = 11.6418
LENS_TEMPERATURE = 9.8067
MACROPIXEL_SIZE = 1
MISSING_FRAMES = 0
PIXEL_SUBSAMPLING_FLAG = N
SIGNAL_CHAIN_ID = 0
/* RADIOMETRIC DATA ELEMENTS */
BANDWIDTH = 177.0
CENTER_FILTER_WAVELENGTH = 677.5
RADIANCE_OFFSET = 5.16275
RADIANCE_SCALING_FACTOR = 0.0163275
REFLECTANCE_SCALING_FACTOR = 0.00037465
MEX:REFLECTANCE_OFFSET = 0.118464
/* IMAGE OBJECT DEFINITIONS */
OBJECT = IMAGE
  INTERCHANGE_FORMAT = BINARY
  LINES = 17711
  LINE_SAMPLES = 5795
  SAMPLE_TYPE = UNSIGNED_INTEGER
  SAMPLE_BITS = 8
  BANDS = 1
  BAND_STORAGE_TYPE = BAND_SEQUENTIAL
  MAXIMUM = 255
  MEAN = 124.927
  MINIMUM = 1
  STANDARD_DEVIATION = 31.0812
END_OBJECT = IMAGE
/* MAP OBJECT DEFINITIONS */
OBJECT = IMAGE_MAP_PROJECTION
  ^DATA_SET_MAP_PROJECTION_CATALOG= "DSMAP.CAT"
  A_AXIS_RADIUS = 3396.0
  B_AXIS_RADIUS = 3396.0
  C_AXIS_RADIUS = 3396.0
  CENTER_LATITUDE = 0.0
  CENTER_LONGITUDE = 231.0
  COORDINATE_SYSTEM_NAME = PLANETOGRAPHIC
  COORDINATE_SYSTEM_TYPE = "BODY-FIXED ROTATING"
  EASTERNMOST_LONGITUDE = 231.917
  FIRST_STANDARD_PARALLEL = "N/A"
  LINE_FIRST_PIXEL = 1
  LINE_LAST_PIXEL = 17711
  LINE_PROJECTION_OFFSET = -145292.0
  MAP_PROJECTION_ROTATION = 0.0
  MAP_PROJECTION_TYPE = SINUSOIDAL
  MAP_RESOLUTION = 4741.71043093333
  MAP_SCALE = 0.0125
  MAXIMUM_LATITUDE = -30.6432
  MINIMUM_LATITUDE = -34.3772
  POSITIVE_LONGITUDE_DIRECTION = EAST
  REFERENCE_LATITUDE = "N/A"
  REFERENCE_LONGITUDE = "N/A"
  SAMPLE_FIRST_PIXEL = 1
  SAMPLE_LAST_PIXEL = 5795
  SAMPLE_PROJECTION_OFFSET = 2033.0
  SECOND_STANDARD_PARALLEL = "N/A"
  WESTERNMOST_LONGITUDE = 230.565
END_OBJECT = IMAGE_MAP_PROJECTION
/* The JPEG2000 image data file associated with this label. */
OBJECT = COMPRESSED_FILE
  FILE_NAME = "H4267_0000_ND3.JP2"
  RECORD_TYPE = UNDEFINED
  FILE_RECORDS = UNK
  ENCODING_TYPE = "JP2"
  INTERCHANGE_FORMAT = BINARY
  UNCOMPRESSED_FILE_NAME = "H4267_0000_ND3.IMG"
  REQUIRED_STORAGE_BYTES = "102664220"
  ^DESCRIPTION = "JP2INFO.TXT"
END_OBJECT = COMPRESSED_FILE
END
