PDS_VERSION_ID = PDS3
/* FILE DATA ELEMENTS */
RECORD_TYPE = STREAM
/* POINTERS TO DATA OBJECTS */
^COMPRESSED_FILE = "H4269_0000_RE3.JP2"
/* IDENTIFICATION DATA ELEMENTS */
DATA_SET_ID = "MEX-M-HRSC-5-REFDR-MAPPROJECTED-V3.0"
DATA_SET_NAME = "MARS EXPRESS HRSC MAP PROJECTED REFDR V3.0"
DETECTOR_ID = MEX_HRSC_RED
EVENT_TYPE = "MARS-REGIONAL-MAPPING-Im-Eo"
INSTRUMENT_HOST_ID = MEX
INSTRUMENT_HOST_NAME = "MARS EXPRESS"
INSTRUMENT_ID = HRSC
INSTRUMENT_NAME = "HIGH RESOLUTION STEREO CAMERA"
MISSION_NAME = "MARS EXPRESS"
MISSION_PHASE_NAME = ME_Phase_7
PROCESSING_LEVEL_ID = 3
PRODUCT_CREATION_TIME = 2016-04-21T04:35:46.000Z
PRODUCT_ID = "H4269_0000_RE3.JP2"
RELEASE_ID = 0048
REVISION_ID = 0000
/* QUALITY DATA ELEMENTS */
DATA_QUALITY_ID = 1
DATA_QUALITY_DESC = "Data calculated based on original SPICE kernels"
/* TIME DATA ELEMENTS */
SPACECRAFT_CLOCK_START_COUNT = "1/0126235126.09084"
SPACECRAFT_CLOCK_STOP_COUNT = "1/0126235399.58919"
START_TIME = 2007-05-03T01:18:55.660Z
STOP_TIME = 2007-05-03T01:22:34.689Z
/* ORBITAL DATA ELEMENTS */
ASCENDING_NODE_LONGITUDE = 138.89
MAXIMUM_RESOLUTION = 98
FOOTPRINT_POINT_LATITUDE = (-46.0859,-46.079,-46.0699,-46.0563, -45.8451,-45.5432,-45.2471,-44.9511, -44.6561,-44.3512,-44.0511,-43.7547, -43.4618,-43.1774,-42.8933,-42.6038, -42.3132,-42.0216,-41.7304,-41.447, -41.1569,-40.874,-40.5911,-40.3088, -39.8892,-39.6043,-39.3196,-39.0349, -38.7534,-38.4782,-38.0658,-37.7912, -37.5154,-37.2386,-36.9627,-36.6843, -36.4068,-36.1288,-35.7117,-35.4336, -35.017,-34.7386,-34.4617,-34.1786, -33.9051,-33.4874,-33.2067,-32.9391, -32.5332,-32.2612,-31.9905,-31.8371, -31.8397,-31.844,-31.8484,-31.8518, -32.1225,-32.5288,-32.7926,-33.2044, -33.6215,-33.901,-34.3191,-34.6001, -34.8787,-35.1577,-35.5762,-35.854, -36.1317,-36.5482,-36.8273,-37.1065, -37.3831,-37.7974,-38.2111,-38.4869, -38.7629,-39.0442,-39.3298,-39.7577, -40.0425,-40.327,-40.6114,-40.8954, -41.3195,-41.602,-42.0371,-42.3295, -42.6216,-43.0596,-43.3512,-43.6355, -43.927,-44.2327,-44.5305,-44.9752, -45.2719,-45.5689,-46.0244,-46.0859)
FOOTPRINT_POINT_LONGITUDE = (35.4622,35.1993,34.8903,34.4888, 34.2271,34.2535,34.2787,34.3036,34.3286 ,34.3492,34.3715,34.3938,34.4137, 34.4367,34.4596,34.48,34.4997,34.5188, 34.5378,34.5558,34.57,34.587,34.6036, 34.6204,34.6465,34.6617,34.6767,34.6914 ,34.7056,34.7192,34.7394,34.7528, 34.7655,34.7776,34.7899,34.801,34.8123, 34.8232,34.8392,34.8496,34.8651,34.875, 34.8853,34.893,34.9043,34.9179,34.9258, 34.9344,34.9453,34.9519,34.9588,35.0735 ,35.2644,35.5677,35.9165,36.1605, 36.1572,36.1518,36.1512,36.143,36.1384, 36.1348,36.1298,36.1252,36.1215,36.1176 ,36.1114,36.1076,36.1036,36.0975, 36.0925,36.0873,36.0832,36.0769,36.0704 ,36.0659,36.0611,36.0562,36.0511, 36.0433,36.038,36.0326,36.027,36.0214, 36.0134,36.008,35.9989,35.9927,35.9862, 35.9761,35.9691,35.9657,35.9592,35.9488 ,35.9423,35.933,35.9262,35.9189,35.9074 ,35.4622)
ORBIT_NUMBER = 4269
ORBITAL_ECCENTRICITY = 0.571
ORBITAL_INCLINATION = 86.68
ORBITAL_SEMIMAJOR_AXIS = 8597.79
PERIAPSIS_ALTITUDE = 295.29
PERIAPSIS_ARGUMENT_ANGLE = 326.11
PERIAPSIS_TIME = 2007-05-03T01:22:27.000Z
SPACECRAFT_ORIENTATION = (0.0,1.0,0.0)
^MEX_ORIENTATION_DESC = "MEX_ORIENTATION_DESC.TXT"
SPACECRAFT_POINTING_MODE = NADIR
^MEX_POINTING_DESC = "MEX_POINTING_DESC.TXT"
RIGHT_ASCENSION = -1e+32
DECLINATION = -1e+32
OFFSET_ANGLE = -1e+32
SPACECRAFT_SOLAR_DISTANCE = 2.07793e+08
TARGET_NAME = MARS
/* CAMERA DATA ELEMENTS */
DETECTOR_TEMPERATURE = 18.9822
FOCAL_PLANE_TEMPERATURE = 9.195
INST_CMPRS_NAME = "DISCRETE COSINE TRANSFORMATION (DCT)"
INST_CMPRS_RATIO = 33.0566
INST_CMPRS_QUALITY = 0
INST_CMPRS_QUANTZ_TBL_ID = 0
INSTRUMENT_TEMPERATURE = 11.6418
LENS_TEMPERATURE = 9.6028
MACROPIXEL_SIZE = 8
MISSING_FRAMES = 0
PIXEL_SUBSAMPLING_FLAG = N
SIGNAL_CHAIN_ID = 2
/* RADIOMETRIC DATA ELEMENTS */
BANDWIDTH = 48.0
CENTER_FILTER_WAVELENGTH = 748.0
RADIANCE_OFFSET = 1.49681
RADIANCE_SCALING_FACTOR = 0.00434521
REFLECTANCE_SCALING_FACTOR = 0.000428153
MEX:REFLECTANCE_OFFSET = 0.147487
/* IMAGE OBJECT DEFINITIONS */
OBJECT = IMAGE
  INTERCHANGE_FORMAT = BINARY
  LINES = 8418
  LINE_SAMPLES = 928
  SAMPLE_TYPE = UNSIGNED_INTEGER
  SAMPLE_BITS = 8
  BANDS = 1
  BAND_STORAGE_TYPE = BAND_SEQUENTIAL
  MAXIMUM = 255
  MEAN = 117.912
  MINIMUM = 2
  STANDARD_DEVIATION = 36.6121
END_OBJECT = IMAGE
/* MAP OBJECT DEFINITIONS */
OBJECT = IMAGE_MAP_PROJECTION
  ^DATA_SET_MAP_PROJECTION_CATALOG= "DSMAP.CAT"
  A_AXIS_RADIUS = 3396.0
  B_AXIS_RADIUS = 3396.0
  C_AXIS_RADIUS = 3396.0
  CENTER_LATITUDE = 0.0
  CENTER_LONGITUDE = 35.0
  COORDINATE_SYSTEM_NAME = PLANETOGRAPHIC
  COORDINATE_SYSTEM_TYPE = "BODY-FIXED ROTATING"
  EASTERNMOST_LONGITUDE = 36.1605
  FIRST_STANDARD_PARALLEL = "N/A"
  LINE_FIRST_PIXEL = 1
  LINE_LAST_PIXEL = 8418
  LINE_PROJECTION_OFFSET = -18869.4375
  MAP_PROJECTION_ROTATION = 0.0
  MAP_PROJECTION_TYPE = SINUSOIDAL
  MAP_RESOLUTION = 592.713803866667
  MAP_SCALE = 0.1
  MAXIMUM_LATITUDE = -31.8371
  MINIMUM_LATITUDE = -46.0859
  POSITIVE_LONGITUDE_DIRECTION = EAST
  REFERENCE_LATITUDE = "N/A"
  REFERENCE_LONGITUDE = "N/A"
  SAMPLE_FIRST_PIXEL = 1
  SAMPLE_LAST_PIXEL = 928
  SAMPLE_PROJECTION_OFFSET = 326.5625
  SECOND_STANDARD_PARALLEL = "N/A"
  WESTERNMOST_LONGITUDE = 34.2271
END_OBJECT = IMAGE_MAP_PROJECTION
/* The JPEG2000 image data file associated with this label. */
OBJECT = COMPRESSED_FILE
  FILE_NAME = "H4269_0000_RE3.JP2"
  RECORD_TYPE = UNDEFINED
  FILE_RECORDS = UNK
  ENCODING_TYPE = "JP2"
  INTERCHANGE_FORMAT = BINARY
  UNCOMPRESSED_FILE_NAME = "H4269_0000_RE3.IMG"
  REQUIRED_STORAGE_BYTES = "7830464"
  ^DESCRIPTION = "JP2INFO.TXT"
END_OBJECT = COMPRESSED_FILE
END
