PDS_VERSION_ID = PDS3
/* FILE DATA ELEMENTS */
RECORD_TYPE = STREAM
/* POINTERS TO DATA OBJECTS */
^COMPRESSED_FILE = "H4272_0000_GR3.JP2"
/* IDENTIFICATION DATA ELEMENTS */
DATA_SET_ID = "MEX-M-HRSC-5-REFDR-MAPPROJECTED-V3.0"
DATA_SET_NAME = "MARS EXPRESS HRSC MAP PROJECTED REFDR V3.0"
DETECTOR_ID = MEX_HRSC_GREEN
EVENT_TYPE = "MARS-REGIONAL-MAPPING-Vo-Im-Fl"
INSTRUMENT_HOST_ID = MEX
INSTRUMENT_HOST_NAME = "MARS EXPRESS"
INSTRUMENT_ID = HRSC
INSTRUMENT_NAME = "HIGH RESOLUTION STEREO CAMERA"
MISSION_NAME = "MARS EXPRESS"
MISSION_PHASE_NAME = ME_Phase_7
PROCESSING_LEVEL_ID = 3
PRODUCT_CREATION_TIME = 2016-04-21T04:35:46.000Z
PRODUCT_ID = "H4272_0000_GR3.JP2"
RELEASE_ID = 0048
REVISION_ID = 0000
/* QUALITY DATA ELEMENTS */
DATA_QUALITY_ID = 2
DATA_QUALITY_DESC = "Data calculated based on photogrammetrically improved orbit and attitude data"
/* TIME DATA ELEMENTS */
SPACECRAFT_CLOCK_START_COUNT = "1/0126308036.08236"
SPACECRAFT_CLOCK_STOP_COUNT = "1/0126308267.07242"
START_TIME = 2007-05-03T21:34:32.383Z
STOP_TIME = 2007-05-03T21:37:18.485Z
/* ORBITAL DATA ELEMENTS */
ASCENDING_NODE_LONGITUDE = 138.82
MAXIMUM_RESOLUTION = 99.4
FOOTPRINT_POINT_LATITUDE = (-24.5063,-24.5048,-24.5025,-24.3033, -23.9105,-23.7106,-23.5074,-23.3043, -23.1014,-22.8988,-22.5948,-22.3925, -22.19,-21.9878,-21.7857,-21.5835, -21.3743,-21.0611,-20.8532,-20.6456, -20.4375,-20.229,-20.0211,-19.8135, -19.6015,-19.3873,-19.1733,-18.9594, -18.7458,-18.5321,-18.3188,-18.1055, -17.8925,-17.6798,-17.4672,-17.2548, -17.0426,-16.8306,-16.6187,-16.4071, -16.1956,-15.9843,-15.7734,-15.5625, -15.3519,-15.1058,-14.855,-14.6044, -14.3543,-14.1043,-13.8545,-13.8499, -13.849,-13.8483,-13.8464,-14.0968, -14.3471,-14.7225,-14.9736,-15.3462, -15.6627,-15.8739,-16.0853,-16.297, -16.5088,-16.7207,-16.9328,-17.1452, -17.3578,-17.5706,-17.7835,-17.9967, -18.21,-18.4234,-18.6371,-18.851, -19.065,-19.2792,-19.4936,-19.813, -20.021,-20.229,-20.5414,-20.7497, -20.9584,-21.1669,-21.3761,-21.5851, -21.7877,-21.99,-22.1925,-22.3951, -22.5978,-22.8006,-23.0035,-23.2065, -23.4097,-23.6129,-24.1112,-24.5063)
FOOTPRINT_POINT_LONGITUDE = (100.697,100.344,99.9867,99.6708, 99.6746,99.6767,99.6788,99.6808,99.6821 ,99.6831,99.6851,99.6857,99.6871, 99.6882,99.6889,99.69,99.6923,99.6945, 99.6926,99.6904,99.6905,99.6928,99.6932 ,99.6931,99.6931,99.6926,99.6923, 99.6916,99.6909,99.6907,99.6899,99.6894 ,99.6886,99.6874,99.686,99.6848,99.6835 ,99.6819,99.6804,99.6789,99.6775, 99.6759,99.6738,99.6719,99.6698,99.6673 ,99.6646,99.6622,99.659,99.6561,99.6539 ,99.8964,100.253,100.456,100.808, 101.001,100.998,100.993,100.99,100.986, 100.982,100.979,100.977,100.974,100.971 ,100.969,100.966,100.963,100.961, 100.958,100.955,100.952,100.95,100.947, 100.944,100.941,100.938,100.936,100.933 ,100.928,100.926,100.923,100.918, 100.916,100.913,100.91,100.907,100.904, 100.901,100.898,100.895,100.892,100.889 ,100.886,100.883,100.88,100.877,100.874 ,100.867,100.697)
ORBIT_NUMBER = 4272
ORBITAL_ECCENTRICITY = 0.572
ORBITAL_INCLINATION = 86.69
ORBITAL_SEMIMAJOR_AXIS = 8598.03
PERIAPSIS_ALTITUDE = 294.36
PERIAPSIS_ARGUMENT_ANGLE = 325.55
PERIAPSIS_TIME = 2007-05-03T21:31:59.000Z
SPACECRAFT_ORIENTATION = (0.0,1.0,0.0)
^MEX_ORIENTATION_DESC = "MEX_ORIENTATION_DESC.TXT"
SPACECRAFT_POINTING_MODE = ACROSSTRACK
^MEX_POINTING_DESC = "MEX_POINTING_DESC.TXT"
RIGHT_ASCENSION = -1e+32
DECLINATION = -1e+32
OFFSET_ANGLE = 0.5
SPACECRAFT_SOLAR_DISTANCE = 2.07736e+08
TARGET_NAME = MARS
/* CAMERA DATA ELEMENTS */
DETECTOR_TEMPERATURE = 18.3705
FOCAL_PLANE_TEMPERATURE = 9.3989
INST_CMPRS_NAME = "DISCRETE COSINE TRANSFORMATION (DCT)"
INST_CMPRS_RATIO = 14.3082
INST_CMPRS_QUALITY = 0
INST_CMPRS_QUANTZ_TBL_ID = 0
INSTRUMENT_TEMPERATURE = 11.4379
LENS_TEMPERATURE = 9.6028
MACROPIXEL_SIZE = 8
MISSING_FRAMES = 0
PIXEL_SUBSAMPLING_FLAG = N
SIGNAL_CHAIN_ID = 2
/* RADIOMETRIC DATA ELEMENTS */
BANDWIDTH = 88.0
CENTER_FILTER_WAVELENGTH = 538.0
RADIANCE_OFFSET = 1.79026
RADIANCE_SCALING_FACTOR = 0.00516392
REFLECTANCE_SCALING_FACTOR = 0.000191863
MEX:REFLECTANCE_OFFSET = 0.0665161
/* IMAGE OBJECT DEFINITIONS */
OBJECT = IMAGE
  INTERCHANGE_FORMAT = BINARY
  LINES = 6323
  LINE_SAMPLES = 829
  SAMPLE_TYPE = UNSIGNED_INTEGER
  SAMPLE_BITS = 8
  BANDS = 1
  BAND_STORAGE_TYPE = BAND_SEQUENTIAL
  MAXIMUM = 255
  MEAN = 100.957
  MINIMUM = 1
  STANDARD_DEVIATION = 34.6458
END_OBJECT = IMAGE
/* MAP OBJECT DEFINITIONS */
OBJECT = IMAGE_MAP_PROJECTION
  ^DATA_SET_MAP_PROJECTION_CATALOG= "DSMAP.CAT"
  A_AXIS_RADIUS = 3396.0
  B_AXIS_RADIUS = 3396.0
  C_AXIS_RADIUS = 3396.0
  CENTER_LATITUDE = 0.0
  CENTER_LONGITUDE = 100.0
  COORDINATE_SYSTEM_NAME = PLANETOGRAPHIC
  COORDINATE_SYSTEM_TYPE = "BODY-FIXED ROTATING"
  EASTERNMOST_LONGITUDE = 101.001
  FIRST_STANDARD_PARALLEL = "N/A"
  LINE_FIRST_PIXEL = 1
  LINE_LAST_PIXEL = 6323
  LINE_PROJECTION_OFFSET = -8210.8125
  MAP_PROJECTION_ROTATION = 0.0
  MAP_PROJECTION_TYPE = SINUSOIDAL
  MAP_RESOLUTION = 592.713803866667
  MAP_SCALE = 0.1
  MAXIMUM_LATITUDE = -13.8464
  MINIMUM_LATITUDE = -24.5063
  POSITIVE_LONGITUDE_DIRECTION = EAST
  REFERENCE_LATITUDE = "N/A"
  REFERENCE_LONGITUDE = "N/A"
  SAMPLE_FIRST_PIXEL = 1
  SAMPLE_LAST_PIXEL = 829
  SAMPLE_PROJECTION_OFFSET = 247.5625
  SECOND_STANDARD_PARALLEL = "N/A"
  WESTERNMOST_LONGITUDE = 99.65389999999999
END_OBJECT = IMAGE_MAP_PROJECTION
/* The JPEG2000 image data file associated with this label. */
OBJECT = COMPRESSED_FILE
  FILE_NAME = "H4272_0000_GR3.JP2"
  RECORD_TYPE = UNDEFINED
  FILE_RECORDS = UNK
  ENCODING_TYPE = "JP2"
  INTERCHANGE_FORMAT = BINARY
  UNCOMPRESSED_FILE_NAME = "H4272_0000_GR3.IMG"
  REQUIRED_STORAGE_BYTES = "5260005"
  ^DESCRIPTION = "JP2INFO.TXT"
END_OBJECT = COMPRESSED_FILE
END
