PDS_VERSION_ID = PDS3
/* FILE DATA ELEMENTS */
RECORD_TYPE = STREAM
/* POINTERS TO DATA OBJECTS */
^COMPRESSED_FILE = "H4272_0000_P23.JP2"
/* IDENTIFICATION DATA ELEMENTS */
DATA_SET_ID = "MEX-M-HRSC-5-REFDR-MAPPROJECTED-V3.0"
DATA_SET_NAME = "MARS EXPRESS HRSC MAP PROJECTED REFDR V3.0"
DETECTOR_ID = MEX_HRSC_P2
EVENT_TYPE = "MARS-REGIONAL-MAPPING-Vo-Im-Fl"
INSTRUMENT_HOST_ID = MEX
INSTRUMENT_HOST_NAME = "MARS EXPRESS"
INSTRUMENT_ID = HRSC
INSTRUMENT_NAME = "HIGH RESOLUTION STEREO CAMERA"
MISSION_NAME = "MARS EXPRESS"
MISSION_PHASE_NAME = ME_Phase_7
PROCESSING_LEVEL_ID = 3
PRODUCT_CREATION_TIME = 2016-04-21T04:35:46.000Z
PRODUCT_ID = "H4272_0000_P23.JP2"
RELEASE_ID = 0048
REVISION_ID = 0000
/* QUALITY DATA ELEMENTS */
DATA_QUALITY_ID = 2
DATA_QUALITY_DESC = "Data calculated based on photogrammetrically improved orbit and attitude data"
/* TIME DATA ELEMENTS */
SPACECRAFT_CLOCK_START_COUNT = "1/0126308036.08236"
SPACECRAFT_CLOCK_STOP_COUNT = "1/0126308267.07242"
START_TIME = 2007-05-03T21:34:09.641Z
STOP_TIME = 2007-05-03T21:36:50.576Z
/* ORBITAL DATA ELEMENTS */
ASCENDING_NODE_LONGITUDE = 138.82
MAXIMUM_RESOLUTION = 50.2
FOOTPRINT_POINT_LATITUDE = (-24.5335,-24.5223,-24.5095,-24.4933, -24.2928,-24.0925,-23.792,-23.4926, -23.2925,-23.0918,-22.8911,-22.691, -22.4904,-22.2904,-22.0834,-21.8761, -21.5655,-21.3608,-21.1545,-20.9436, -20.6305,-20.4235,-20.2194,-20.0131, -19.799,-19.5852,-19.371,-19.1572, -18.943,-18.7291,-18.409,-18.1957, -17.9781,-17.7577,-17.5368,-17.3163, -16.9857,-16.7653,-16.5454,-16.2156, -15.996,-15.776,-15.4463,-15.227, -15.0074,-14.7879,-14.5693,-14.3498, -14.1308,-13.9131,-13.844,-13.8483, -13.8534,-13.8601,-13.9742,-14.1935, -14.4124,-14.744,-15.0726,-15.2915, -15.5111,-15.7307,-15.9507,-16.1708, -16.3906,-16.6111,-16.9421,-17.1627, -17.383,-17.6038,-17.9351,-18.1554, -18.3695,-18.6905,-18.9044,-19.1185, -19.44,-19.6543,-19.8687,-20.0814, -20.2887,-20.496,-20.7037,-20.9107, -21.1186,-21.4288,-21.6362,-21.947, -22.1546,-22.3606,-22.6614,-22.9624, -23.1631,-23.3636,-23.5644,-23.7652, -23.9657,-24.1668,-24.4681,-24.5335)
FOOTPRINT_POINT_LONGITUDE = (100.591,100.242,99.8879,99.6658,99.668 ,99.6702,99.6734,99.6772,99.6792, 99.6805,99.6818,99.6834,99.6845,99.6859 ,99.6872,99.6884,99.6902,99.6934,99.695 ,99.6924,99.6912,99.6917,99.6946, 99.6955,99.6954,99.6957,99.6955,99.6955 ,99.695,99.6946,99.6944,99.694,99.6935, 99.6929,99.6917,99.6907,99.689,99.6877, 99.6866,99.6846,99.6833,99.6815,99.6788 ,99.6771,99.6751,99.6729,99.6713, 99.6688,99.6665,99.6651,99.9121,100.122 ,100.404,100.794,100.978,100.976, 100.973,100.97,100.966,100.964,100.962, 100.959,100.957,100.955,100.952,100.95, 100.946,100.944,100.941,100.939,100.935 ,100.932,100.93,100.926,100.924,100.921 ,100.917,100.915,100.912,100.909, 100.907,100.904,100.902,100.899,100.896 ,100.893,100.89,100.886,100.883,100.88, 100.876,100.872,100.87,100.867,100.864, 100.861,100.859,100.856,100.851, 100.591)
ORBIT_NUMBER = 4272
ORBITAL_ECCENTRICITY = 0.572
ORBITAL_INCLINATION = 86.69
ORBITAL_SEMIMAJOR_AXIS = 8598.03
PERIAPSIS_ALTITUDE = 294.36
PERIAPSIS_ARGUMENT_ANGLE = 325.55
PERIAPSIS_TIME = 2007-05-03T21:31:59.000Z
SPACECRAFT_ORIENTATION = (0.0,1.0,0.0)
^MEX_ORIENTATION_DESC = "MEX_ORIENTATION_DESC.TXT"
SPACECRAFT_POINTING_MODE = ACROSSTRACK
^MEX_POINTING_DESC = "MEX_POINTING_DESC.TXT"
RIGHT_ASCENSION = -1e+32
DECLINATION = -1e+32
OFFSET_ANGLE = 0.5
SPACECRAFT_SOLAR_DISTANCE = 2.07736e+08
TARGET_NAME = MARS
/* CAMERA DATA ELEMENTS */
DETECTOR_TEMPERATURE = 18.7783
FOCAL_PLANE_TEMPERATURE = 9.3989
INST_CMPRS_NAME = "DISCRETE COSINE TRANSFORMATION (DCT)"
INST_CMPRS_RATIO = 9.13234
INST_CMPRS_QUALITY = 0
INST_CMPRS_QUANTZ_TBL_ID = 0
INSTRUMENT_TEMPERATURE = 11.4379
LENS_TEMPERATURE = 9.6028
MACROPIXEL_SIZE = 4
MISSING_FRAMES = 0
PIXEL_SUBSAMPLING_FLAG = N
SIGNAL_CHAIN_ID = 3
/* RADIOMETRIC DATA ELEMENTS */
BANDWIDTH = 177.0
CENTER_FILTER_WAVELENGTH = 676.5
RADIANCE_OFFSET = 4.52436
RADIANCE_SCALING_FACTOR = 0.017901
REFLECTANCE_SCALING_FACTOR = 0.000409598
MEX:REFLECTANCE_OFFSET = 0.103523
/* IMAGE OBJECT DEFINITIONS */
OBJECT = IMAGE
  INTERCHANGE_FORMAT = BINARY
  LINES = 12645
  LINE_SAMPLES = 1657
  SAMPLE_TYPE = UNSIGNED_INTEGER
  SAMPLE_BITS = 8
  BANDS = 1
  BAND_STORAGE_TYPE = BAND_SEQUENTIAL
  MAXIMUM = 255
  MEAN = 84.601
  MINIMUM = 1
  STANDARD_DEVIATION = 39.369
END_OBJECT = IMAGE
/* MAP OBJECT DEFINITIONS */
OBJECT = IMAGE_MAP_PROJECTION
  ^DATA_SET_MAP_PROJECTION_CATALOG= "DSMAP.CAT"
  A_AXIS_RADIUS = 3396.0
  B_AXIS_RADIUS = 3396.0
  C_AXIS_RADIUS = 3396.0
  CENTER_LATITUDE = 0.0
  CENTER_LONGITUDE = 100.0
  COORDINATE_SYSTEM_NAME = PLANETOGRAPHIC
  COORDINATE_SYSTEM_TYPE = "BODY-FIXED ROTATING"
  EASTERNMOST_LONGITUDE = 100.978
  FIRST_STANDARD_PARALLEL = "N/A"
  LINE_FIRST_PIXEL = 1
  LINE_LAST_PIXEL = 12645
  LINE_PROJECTION_OFFSET = -16421.125
  MAP_PROJECTION_ROTATION = 0.0
  MAP_PROJECTION_TYPE = SINUSOIDAL
  MAP_RESOLUTION = 1185.42760773333
  MAP_SCALE = 0.05
  MAXIMUM_LATITUDE = -13.844
  MINIMUM_LATITUDE = -24.5335
  POSITIVE_LONGITUDE_DIRECTION = EAST
  REFERENCE_LATITUDE = "N/A"
  REFERENCE_LONGITUDE = "N/A"
  SAMPLE_FIRST_PIXEL = 1
  SAMPLE_LAST_PIXEL = 1657
  SAMPLE_PROJECTION_OFFSET = 495.625
  SECOND_STANDARD_PARALLEL = "N/A"
  WESTERNMOST_LONGITUDE = 99.6651
END_OBJECT = IMAGE_MAP_PROJECTION
/* The JPEG2000 image data file associated with this label. */
OBJECT = COMPRESSED_FILE
  FILE_NAME = "H4272_0000_P23.JP2"
  RECORD_TYPE = UNDEFINED
  FILE_RECORDS = UNK
  ENCODING_TYPE = "JP2"
  INTERCHANGE_FORMAT = BINARY
  UNCOMPRESSED_FILE_NAME = "H4272_0000_P23.IMG"
  REQUIRED_STORAGE_BYTES = "20972649"
  ^DESCRIPTION = "JP2INFO.TXT"
END_OBJECT = COMPRESSED_FILE
END
