PDS_VERSION_ID = PDS3
/* FILE DATA ELEMENTS */
RECORD_TYPE = STREAM
/* POINTERS TO DATA OBJECTS */
^COMPRESSED_FILE = "H4287_0000_RE3.JP2"
/* IDENTIFICATION DATA ELEMENTS */
DATA_SET_ID = "MEX-M-HRSC-5-REFDR-MAPPROJECTED-V3.0"
DATA_SET_NAME = "MARS EXPRESS HRSC MAP PROJECTED REFDR V3.0"
DETECTOR_ID = MEX_HRSC_RED
EVENT_TYPE = "MARS-REGIONAL-MAPPING-Im-Gl-Pf"
INSTRUMENT_HOST_ID = MEX
INSTRUMENT_HOST_NAME = "MARS EXPRESS"
INSTRUMENT_ID = HRSC
INSTRUMENT_NAME = "HIGH RESOLUTION STEREO CAMERA"
MISSION_NAME = "MARS EXPRESS"
MISSION_PHASE_NAME = ME_Phase_7
PROCESSING_LEVEL_ID = 3
PRODUCT_CREATION_TIME = 2016-04-21T04:35:46.000Z
PRODUCT_ID = "H4287_0000_RE3.JP2"
RELEASE_ID = 0048
REVISION_ID = 0000
/* QUALITY DATA ELEMENTS */
DATA_QUALITY_ID = 1
DATA_QUALITY_DESC = "Data calculated based on original SPICE kernels"
/* TIME DATA ELEMENTS */
SPACECRAFT_CLOCK_START_COUNT = "1/0126669870.09058"
SPACECRAFT_CLOCK_STOP_COUNT = "1/0126670283.16470"
START_TIME = 2007-05-08T02:04:57.826Z
STOP_TIME = 2007-05-08T02:09:43.688Z
/* ORBITAL DATA ELEMENTS */
ASCENDING_NODE_LONGITUDE = 138.52
MAXIMUM_RESOLUTION = 50.1
FOOTPRINT_POINT_LATITUDE = (-84.6155,-84.4431,-84.2331,-83.9894, -83.7519,-83.5131,-83.1974,-82.9053, -82.6296,-82.2445,-81.9455,-81.5359, -81.2156,-80.9975,-80.7749,-80.5514, -80.3253,-80.0997,-79.8679,-79.6323, -79.3948,-79.1547,-78.9125,-78.6682, -78.4213,-78.172,-77.9204,-77.5405, -77.2802,-77.0204,-76.7599,-76.5007, -76.2368,-75.9722,-75.7023,-75.4324, -75.0282,-74.7583,-74.4907,-74.2214, -73.9542,-73.6899,-73.2904,-72.8978, -72.6357,-72.3768,-72.1177,-71.8611, -71.4784,-71.2245,-70.8396,-70.9057, -70.9827,-71.0241,-71.0798,-71.2377, -71.4972,-71.7601,-72.0253,-72.423, -72.6931,-72.9614,-73.2332,-73.5037, -73.7771,-74.0533,-74.328,-74.6073, -74.8889,-75.1693,-75.4537,-75.7431, -76.1728,-76.4578,-76.7414,-77.0253, -77.3069,-77.5786,-77.8563,-78.1343, -78.4106,-78.8232,-79.0964,-79.3687, -79.6399,-79.9097,-80.1784,-80.4461, -80.7127,-80.9775,-81.3743,-81.6366, -82.0291,-82.2889,-82.5472,-83.0586, -83.5638,-84.0669,-84.5619,-84.6155)
FOOTPRINT_POINT_LONGITUDE = (53.8918,49.0565,44.5595,40.4153, 37.0815,34.2194,30.9829,31.0374,33.0504 ,35.5237,37.2279,39.3154,40.7653, 41.6779,42.5514,43.3831,44.1779,44.9348 ,45.6631,46.3614,47.0297,47.6703, 48.2844,48.8733,49.4388,49.9819,50.5037 ,51.2483,51.7222,52.1774,52.6153, 53.0366,53.4431,53.8348,54.2127,54.5771 ,55.0988,55.4277,55.7417,56.0429, 56.3315,56.608,57.0015,57.3722,57.6079, 57.8332,58.0516,58.261,58.5613,58.7534, 59.5393,60.6383,62.1151,63.0471,64.549, 65.4317,65.3844,65.3336,65.2778,65.1983 ,65.1373,65.0787,65.0162,64.9548,64.89, 64.8202,64.753,64.6788,64.5989,64.5205, 64.4362,64.3391,64.1976,64.0987,63.9963 ,63.8862,63.7744,63.6817,63.5651, 63.4395,63.3096,63.1027,62.958,62.8052, 62.6451,62.4772,62.3008,62.1142,61.9175 ,61.7117,61.3733,61.1342,60.7411, 60.4598,60.1611,59.5087,58.7642,57.8767 ,56.8519,53.8918)
ORBIT_NUMBER = 4287
ORBITAL_ECCENTRICITY = 0.571
ORBITAL_INCLINATION = 86.7
ORBITAL_SEMIMAJOR_AXIS = 8592.29
PERIAPSIS_ALTITUDE = 293.91
PERIAPSIS_ARGUMENT_ANGLE = 322.94
PERIAPSIS_TIME = 2007-05-08T02:19:32.000Z
SPACECRAFT_ORIENTATION = (0.0,1.0,0.0)
^MEX_ORIENTATION_DESC = "MEX_ORIENTATION_DESC.TXT"
SPACECRAFT_POINTING_MODE = ACROSSTRACK
^MEX_POINTING_DESC = "MEX_POINTING_DESC.TXT"
RIGHT_ASCENSION = -1e+32
DECLINATION = -1e+32
OFFSET_ANGLE = -0.2
SPACECRAFT_SOLAR_DISTANCE = 2.07473e+08
TARGET_NAME = MARS
/* CAMERA DATA ELEMENTS */
DETECTOR_TEMPERATURE = 17.7588
FOCAL_PLANE_TEMPERATURE = 9.6028
INST_CMPRS_NAME = "DISCRETE COSINE TRANSFORMATION (DCT)"
INST_CMPRS_RATIO = 6.76762
INST_CMPRS_QUALITY = 0
INST_CMPRS_QUANTZ_TBL_ID = 0
INSTRUMENT_TEMPERATURE = 11.6418
LENS_TEMPERATURE = 9.6028
MACROPIXEL_SIZE = 2
MISSING_FRAMES = 0
PIXEL_SUBSAMPLING_FLAG = N
SIGNAL_CHAIN_ID = 3
/* RADIOMETRIC DATA ELEMENTS */
BANDWIDTH = 48.0
CENTER_FILTER_WAVELENGTH = 748.0
RADIANCE_OFFSET = 1.38083
RADIANCE_SCALING_FACTOR = 0.0127639
REFLECTANCE_SCALING_FACTOR = 0.00125383
MEX:REFLECTANCE_OFFSET = 0.135642
/* IMAGE OBJECT DEFINITIONS */
OBJECT = IMAGE
  INTERCHANGE_FORMAT = BINARY
  LINES = 16225
  LINE_SAMPLES = 6442
  SAMPLE_TYPE = UNSIGNED_INTEGER
  SAMPLE_BITS = 8
  BANDS = 1
  BAND_STORAGE_TYPE = BAND_SEQUENTIAL
  MAXIMUM = 255
  MEAN = 122.362
  MINIMUM = 1
  STANDARD_DEVIATION = 63.4989
END_OBJECT = IMAGE
/* MAP OBJECT DEFINITIONS */
OBJECT = IMAGE_MAP_PROJECTION
  ^DATA_SET_MAP_PROJECTION_CATALOG= "DSMAP.CAT"
  A_AXIS_RADIUS = 3396.0
  B_AXIS_RADIUS = 3396.0
  C_AXIS_RADIUS = 3396.0
  CENTER_LATITUDE = 0.0
  CENTER_LONGITUDE = 58.0
  COORDINATE_SYSTEM_NAME = PLANETOGRAPHIC
  COORDINATE_SYSTEM_TYPE = "BODY-FIXED ROTATING"
  EASTERNMOST_LONGITUDE = 65.43170000000001
  FIRST_STANDARD_PARALLEL = "N/A"
  LINE_FIRST_PIXEL = 1
  LINE_LAST_PIXEL = 16225
  LINE_PROJECTION_OFFSET = -83944.75
  MAP_PROJECTION_ROTATION = 0.0
  MAP_PROJECTION_TYPE = SINUSOIDAL
  MAP_RESOLUTION = 1185.42760773333
  MAP_SCALE = 0.05
  MAXIMUM_LATITUDE = -70.8396
  MINIMUM_LATITUDE = -84.6155
  POSITIVE_LONGITUDE_DIRECTION = EAST
  REFERENCE_LATITUDE = "N/A"
  REFERENCE_LONGITUDE = "N/A"
  SAMPLE_FIRST_PIXEL = 1
  SAMPLE_LAST_PIXEL = 6442
  SAMPLE_PROJECTION_OFFSET = 3732.25
  SECOND_STANDARD_PARALLEL = "N/A"
  WESTERNMOST_LONGITUDE = 30.9829
END_OBJECT = IMAGE_MAP_PROJECTION
/* The JPEG2000 image data file associated with this label. */
OBJECT = COMPRESSED_FILE
  FILE_NAME = "H4287_0000_RE3.JP2"
  RECORD_TYPE = UNDEFINED
  FILE_RECORDS = UNK
  ENCODING_TYPE = "JP2"
  INTERCHANGE_FORMAT = BINARY
  UNCOMPRESSED_FILE_NAME = "H4287_0000_RE3.IMG"
  REQUIRED_STORAGE_BYTES = "104553660"
  ^DESCRIPTION = "JP2INFO.TXT"
END_OBJECT = COMPRESSED_FILE
END
