PDS_VERSION_ID = PDS3
/* FILE DATA ELEMENTS */
RECORD_TYPE = STREAM
/* POINTERS TO DATA OBJECTS */
^COMPRESSED_FILE = "H4287_0001_IR3.JP2"
/* IDENTIFICATION DATA ELEMENTS */
DATA_SET_ID = "MEX-M-HRSC-5-REFDR-MAPPROJECTED-V3.0"
DATA_SET_NAME = "MARS EXPRESS HRSC MAP PROJECTED REFDR V3.0"
DETECTOR_ID = MEX_HRSC_IR
EVENT_TYPE = "MARS-REGIONAL-MAPPING-Fl-Pf-Mw"
INSTRUMENT_HOST_ID = MEX
INSTRUMENT_HOST_NAME = "MARS EXPRESS"
INSTRUMENT_ID = HRSC
INSTRUMENT_NAME = "HIGH RESOLUTION STEREO CAMERA"
MISSION_NAME = "MARS EXPRESS"
MISSION_PHASE_NAME = ME_Phase_7
PROCESSING_LEVEL_ID = 3
PRODUCT_CREATION_TIME = 2016-04-21T04:35:46.000Z
PRODUCT_ID = "H4287_0001_IR3.JP2"
RELEASE_ID = 0048
REVISION_ID = 0000
/* QUALITY DATA ELEMENTS */
DATA_QUALITY_ID = 1
DATA_QUALITY_DESC = "Data calculated based on original SPICE kernels"
/* TIME DATA ELEMENTS */
SPACECRAFT_CLOCK_START_COUNT = "1/0126670766.09071"
SPACECRAFT_CLOCK_STOP_COUNT = "1/0126670931.48923"
START_TIME = 2007-05-08T02:20:17.466Z
STOP_TIME = 2007-05-08T02:22:08.848Z
/* ORBITAL DATA ELEMENTS */
ASCENDING_NODE_LONGITUDE = 138.52
MAXIMUM_RESOLUTION = 100.7
FOOTPRINT_POINT_LATITUDE = (-35.3686,-35.3644,-35.3601,-35.3556, -35.3509,-35.3464,-35.2643,-35.1242, -34.9868,-34.85,-34.7095,-34.5622, -34.4142,-34.2684,-34.0502,-33.831, -33.6852,-33.4675,-33.3221,-33.1776, -33.0322,-32.8866,-32.7414,-32.5246, -32.3799,-32.2369,-32.0201,-31.8751, -31.7299,-31.5859,-31.4422,-31.2979, -31.0819,-30.9375,-30.7217,-30.5065, -30.3629,-30.1476,-30.0038,-29.8559, -29.7083,-29.5595,-29.411,-29.1823, -28.9577,-28.8066,-28.5797,-28.4315, -28.2822,-28.1241,-28.127,-28.1312, -28.135,-28.1401,-28.1452,-28.3697, -28.5181,-28.6702,-28.8982,-29.0505, -29.2007,-29.3497,-29.4997,-29.6489, -29.7977,-30.0207,-30.1642,-30.3798, -30.5236,-30.6674,-30.8112,-30.9548, -31.0992,-31.2435,-31.4596,-31.6045, -31.749,-31.8937,-32.0381,-32.1819, -32.3269,-32.4723,-32.6174,-32.8348, -32.9801,-33.1249,-33.3434,-33.4893, -33.6343,-33.7795,-33.925,-34.1434, -34.289,-34.4342,-34.5806,-34.7983, -34.9394,-35.0815,-35.2932,-35.3686)
FOOTPRINT_POINT_LONGITUDE = (67.2012,67.0157,66.8307,66.6463, 66.4626,66.2906,66.179,66.1827,66.1856, 66.1883,66.1917,66.1959,66.2002,66.2039 ,66.2091,66.2145,66.218,66.2228,66.226, 66.2289,66.232,66.2352,66.2382,66.2423, 66.245,66.2473,66.2512,66.2538,66.2566, 66.2589,66.2611,66.2634,66.2667,66.269, 66.2721,66.275,66.2769,66.2797,66.2815, 66.2834,66.2848,66.2866,66.2882,66.2923 ,66.2951,66.2973,66.3007,66.302,66.3037 ,66.3848,66.5937,66.7796,67.0594, 67.3522,67.5485,67.5474,67.5459,67.5464 ,67.547,67.5475,67.5468,67.5453,67.5443 ,67.5428,67.541,67.5384,67.5365,67.5338 ,67.532,67.5301,67.5281,67.526,67.5243, 67.5225,67.5194,67.5178,67.5159,67.514, 67.512,67.5095,67.5076,67.506,67.5041, 67.5011,67.4992,67.4969,67.4942,67.4925 ,67.4902,67.488,67.4859,67.4827,67.4805 ,67.478,67.4762,67.4732,67.4714,67.4701 ,67.4674,67.2012)
ORBIT_NUMBER = 4287
ORBITAL_ECCENTRICITY = 0.571
ORBITAL_INCLINATION = 86.7
ORBITAL_SEMIMAJOR_AXIS = 8592.29
PERIAPSIS_ALTITUDE = 293.91
PERIAPSIS_ARGUMENT_ANGLE = 322.94
PERIAPSIS_TIME = 2007-05-08T02:19:32.000Z
SPACECRAFT_ORIENTATION = (0.0,1.0,0.0)
^MEX_ORIENTATION_DESC = "MEX_ORIENTATION_DESC.TXT"
SPACECRAFT_POINTING_MODE = ACROSSTRACK
^MEX_POINTING_DESC = "MEX_POINTING_DESC.TXT"
RIGHT_ASCENSION = -1e+32
DECLINATION = -1e+32
OFFSET_ANGLE = -0.2
SPACECRAFT_SOLAR_DISTANCE = 2.07473e+08
TARGET_NAME = MARS
/* CAMERA DATA ELEMENTS */
DETECTOR_TEMPERATURE = 20.0017
FOCAL_PLANE_TEMPERATURE = 10.0106
INST_CMPRS_NAME = "DISCRETE COSINE TRANSFORMATION (DCT)"
INST_CMPRS_RATIO = 26.1858
INST_CMPRS_QUALITY = 0
INST_CMPRS_QUANTZ_TBL_ID = 0
INSTRUMENT_TEMPERATURE = 14.2925
LENS_TEMPERATURE = 10.4184
MACROPIXEL_SIZE = 8
MISSING_FRAMES = 0
PIXEL_SUBSAMPLING_FLAG = N
SIGNAL_CHAIN_ID = 2
/* RADIOMETRIC DATA ELEMENTS */
BANDWIDTH = 81.0
CENTER_FILTER_WAVELENGTH = 955.5
RADIANCE_OFFSET = 1.87304
RADIANCE_SCALING_FACTOR = 0.0039467
REFLECTANCE_SCALING_FACTOR = 0.000366511
MEX:REFLECTANCE_OFFSET = 0.17394
/* IMAGE OBJECT DEFINITIONS */
OBJECT = IMAGE
  INTERCHANGE_FORMAT = BINARY
  LINES = 4322
  LINE_SAMPLES = 704
  SAMPLE_TYPE = UNSIGNED_INTEGER
  SAMPLE_BITS = 8
  BANDS = 1
  BAND_STORAGE_TYPE = BAND_SEQUENTIAL
  MAXIMUM = 255
  MEAN = 153.638
  MINIMUM = 1
  STANDARD_DEVIATION = 55.1233
END_OBJECT = IMAGE
/* MAP OBJECT DEFINITIONS */
OBJECT = IMAGE_MAP_PROJECTION
  ^DATA_SET_MAP_PROJECTION_CATALOG= "DSMAP.CAT"
  A_AXIS_RADIUS = 3396.0
  B_AXIS_RADIUS = 3396.0
  C_AXIS_RADIUS = 3396.0
  CENTER_LATITUDE = 0.0
  CENTER_LONGITUDE = 67.0
  COORDINATE_SYSTEM_NAME = PLANETOGRAPHIC
  COORDINATE_SYSTEM_TYPE = "BODY-FIXED ROTATING"
  EASTERNMOST_LONGITUDE = 67.5485
  FIRST_STANDARD_PARALLEL = "N/A"
  LINE_FIRST_PIXEL = 1
  LINE_LAST_PIXEL = 4322
  LINE_PROJECTION_OFFSET = -16658.4375
  MAP_PROJECTION_ROTATION = 0.0
  MAP_PROJECTION_TYPE = SINUSOIDAL
  MAP_RESOLUTION = 592.713803866667
  MAP_SCALE = 0.1
  MAXIMUM_LATITUDE = -28.1241
  MINIMUM_LATITUDE = -35.3686
  POSITIVE_LONGITUDE_DIRECTION = EAST
  REFERENCE_LATITUDE = "N/A"
  REFERENCE_LONGITUDE = "N/A"
  SAMPLE_FIRST_PIXEL = 1
  SAMPLE_LAST_PIXEL = 704
  SAMPLE_PROJECTION_OFFSET = 405.0625
  SECOND_STANDARD_PARALLEL = "N/A"
  WESTERNMOST_LONGITUDE = 66.179
END_OBJECT = IMAGE_MAP_PROJECTION
/* The JPEG2000 image data file associated with this label. */
OBJECT = COMPRESSED_FILE
  FILE_NAME = "H4287_0001_IR3.JP2"
  RECORD_TYPE = UNDEFINED
  FILE_RECORDS = UNK
  ENCODING_TYPE = "JP2"
  INTERCHANGE_FORMAT = BINARY
  UNCOMPRESSED_FILE_NAME = "H4287_0001_IR3.IMG"
  REQUIRED_STORAGE_BYTES = "3060992"
  ^DESCRIPTION = "JP2INFO.TXT"
END_OBJECT = COMPRESSED_FILE
END
