PDS_VERSION_ID = PDS3
/* FILE DATA ELEMENTS */
RECORD_TYPE = STREAM
/* POINTERS TO DATA OBJECTS */
^COMPRESSED_FILE = "H4289_0000_S13.JP2"
/* IDENTIFICATION DATA ELEMENTS */
DATA_SET_ID = "MEX-M-HRSC-5-REFDR-MAPPROJECTED-V3.0"
DATA_SET_NAME = "MARS EXPRESS HRSC MAP PROJECTED REFDR V3.0"
DETECTOR_ID = MEX_HRSC_S1
EVENT_TYPE = "MARS-REGIONAL-MAPPING-Vo-Im"
INSTRUMENT_HOST_ID = MEX
INSTRUMENT_HOST_NAME = "MARS EXPRESS"
INSTRUMENT_ID = HRSC
INSTRUMENT_NAME = "HIGH RESOLUTION STEREO CAMERA"
MISSION_NAME = "MARS EXPRESS"
MISSION_PHASE_NAME = ME_Phase_7
PROCESSING_LEVEL_ID = 3
PRODUCT_CREATION_TIME = 2016-04-21T04:35:46.000Z
PRODUCT_ID = "H4289_0000_S13.JP2"
RELEASE_ID = 0048
REVISION_ID = 0000
/* QUALITY DATA ELEMENTS */
DATA_QUALITY_ID = 2
DATA_QUALITY_DESC = "Data calculated based on photogrammetrically improved orbit and attitude data"
/* TIME DATA ELEMENTS */
SPACECRAFT_CLOCK_START_COUNT = "1/0126719094.09055"
SPACECRAFT_CLOCK_STOP_COUNT = "1/0126719292.42808"
START_TIME = 2007-05-08T15:45:50.178Z
STOP_TIME = 2007-05-08T15:48:14.751Z
/* ORBITAL DATA ELEMENTS */
ASCENDING_NODE_LONGITUDE = 138.48
MAXIMUM_RESOLUTION = 24.7
FOOTPRINT_POINT_LATITUDE = (-38.8396,-38.8299,-38.8491,-38.661, -38.4733,-38.2874,-38.1017,-37.823, -37.6376,-37.4531,-37.2675,-37.082, -36.8968,-36.711,-36.5241,-36.3373, -36.1511,-35.9659,-35.6,-35.416, -35.2318,-35.0417,-34.8503,-34.6588, -34.4675,-34.2765,-34.0856,-33.8948, -33.7041,-33.5135,-33.3232,-33.1327, -32.9425,-32.7524,-32.5626,-32.3729, -32.1833,-31.9939,-31.8047,-31.6152, -31.4261,-31.2372,-31.0485,-30.8598, -30.6714,-30.4793,-30.2842,-29.9917, -29.7972,-29.6028,-29.392,-29.3963, -29.4013,-29.4069,-29.6992,-29.8941, -30.089,-30.2843,-30.4797,-30.6727, -30.8613,-31.0501,-31.2391,-31.4282, -31.6173,-31.8068,-31.9964,-32.1859, -32.3756,-32.6607,-32.851,-33.0413, -33.2315,-33.4223,-33.6134,-33.8043, -33.9952,-34.1866,-34.3779,-34.5692, -34.7608,-34.9528,-35.1444,-35.3322, -35.5171,-35.795,-36.0729,-36.2583, -36.4433,-36.8114,-37.0005,-37.1888, -37.3748,-37.5606,-37.9268,-38.2098, -38.3987,-38.5857,-38.8654,-38.8396)
FOOTPRINT_POINT_LONGITUDE = (230.199,229.8,229.4,229.408,229.416, 229.424,229.431,229.441,229.448,229.454 ,229.461,229.467,229.474,229.48,229.487 ,229.493,229.5,229.506,229.515,229.521, 229.526,229.531,229.536,229.542,229.547 ,229.552,229.556,229.561,229.566,229.57 ,229.574,229.579,229.583,229.587,229.59 ,229.594,229.598,229.601,229.605, 229.608,229.612,229.615,229.618,229.621 ,229.624,229.626,229.629,229.633, 229.635,229.638,229.819,230.119,230.479 ,230.88,230.876,230.873,230.87,230.867, 230.864,230.861,230.858,230.855,230.853 ,230.85,230.847,230.844,230.841,230.838 ,230.834,230.83,230.827,230.824,230.82, 230.817,230.814,230.811,230.807,230.804 ,230.801,230.797,230.794,230.791, 230.787,230.784,230.78,230.775,230.77, 230.767,230.763,230.754,230.752,230.75, 230.746,230.742,230.732,230.728,230.725 ,230.721,230.715,230.199)
ORBIT_NUMBER = 4289
ORBITAL_ECCENTRICITY = 0.571
ORBITAL_INCLINATION = 86.7
ORBITAL_SEMIMAJOR_AXIS = 8590.72
PERIAPSIS_ALTITUDE = 293.84
PERIAPSIS_ARGUMENT_ANGLE = 322.57
PERIAPSIS_TIME = 2007-05-08T15:45:48.000Z
SPACECRAFT_ORIENTATION = (0.0,1.0,0.0)
^MEX_ORIENTATION_DESC = "MEX_ORIENTATION_DESC.TXT"
SPACECRAFT_POINTING_MODE = ACROSSTRACK
^MEX_POINTING_DESC = "MEX_POINTING_DESC.TXT"
RIGHT_ASCENSION = -1e+32
DECLINATION = -1e+32
OFFSET_ANGLE = -0.1
SPACECRAFT_SOLAR_DISTANCE = 2.07441e+08
TARGET_NAME = MARS
/* CAMERA DATA ELEMENTS */
DETECTOR_TEMPERATURE = 17.7588
FOCAL_PLANE_TEMPERATURE = 9.6028
INST_CMPRS_NAME = "DISCRETE COSINE TRANSFORMATION (DCT)"
INST_CMPRS_RATIO = 9.17873
INST_CMPRS_QUALITY = 0
INST_CMPRS_QUANTZ_TBL_ID = 0
INSTRUMENT_TEMPERATURE = 11.6418
LENS_TEMPERATURE = 9.6028
MACROPIXEL_SIZE = 2
MISSING_FRAMES = 0
PIXEL_SUBSAMPLING_FLAG = N
SIGNAL_CHAIN_ID = 1
/* RADIOMETRIC DATA ELEMENTS */
BANDWIDTH = 180.0
CENTER_FILTER_WAVELENGTH = 677.0
RADIANCE_OFFSET = 6.35184
RADIANCE_SCALING_FACTOR = 0.0176681
REFLECTANCE_SCALING_FACTOR = 0.000396663
MEX:REFLECTANCE_OFFSET = 0.142603
/* IMAGE OBJECT DEFINITIONS */
OBJECT = IMAGE
  INTERCHANGE_FORMAT = BINARY
  LINES = 22502
  LINE_SAMPLES = 3022
  SAMPLE_TYPE = UNSIGNED_INTEGER
  SAMPLE_BITS = 8
  BANDS = 1
  BAND_STORAGE_TYPE = BAND_SEQUENTIAL
  MAXIMUM = 255
  MEAN = 112.894
  MINIMUM = 1
  STANDARD_DEVIATION = 37.4323
END_OBJECT = IMAGE
/* MAP OBJECT DEFINITIONS */
OBJECT = IMAGE_MAP_PROJECTION
  ^DATA_SET_MAP_PROJECTION_CATALOG= "DSMAP.CAT"
  A_AXIS_RADIUS = 3396.0
  B_AXIS_RADIUS = 3396.0
  C_AXIS_RADIUS = 3396.0
  CENTER_LATITUDE = 0.0
  CENTER_LONGITUDE = 230.0
  COORDINATE_SYSTEM_NAME = PLANETOGRAPHIC
  COORDINATE_SYSTEM_TYPE = "BODY-FIXED ROTATING"
  EASTERNMOST_LONGITUDE = 230.88
  FIRST_STANDARD_PARALLEL = "N/A"
  LINE_FIRST_PIXEL = 1
  LINE_LAST_PIXEL = 22502
  LINE_PROJECTION_OFFSET = -69707.75
  MAP_PROJECTION_ROTATION = 0.0
  MAP_PROJECTION_TYPE = SINUSOIDAL
  MAP_RESOLUTION = 2370.85521546667
  MAP_SCALE = 0.025
  MAXIMUM_LATITUDE = -29.392
  MINIMUM_LATITUDE = -38.8654
  POSITIVE_LONGITUDE_DIRECTION = EAST
  REFERENCE_LATITUDE = "N/A"
  REFERENCE_LONGITUDE = "N/A"
  SAMPLE_FIRST_PIXEL = 1
  SAMPLE_LAST_PIXEL = 3022
  SAMPLE_PROJECTION_OFFSET = 1146.25
  SECOND_STANDARD_PARALLEL = "N/A"
  WESTERNMOST_LONGITUDE = 229.4
END_OBJECT = IMAGE_MAP_PROJECTION
/* The JPEG2000 image data file associated with this label. */
OBJECT = COMPRESSED_FILE
  FILE_NAME = "H4289_0000_S13.JP2"
  RECORD_TYPE = UNDEFINED
  FILE_RECORDS = UNK
  ENCODING_TYPE = "JP2"
  INTERCHANGE_FORMAT = BINARY
  UNCOMPRESSED_FILE_NAME = "H4289_0000_S13.IMG"
  REQUIRED_STORAGE_BYTES = "68025220"
  ^DESCRIPTION = "JP2INFO.TXT"
END_OBJECT = COMPRESSED_FILE
END
