PDS_VERSION_ID = PDS3
/* FILE DATA ELEMENTS */
RECORD_TYPE = STREAM
/* POINTERS TO DATA OBJECTS */
^COMPRESSED_FILE = "H4294_0000_BL3.JP2"
/* IDENTIFICATION DATA ELEMENTS */
DATA_SET_ID = "MEX-M-HRSC-5-REFDR-MAPPROJECTED-V3.0"
DATA_SET_NAME = "MARS EXPRESS HRSC MAP PROJECTED REFDR V3.0"
DETECTOR_ID = MEX_HRSC_BLUE
EVENT_TYPE = "MARS-REGIONAL-MAPPING-Vo-Im"
INSTRUMENT_HOST_ID = MEX
INSTRUMENT_HOST_NAME = "MARS EXPRESS"
INSTRUMENT_ID = HRSC
INSTRUMENT_NAME = "HIGH RESOLUTION STEREO CAMERA"
MISSION_NAME = "MARS EXPRESS"
MISSION_PHASE_NAME = ME_Phase_7
PROCESSING_LEVEL_ID = 3
PRODUCT_CREATION_TIME = 2016-04-21T04:35:46.000Z
PRODUCT_ID = "H4294_0000_BL3.JP2"
RELEASE_ID = 0048
REVISION_ID = 0000
/* QUALITY DATA ELEMENTS */
DATA_QUALITY_ID = 2
DATA_QUALITY_DESC = "Data calculated based on photogrammetrically improved orbit and attitude data"
/* TIME DATA ELEMENTS */
SPACECRAFT_CLOCK_START_COUNT = "1/0126840176.08270"
SPACECRAFT_CLOCK_STOP_COUNT = "1/0126840521.47633"
START_TIME = 2007-05-10T01:23:21.943Z
STOP_TIME = 2007-05-10T01:27:56.169Z
/* ORBITAL DATA ELEMENTS */
ASCENDING_NODE_LONGITUDE = 138.37
MAXIMUM_RESOLUTION = 48
FOOTPRINT_POINT_LATITUDE = (-31.6508,-31.6495,-31.6472,-31.6374, -31.3261,-31.0151,-30.704,-30.3945, -29.9275,-29.6164,-29.1378,-28.8159, -28.3223,-27.8412,-27.5189,-27.1975, -26.7157,-26.3845,-26.0528,-25.7214, -25.3902,-25.0593,-24.563,-24.0524, -23.7112,-23.3702,-23.0297,-22.6891, -22.3386,-21.6507,-21.1261,-20.7762, -20.4267,-20.0777,-19.7292,-19.3811, -19.0339,-18.6851,-18.3398,-17.9434, -17.531,-17.1192,-16.7077,-16.297, -15.8872,-15.4782,-15.0697,-14.4572, -14.0525,-13.8266,-13.8239,-13.8209, -13.8156,-14.0183,-14.4249,-14.8325, -15.2409,-15.6504,-16.2654,-16.6762, -17.088,-17.5004,-17.9135,-18.3136, -18.6607,-19.0084,-19.3563,-19.7047, -20.2273,-20.5767,-20.9268,-21.453, -21.8037,-22.3168,-22.6683,-23.009, -23.3503,-23.8623,-24.204,-24.5449, -24.8758,-25.3728,-25.7043,-26.0361, -26.3692,-26.7023,-27.0211,-27.3422, -27.6636,-27.9852,-28.307,-28.629, -29.1247,-29.6044,-29.9155,-30.3821, -30.8489,-31.1602,-31.4717,-31.6508)
FOOTPRINT_POINT_LONGITUDE = (99.5358,99.173,98.8146,98.5649,98.5692 ,98.5734,98.5773,98.5815,98.5863, 98.5891,98.5934,98.5959,98.6,98.6033, 98.6044,98.6056,98.607,98.6077,98.6084, 98.6088,98.609,98.6089,98.6083,98.6072, 98.6063,98.6051,98.6037,98.602,98.6, 98.5955,98.5919,98.5888,98.5855,98.5821 ,98.5785,98.5747,98.5709,98.5657, 98.5622,98.5568,98.5511,98.5451,98.5386 ,98.5319,98.525,98.5179,98.5103,98.4978 ,98.4909,98.686,98.9684,99.3468,99.811, 99.9372,99.9346,99.9315,99.928,99.924, 99.9191,99.9164,99.9127,99.9094,99.9058 ,99.9029,99.9004,99.8972,99.8945, 99.8919,99.8903,99.8879,99.8843,99.8785 ,99.876,99.8723,99.8693,99.8666,99.8632 ,99.8599,99.8575,99.8543,99.8519, 99.8478,99.8456,99.8431,99.8371,99.8306 ,99.8355,99.8332,99.8307,99.8281, 99.8256,99.8227,99.8191,99.8153,99.8125 ,99.809,99.8058,99.8037,99.8012, 99.5358)
ORBIT_NUMBER = 4294
ORBITAL_ECCENTRICITY = 0.571
ORBITAL_INCLINATION = 86.69
ORBITAL_SEMIMAJOR_AXIS = 8591.58
PERIAPSIS_ALTITUDE = 293.48
PERIAPSIS_ARGUMENT_ANGLE = 321.69
PERIAPSIS_TIME = 2007-05-10T01:21:47.000Z
SPACECRAFT_ORIENTATION = (0.0,1.0,0.0)
^MEX_ORIENTATION_DESC = "MEX_ORIENTATION_DESC.TXT"
SPACECRAFT_POINTING_MODE = ACROSSTRACK
^MEX_POINTING_DESC = "MEX_POINTING_DESC.TXT"
RIGHT_ASCENSION = -1e+32
DECLINATION = -1e+32
OFFSET_ANGLE = -0.4
SPACECRAFT_SOLAR_DISTANCE = 2.07363e+08
TARGET_NAME = MARS
/* CAMERA DATA ELEMENTS */
DETECTOR_TEMPERATURE = 18.5744
FOCAL_PLANE_TEMPERATURE = 9.6028
INST_CMPRS_NAME = "DISCRETE COSINE TRANSFORMATION (DCT)"
INST_CMPRS_RATIO = 6.6831
INST_CMPRS_QUALITY = 0
INST_CMPRS_QUANTZ_TBL_ID = 0
INSTRUMENT_TEMPERATURE = 11.4379
LENS_TEMPERATURE = 9.6028
MACROPIXEL_SIZE = 4
MISSING_FRAMES = 51
PIXEL_SUBSAMPLING_FLAG = N
SIGNAL_CHAIN_ID = 2
/* RADIOMETRIC DATA ELEMENTS */
BANDWIDTH = 76.0
CENTER_FILTER_WAVELENGTH = 444.0
RADIANCE_OFFSET = 0.875996
RADIANCE_SCALING_FACTOR = 0.00169161
REFLECTANCE_SCALING_FACTOR = 7.47339e-05
MEX:REFLECTANCE_OFFSET = 0.0387007
/* IMAGE OBJECT DEFINITIONS */
OBJECT = IMAGE
  INTERCHANGE_FORMAT = BINARY
  LINES = 21126
  LINE_SAMPLES = 1795
  SAMPLE_TYPE = UNSIGNED_INTEGER
  SAMPLE_BITS = 8
  BANDS = 1
  BAND_STORAGE_TYPE = BAND_SEQUENTIAL
  MAXIMUM = 255
  MEAN = 140.88
  MINIMUM = 1
  STANDARD_DEVIATION = 34.6811
END_OBJECT = IMAGE
/* MAP OBJECT DEFINITIONS */
OBJECT = IMAGE_MAP_PROJECTION
  ^DATA_SET_MAP_PROJECTION_CATALOG= "DSMAP.CAT"
  A_AXIS_RADIUS = 3396.0
  B_AXIS_RADIUS = 3396.0
  C_AXIS_RADIUS = 3396.0
  CENTER_LATITUDE = 0.0
  CENTER_LONGITUDE = 99.0
  COORDINATE_SYSTEM_NAME = PLANETOGRAPHIC
  COORDINATE_SYSTEM_TYPE = "BODY-FIXED ROTATING"
  EASTERNMOST_LONGITUDE = 99.9372
  FIRST_STANDARD_PARALLEL = "N/A"
  LINE_FIRST_PIXEL = 1
  LINE_LAST_PIXEL = 21126
  LINE_PROJECTION_OFFSET = -16385.875
  MAP_PROJECTION_ROTATION = 0.0
  MAP_PROJECTION_TYPE = SINUSOIDAL
  MAP_RESOLUTION = 1185.42760773333
  MAP_SCALE = 0.05
  MAXIMUM_LATITUDE = -13.8156
  MINIMUM_LATITUDE = -31.6508
  POSITIVE_LONGITUDE_DIRECTION = EAST
  REFERENCE_LATITUDE = "N/A"
  REFERENCE_LONGITUDE = "N/A"
  SAMPLE_FIRST_PIXEL = 1
  SAMPLE_LAST_PIXEL = 1795
  SAMPLE_PROJECTION_OFFSET = 627.375
  SECOND_STANDARD_PARALLEL = "N/A"
  WESTERNMOST_LONGITUDE = 98.4909
END_OBJECT = IMAGE_MAP_PROJECTION
/* The JPEG2000 image data file associated with this label. */
OBJECT = COMPRESSED_FILE
  FILE_NAME = "H4294_0000_BL3.JP2"
  RECORD_TYPE = UNDEFINED
  FILE_RECORDS = UNK
  ENCODING_TYPE = "JP2"
  INTERCHANGE_FORMAT = BINARY
  UNCOMPRESSED_FILE_NAME = "H4294_0000_BL3.IMG"
  REQUIRED_STORAGE_BYTES = "37940915"
  ^DESCRIPTION = "JP2INFO.TXT"
END_OBJECT = COMPRESSED_FILE
END
