PDS_VERSION_ID = PDS3
/* FILE DATA ELEMENTS */
RECORD_TYPE = STREAM
/* POINTERS TO DATA OBJECTS */
^COMPRESSED_FILE = "H4295_0000_BL3.JP2"
/* IDENTIFICATION DATA ELEMENTS */
DATA_SET_ID = "MEX-M-HRSC-5-REFDR-MAPPROJECTED-V3.0"
DATA_SET_NAME = "MARS EXPRESS HRSC MAP PROJECTED REFDR V3.0"
DETECTOR_ID = MEX_HRSC_BLUE
EVENT_TYPE = "MARS-REGIONAL-MAPPING-Vo-Im"
INSTRUMENT_HOST_ID = MEX
INSTRUMENT_HOST_NAME = "MARS EXPRESS"
INSTRUMENT_ID = HRSC
INSTRUMENT_NAME = "HIGH RESOLUTION STEREO CAMERA"
MISSION_NAME = "MARS EXPRESS"
MISSION_PHASE_NAME = ME_Phase_7
PROCESSING_LEVEL_ID = 3
PRODUCT_CREATION_TIME = 2016-04-21T04:35:46.000Z
PRODUCT_ID = "H4295_0000_BL3.JP2"
RELEASE_ID = 0048
REVISION_ID = 0000
/* QUALITY DATA ELEMENTS */
DATA_QUALITY_ID = 2
DATA_QUALITY_DESC = "Data calculated based on photogrammetrically improved orbit and attitude data"
/* TIME DATA ELEMENTS */
SPACECRAFT_CLOCK_START_COUNT = "1/0126864220.08234"
SPACECRAFT_CLOCK_STOP_COUNT = "1/0126864429.56099"
START_TIME = 2007-05-10T08:04:06.290Z
STOP_TIME = 2007-05-10T08:06:40.270Z
/* ORBITAL DATA ELEMENTS */
ASCENDING_NODE_LONGITUDE = 138.35
MAXIMUM_RESOLUTION = 42.5
FOOTPRINT_POINT_LATITUDE = (-41.4514,-41.4388,-41.4289,-41.2078, -41.0007,-40.7937,-40.5866,-40.3791, -40.1719,-39.9665,-39.7674,-39.5678, -39.3682,-39.1685,-38.9678,-38.7671, -38.5673,-38.2678,-38.0695,-37.8695, -37.5695,-37.2697,-37.0697,-36.8698, -36.6698,-36.4697,-36.2697,-36.0698, -35.77,-35.5689,-35.3689,-35.1702, -34.9699,-34.77,-34.5694,-34.3619, -34.1535,-33.8412,-33.6349,-33.4267, -33.2191,-33.012,-32.8037,-32.492, -32.2856,-32.0781,-31.8706,-31.6631, -31.4558,-31.2214,-31.2272,-31.2305, -31.2334,-31.2366,-31.5479,-31.7555, -31.9631,-32.2747,-32.4825,-32.6903, -32.8982,-33.1061,-33.3133,-33.5212, -33.7301,-33.9383,-34.1463,-34.3539, -34.5618,-34.7635,-35.0637,-35.264, -35.5644,-35.7644,-35.9646,-36.2652, -36.4658,-36.6662,-36.8668,-37.0669, -37.267,-37.4673,-37.6675,-37.9679, -38.2681,-38.4684,-38.6686,-38.8688, -39.069,-39.2692,-39.4693,-39.6695, -39.9697,-40.1744,-40.3816,-40.5892, -40.7972,-41.0047,-41.2122,-41.4514)
FOOTPRINT_POINT_LONGITUDE = (360.589,360.027,359.653,359.47,359.482 ,359.493,359.504,359.513,359.524, 359.534,359.545,359.555,359.564,359.574 ,359.581,359.588,359.597,359.61,359.622 ,359.63,359.641,359.653,359.661,359.669 ,359.676,359.683,359.69,359.697,359.708 ,359.712,359.719,359.727,359.733, 359.739,359.745,359.751,359.756,359.763 ,359.771,359.775,359.78,359.786,359.79, 359.796,359.803,359.807,359.812,359.816 ,359.82,359.926,360.29,360.54,360.79, 361.043,361.039,361.035,361.032,361.027 ,361.023,361.019,361.016,361.012,361.01 ,361.006,361.0,360.996,360.992,360.989, 360.985,360.982,360.977,360.973,360.967 ,360.964,360.96,360.954,360.949,360.945 ,360.94,360.936,360.932,360.928,360.924 ,360.917,360.911,360.906,360.901, 360.897,360.892,360.887,360.882,360.877 ,360.869,360.864,360.859,360.854, 360.848,360.842,360.836,360.589)
ORBIT_NUMBER = 4295
ORBITAL_ECCENTRICITY = 0.571
ORBITAL_INCLINATION = 86.69
ORBITAL_SEMIMAJOR_AXIS = 8587.78
PERIAPSIS_ALTITUDE = 294.33
PERIAPSIS_ARGUMENT_ANGLE = 321.52
PERIAPSIS_TIME = 2007-05-10T08:04:57.000Z
SPACECRAFT_ORIENTATION = (0.0,1.0,0.0)
^MEX_ORIENTATION_DESC = "MEX_ORIENTATION_DESC.TXT"
SPACECRAFT_POINTING_MODE = NADIR
^MEX_POINTING_DESC = "MEX_POINTING_DESC.TXT"
RIGHT_ASCENSION = -1e+32
DECLINATION = -1e+32
OFFSET_ANGLE = -1e+32
SPACECRAFT_SOLAR_DISTANCE = 2.07348e+08
TARGET_NAME = MARS
/* CAMERA DATA ELEMENTS */
DETECTOR_TEMPERATURE = 18.3705
FOCAL_PLANE_TEMPERATURE = 8.5833
INST_CMPRS_NAME = "DISCRETE COSINE TRANSFORMATION (DCT)"
INST_CMPRS_RATIO = 6.72366
INST_CMPRS_QUALITY = 0
INST_CMPRS_QUANTZ_TBL_ID = 0
INSTRUMENT_TEMPERATURE = 11.4379
LENS_TEMPERATURE = 9.195
MACROPIXEL_SIZE = 4
MISSING_FRAMES = 0
PIXEL_SUBSAMPLING_FLAG = N
SIGNAL_CHAIN_ID = 2
/* RADIOMETRIC DATA ELEMENTS */
BANDWIDTH = 76.0
CENTER_FILTER_WAVELENGTH = 444.0
RADIANCE_OFFSET = 0.921941
RADIANCE_SCALING_FACTOR = 0.00119519
REFLECTANCE_SCALING_FACTOR = 5.2795e-05
MEX:REFLECTANCE_OFFSET = 0.0407247
/* IMAGE OBJECT DEFINITIONS */
OBJECT = IMAGE
  INTERCHANGE_FORMAT = BINARY
  LINES = 12120
  LINE_SAMPLES = 1592
  SAMPLE_TYPE = UNSIGNED_INTEGER
  SAMPLE_BITS = 8
  BANDS = 1
  BAND_STORAGE_TYPE = BAND_SEQUENTIAL
  MAXIMUM = 254
  MEAN = 153.881
  MINIMUM = 1
  STANDARD_DEVIATION = 17.2914
END_OBJECT = IMAGE
/* MAP OBJECT DEFINITIONS */
OBJECT = IMAGE_MAP_PROJECTION
  ^DATA_SET_MAP_PROJECTION_CATALOG= "DSMAP.CAT"
  A_AXIS_RADIUS = 3396.0
  B_AXIS_RADIUS = 3396.0
  C_AXIS_RADIUS = 3396.0
  CENTER_LATITUDE = 0.0
  CENTER_LONGITUDE = 0.0
  COORDINATE_SYSTEM_NAME = PLANETOGRAPHIC
  COORDINATE_SYSTEM_TYPE = "BODY-FIXED ROTATING"
  EASTERNMOST_LONGITUDE = 1.043
  FIRST_STANDARD_PARALLEL = "N/A"
  LINE_FIRST_PIXEL = 1
  LINE_LAST_PIXEL = 12120
  LINE_PROJECTION_OFFSET = -37009.625
  MAP_PROJECTION_ROTATION = 0.0
  MAP_PROJECTION_TYPE = SINUSOIDAL
  MAP_RESOLUTION = 1185.42760773333
  MAP_SCALE = 0.05
  MAXIMUM_LATITUDE = -31.2214
  MINIMUM_LATITUDE = -41.4514
  POSITIVE_LONGITUDE_DIRECTION = EAST
  REFERENCE_LATITUDE = "N/A"
  REFERENCE_LONGITUDE = "N/A"
  SAMPLE_FIRST_PIXEL = 1
  SAMPLE_LAST_PIXEL = 1592
  SAMPLE_PROJECTION_OFFSET = 499.875
  SECOND_STANDARD_PARALLEL = "N/A"
  WESTERNMOST_LONGITUDE = -0.53
END_OBJECT = IMAGE_MAP_PROJECTION
/* The JPEG2000 image data file associated with this label. */
OBJECT = COMPRESSED_FILE
  FILE_NAME = "H4295_0000_BL3.JP2"
  RECORD_TYPE = UNDEFINED
  FILE_RECORDS = UNK
  ENCODING_TYPE = "JP2"
  INTERCHANGE_FORMAT = BINARY
  UNCOMPRESSED_FILE_NAME = "H4295_0000_BL3.IMG"
  REQUIRED_STORAGE_BYTES = "19314144"
  ^DESCRIPTION = "JP2INFO.TXT"
END_OBJECT = COMPRESSED_FILE
END
