PDS_VERSION_ID = PDS3
/* FILE DATA ELEMENTS */
RECORD_TYPE = STREAM
/* POINTERS TO DATA OBJECTS */
^COMPRESSED_FILE = "H4303_0000_BL3.JP2"
/* IDENTIFICATION DATA ELEMENTS */
DATA_SET_ID = "MEX-M-HRSC-5-REFDR-MAPPROJECTED-V3.0"
DATA_SET_NAME = "MARS EXPRESS HRSC MAP PROJECTED REFDR V3.0"
DETECTOR_ID = MEX_HRSC_BLUE
EVENT_TYPE = "MARS-REGIONAL-MAPPING-Vo-Te-Fl"
INSTRUMENT_HOST_ID = MEX
INSTRUMENT_HOST_NAME = "MARS EXPRESS"
INSTRUMENT_ID = HRSC
INSTRUMENT_NAME = "HIGH RESOLUTION STEREO CAMERA"
MISSION_NAME = "MARS EXPRESS"
MISSION_PHASE_NAME = ME_Phase_7
PROCESSING_LEVEL_ID = 3
PRODUCT_CREATION_TIME = 2016-04-21T11:52:47.000Z
PRODUCT_ID = "H4303_0000_BL3.JP2"
RELEASE_ID = 0049
REVISION_ID = 0000
/* QUALITY DATA ELEMENTS */
DATA_QUALITY_ID = 2
DATA_QUALITY_DESC = "Data calculated based on photogrammetrically improved orbit and attitude data"
/* TIME DATA ELEMENTS */
SPACECRAFT_CLOCK_START_COUNT = "1/0127057882.09065"
SPACECRAFT_CLOCK_STOP_COUNT = "1/0127058066.01054"
START_TIME = 2007-05-12T13:51:48.085Z
STOP_TIME = 2007-05-12T13:53:52.511Z
/* ORBITAL DATA ELEMENTS */
ASCENDING_NODE_LONGITUDE = 138.19
MAXIMUM_RESOLUTION = 94.6
FOOTPRINT_POINT_LATITUDE = (-33.9898,-33.9873,-33.9827,-33.9788, -33.8135,-33.6548,-33.4167,-33.258, -33.0993,-32.9406,-32.7819,-32.544, -32.3854,-32.2268,-32.0683,-31.9097, -31.7512,-31.5928,-31.276,-31.0386, -30.8748,-30.6291,-30.3838,-30.138, -29.9739,-29.7278,-29.5652,-29.3189, -29.1547,-28.9906,-28.8268,-28.6631, -28.4176,-28.254,-28.0849,-27.9155, -27.7464,-27.5773,-27.4084,-27.2394, -27.0705,-26.8172,-26.6485,-26.4799, -26.3112,-26.1425,-25.9701,-25.7732, -25.775,-25.7759,-25.7765,-25.777, -25.7766,-25.9532,-26.1266,-26.2953, -26.5484,-26.7173,-26.9709,-27.14, -27.3092,-27.4783,-27.6476,-27.8166, -27.986,-28.1558,-28.3228,-28.5686, -28.7324,-28.8963,-29.1424,-29.3886, -29.5526,-29.7169,-29.8808,-30.0445, -30.2082,-30.372,-30.5361,-30.7005, -30.8646,-31.109,-31.2673,-31.4258, -31.5843,-31.7429,-31.9015,-32.0602, -32.219,-32.3778,-32.6161,-32.7749, -32.9338,-33.0926,-33.2516,-33.4105, -33.5694,-33.7284,-33.8874,-33.9898)
FOOTPRINT_POINT_LONGITUDE = (294.748,294.495,294.13,293.869,293.795 ,293.799,293.804,293.807,293.81,293.813 ,293.816,293.821,293.824,293.827, 293.829,293.832,293.835,293.837,293.842 ,293.846,293.848,293.852,293.856,293.86 ,293.861,293.864,293.867,293.869,293.87 ,293.871,293.872,293.874,293.875, 293.876,293.878,293.879,293.88,293.881, 293.882,293.883,293.883,293.884,293.885 ,293.886,293.886,293.886,293.887, 293.967,294.235,294.421,294.609,294.785 ,294.986,295.132,295.13,295.128,295.125 ,295.123,295.12,295.117,295.115,295.113 ,295.111,295.109,295.107,295.104, 295.102,295.098,295.096,295.094,295.09, 295.086,295.083,295.081,295.079,295.078 ,295.077,295.075,295.074,295.071, 295.069,295.065,295.063,295.062,295.06, 295.057,295.055,295.053,295.05,295.048, 295.044,295.042,295.039,295.037,295.034 ,295.032,295.029,295.027,295.024, 294.748)
ORBIT_NUMBER = 4303
ORBITAL_ECCENTRICITY = 0.571
ORBITAL_INCLINATION = 86.68
ORBITAL_SEMIMAJOR_AXIS = 8586.42
PERIAPSIS_ALTITUDE = 293.95
PERIAPSIS_ARGUMENT_ANGLE = 320.14
PERIAPSIS_TIME = 2007-05-12T13:50:25.000Z
SPACECRAFT_ORIENTATION = (0.0,1.0,0.0)
^MEX_ORIENTATION_DESC = "MEX_ORIENTATION_DESC.TXT"
SPACECRAFT_POINTING_MODE = ACROSSTRACK
^MEX_POINTING_DESC = "MEX_POINTING_DESC.TXT"
RIGHT_ASCENSION = -1e+32
DECLINATION = -1e+32
OFFSET_ANGLE = -0.2
SPACECRAFT_SOLAR_DISTANCE = 2.07233e+08
TARGET_NAME = MARS
/* CAMERA DATA ELEMENTS */
DETECTOR_TEMPERATURE = 18.5744
FOCAL_PLANE_TEMPERATURE = 8.9911
INST_CMPRS_NAME = "DISCRETE COSINE TRANSFORMATION (DCT)"
INST_CMPRS_RATIO = 16.0557
INST_CMPRS_QUALITY = 0
INST_CMPRS_QUANTZ_TBL_ID = 0
INSTRUMENT_TEMPERATURE = 12.0496
LENS_TEMPERATURE = 9.3989
MACROPIXEL_SIZE = 8
MISSING_FRAMES = 0
PIXEL_SUBSAMPLING_FLAG = N
SIGNAL_CHAIN_ID = 2
/* RADIOMETRIC DATA ELEMENTS */
BANDWIDTH = 76.0
CENTER_FILTER_WAVELENGTH = 444.0
RADIANCE_OFFSET = 0.857925
RADIANCE_SCALING_FACTOR = 0.00138375
REFLECTANCE_SCALING_FACTOR = 6.10562e-05
MEX:REFLECTANCE_OFFSET = 0.0378548
/* IMAGE OBJECT DEFINITIONS */
OBJECT = IMAGE
  INTERCHANGE_FORMAT = BINARY
  LINES = 4873
  LINE_SAMPLES = 757
  SAMPLE_TYPE = UNSIGNED_INTEGER
  SAMPLE_BITS = 8
  BANDS = 1
  BAND_STORAGE_TYPE = BAND_SEQUENTIAL
  MAXIMUM = 255
  MEAN = 167.622
  MINIMUM = 1
  STANDARD_DEVIATION = 13.5699
END_OBJECT = IMAGE
/* MAP OBJECT DEFINITIONS */
OBJECT = IMAGE_MAP_PROJECTION
  ^DATA_SET_MAP_PROJECTION_CATALOG= "DSMAP.CAT"
  A_AXIS_RADIUS = 3396.0
  B_AXIS_RADIUS = 3396.0
  C_AXIS_RADIUS = 3396.0
  CENTER_LATITUDE = 0.0
  CENTER_LONGITUDE = 294.0
  COORDINATE_SYSTEM_NAME = PLANETOGRAPHIC
  COORDINATE_SYSTEM_TYPE = "BODY-FIXED ROTATING"
  EASTERNMOST_LONGITUDE = 295.132
  FIRST_STANDARD_PARALLEL = "N/A"
  LINE_FIRST_PIXEL = 1
  LINE_LAST_PIXEL = 4873
  LINE_PROJECTION_OFFSET = -15277.1875
  MAP_PROJECTION_ROTATION = 0.0
  MAP_PROJECTION_TYPE = SINUSOIDAL
  MAP_RESOLUTION = 592.713803866667
  MAP_SCALE = 0.1
  MAXIMUM_LATITUDE = -25.7732
  MINIMUM_LATITUDE = -33.9898
  POSITIVE_LONGITUDE_DIRECTION = EAST
  REFERENCE_LATITUDE = "N/A"
  REFERENCE_LONGITUDE = "N/A"
  SAMPLE_FIRST_PIXEL = 1
  SAMPLE_LAST_PIXEL = 757
  SAMPLE_PROJECTION_OFFSET = 120.0625
  SECOND_STANDARD_PARALLEL = "N/A"
  WESTERNMOST_LONGITUDE = 293.795
END_OBJECT = IMAGE_MAP_PROJECTION
/* The JPEG2000 image data file associated with this label. */
OBJECT = COMPRESSED_FILE
  FILE_NAME = "H4303_0000_BL3.JP2"
  RECORD_TYPE = UNDEFINED
  FILE_RECORDS = UNK
  ENCODING_TYPE = "JP2"
  INTERCHANGE_FORMAT = BINARY
  UNCOMPRESSED_FILE_NAME = "H4303_0000_BL3.IMG"
  REQUIRED_STORAGE_BYTES = "3707029"
  ^DESCRIPTION = "JP2INFO.TXT"
END_OBJECT = COMPRESSED_FILE
END
