PDS_VERSION_ID = PDS3
/* FILE DATA ELEMENTS */
RECORD_TYPE = STREAM
/* POINTERS TO DATA OBJECTS */
^COMPRESSED_FILE = "H4304_0000_GR3.JP2"
/* IDENTIFICATION DATA ELEMENTS */
DATA_SET_ID = "MEX-M-HRSC-5-REFDR-MAPPROJECTED-V3.0"
DATA_SET_NAME = "MARS EXPRESS HRSC MAP PROJECTED REFDR V3.0"
DETECTOR_ID = MEX_HRSC_GREEN
EVENT_TYPE = "MARS-REGIONAL-MAPPING-Vo-Te-Im"
INSTRUMENT_HOST_ID = MEX
INSTRUMENT_HOST_NAME = "MARS EXPRESS"
INSTRUMENT_ID = HRSC
INSTRUMENT_NAME = "HIGH RESOLUTION STEREO CAMERA"
MISSION_NAME = "MARS EXPRESS"
MISSION_PHASE_NAME = ME_Phase_7
PROCESSING_LEVEL_ID = 3
PRODUCT_CREATION_TIME = 2016-04-21T11:52:47.000Z
PRODUCT_ID = "H4304_0000_GR3.JP2"
RELEASE_ID = 0049
REVISION_ID = 0000
/* QUALITY DATA ELEMENTS */
DATA_QUALITY_ID = 2
DATA_QUALITY_DESC = "Data calculated based on photogrammetrically improved orbit and attitude data"
/* TIME DATA ELEMENTS */
SPACECRAFT_CLOCK_START_COUNT = "1/0127081646.09043"
SPACECRAFT_CLOCK_STOP_COUNT = "1/0127082032.00030"
START_TIME = 2007-05-12T20:28:15.557Z
STOP_TIME = 2007-05-12T20:33:32.726Z
/* ORBITAL DATA ELEMENTS */
ASCENDING_NODE_LONGITUDE = 138.16
MAXIMUM_RESOLUTION = 93.6
FOOTPRINT_POINT_LATITUDE = (-60.9837,-60.9466,-60.9192,-60.4167, -59.9126,-59.4074,-58.9008,-58.1691, -57.743,-57.102,-56.4595,-56.0306, -55.5998,-55.1692,-54.7379,-54.306, -53.8752,-53.456,-53.0361,-52.6158, -52.1949,-51.7841,-51.3765,-50.9683, -50.3558,-49.7484,-49.3528,-48.9568, -48.5605,-47.9646,-47.5677,-46.978, -46.5949,-46.212,-45.8284,-45.4445, -45.0605,-44.676,-44.2931,-43.715, -43.1386,-42.754,-42.3705,-42.0001, -41.6296,-41.259,-40.8879,-40.5171, -40.2346,-40.2441,-40.2581,-40.633, -41.0043,-41.3754,-41.7467,-42.1179, -42.4911,-43.07,-43.6478,-44.0332, -44.611,-44.9962,-45.3813,-45.7663, -46.1509,-46.5361,-46.92,-47.5078, -47.906,-48.3041,-48.7019,-49.0994, -49.4967,-49.8936,-50.3011,-50.7117, -51.12,-51.5303,-52.1453,-52.5678, -52.9902,-53.4123,-53.8338,-54.4801, -54.9141,-55.3474,-55.7802,-56.2128, -56.6454,-57.0763,-57.5069,-57.9368, -58.3662,-58.8668,-59.1223,-59.3775, -59.8868,-60.3951,-60.9025,-60.9837)
FOOTPRINT_POINT_LONGITUDE = (193.669,192.871,192.145,192.277, 192.406,192.529,192.648,192.807,192.894 ,193.021,193.142,193.217,193.297, 193.369,193.439,193.507,193.573,193.635 ,193.696,193.754,193.811,193.865, 193.916,193.966,194.036,194.104,194.147 ,194.19,194.231,194.294,194.332,194.386 ,194.419,194.449,194.481,194.512, 194.542,194.572,194.595,194.641,194.679 ,194.703,194.727,194.75,194.772,194.793 ,194.815,194.836,195.048,195.408, 196.054,196.162,196.15,196.138,196.126, 196.114,196.101,196.082,196.06,196.046, 196.024,196.009,195.993,195.978,195.961 ,195.946,195.928,195.902,195.884, 195.865,195.846,195.826,195.806,195.785 ,195.763,195.741,195.714,195.691, 195.656,195.63,195.603,195.575,195.547, 195.501,195.469,195.436,195.401,195.367 ,195.333,195.296,195.258,195.219,195.18 ,195.132,195.107,195.082,195.029, 194.973,194.917,193.669)
ORBIT_NUMBER = 4304
ORBITAL_ECCENTRICITY = 0.571
ORBITAL_INCLINATION = 86.7
ORBITAL_SEMIMAJOR_AXIS = 8582.82
PERIAPSIS_ALTITUDE = 293.88
PERIAPSIS_ARGUMENT_ANGLE = 319.95
PERIAPSIS_TIME = 2007-05-12T20:33:33.000Z
SPACECRAFT_ORIENTATION = (0.0,1.0,0.0)
^MEX_ORIENTATION_DESC = "MEX_ORIENTATION_DESC.TXT"
SPACECRAFT_POINTING_MODE = ACROSSTRACK
^MEX_POINTING_DESC = "MEX_POINTING_DESC.TXT"
RIGHT_ASCENSION = -1e+32
DECLINATION = -1e+32
OFFSET_ANGLE = 0.15
SPACECRAFT_SOLAR_DISTANCE = 2.07219e+08
TARGET_NAME = MARS
/* CAMERA DATA ELEMENTS */
DETECTOR_TEMPERATURE = 18.5744
FOCAL_PLANE_TEMPERATURE = 9.195
INST_CMPRS_NAME = "DISCRETE COSINE TRANSFORMATION (DCT)"
INST_CMPRS_RATIO = 19.7569
INST_CMPRS_QUALITY = 0
INST_CMPRS_QUANTZ_TBL_ID = 0
INSTRUMENT_TEMPERATURE = 11.4379
LENS_TEMPERATURE = 9.8067
MACROPIXEL_SIZE = 8
MISSING_FRAMES = 0
PIXEL_SUBSAMPLING_FLAG = N
SIGNAL_CHAIN_ID = 2
/* RADIOMETRIC DATA ELEMENTS */
BANDWIDTH = 88.0
CENTER_FILTER_WAVELENGTH = 538.0
RADIANCE_OFFSET = 2.08261
RADIANCE_SCALING_FACTOR = 0.00393771
REFLECTANCE_SCALING_FACTOR = 0.000145577
MEX:REFLECTANCE_OFFSET = 0.0769939
/* IMAGE OBJECT DEFINITIONS */
OBJECT = IMAGE
  INTERCHANGE_FORMAT = BINARY
  LINES = 12342
  LINE_SAMPLES = 1364
  SAMPLE_TYPE = UNSIGNED_INTEGER
  SAMPLE_BITS = 8
  BANDS = 1
  BAND_STORAGE_TYPE = BAND_SEQUENTIAL
  MAXIMUM = 255
  MEAN = 129.951
  MINIMUM = 1
  STANDARD_DEVIATION = 43.2114
END_OBJECT = IMAGE
/* MAP OBJECT DEFINITIONS */
OBJECT = IMAGE_MAP_PROJECTION
  ^DATA_SET_MAP_PROJECTION_CATALOG= "DSMAP.CAT"
  A_AXIS_RADIUS = 3396.0
  B_AXIS_RADIUS = 3396.0
  C_AXIS_RADIUS = 3396.0
  CENTER_LATITUDE = 0.0
  CENTER_LONGITUDE = 195.0
  COORDINATE_SYSTEM_NAME = PLANETOGRAPHIC
  COORDINATE_SYSTEM_TYPE = "BODY-FIXED ROTATING"
  EASTERNMOST_LONGITUDE = 196.162
  FIRST_STANDARD_PARALLEL = "N/A"
  LINE_FIRST_PIXEL = 1
  LINE_LAST_PIXEL = 12342
  LINE_PROJECTION_OFFSET = -23848.8125
  MAP_PROJECTION_ROTATION = 0.0
  MAP_PROJECTION_TYPE = SINUSOIDAL
  MAP_RESOLUTION = 592.713803866667
  MAP_SCALE = 0.1
  MAXIMUM_LATITUDE = -40.2346
  MINIMUM_LATITUDE = -60.9837
  POSITIVE_LONGITUDE_DIRECTION = EAST
  REFERENCE_LATITUDE = "N/A"
  REFERENCE_LONGITUDE = "N/A"
  SAMPLE_FIRST_PIXEL = 1
  SAMPLE_LAST_PIXEL = 1364
  SAMPLE_PROJECTION_OFFSET = 826.6875
  SECOND_STANDARD_PARALLEL = "N/A"
  WESTERNMOST_LONGITUDE = 192.145
END_OBJECT = IMAGE_MAP_PROJECTION
/* The JPEG2000 image data file associated with this label. */
OBJECT = COMPRESSED_FILE
  FILE_NAME = "H4304_0000_GR3.JP2"
  RECORD_TYPE = UNDEFINED
  FILE_RECORDS = UNK
  ENCODING_TYPE = "JP2"
  INTERCHANGE_FORMAT = BINARY
  UNCOMPRESSED_FILE_NAME = "H4304_0000_GR3.IMG"
  REQUIRED_STORAGE_BYTES = "16853584"
  ^DESCRIPTION = "JP2INFO.TXT"
END_OBJECT = COMPRESSED_FILE
END
