PDS_VERSION_ID = PDS3
/* FILE DATA ELEMENTS */
RECORD_TYPE = STREAM
/* POINTERS TO DATA OBJECTS */
^COMPRESSED_FILE = "H4304_0000_P13.JP2"
/* IDENTIFICATION DATA ELEMENTS */
DATA_SET_ID = "MEX-M-HRSC-5-REFDR-MAPPROJECTED-V3.0"
DATA_SET_NAME = "MARS EXPRESS HRSC MAP PROJECTED REFDR V3.0"
DETECTOR_ID = MEX_HRSC_P1
EVENT_TYPE = "MARS-REGIONAL-MAPPING-Vo-Te-Im"
INSTRUMENT_HOST_ID = MEX
INSTRUMENT_HOST_NAME = "MARS EXPRESS"
INSTRUMENT_ID = HRSC
INSTRUMENT_NAME = "HIGH RESOLUTION STEREO CAMERA"
MISSION_NAME = "MARS EXPRESS"
MISSION_PHASE_NAME = ME_Phase_7
PROCESSING_LEVEL_ID = 3
PRODUCT_CREATION_TIME = 2016-04-21T11:52:47.000Z
PRODUCT_ID = "H4304_0000_P13.JP2"
RELEASE_ID = 0049
REVISION_ID = 0000
/* QUALITY DATA ELEMENTS */
DATA_QUALITY_ID = 2
DATA_QUALITY_DESC = "Data calculated based on photogrammetrically improved orbit and attitude data"
/* TIME DATA ELEMENTS */
SPACECRAFT_CLOCK_START_COUNT = "1/0127081646.09043"
SPACECRAFT_CLOCK_STOP_COUNT = "1/0127082032.00030"
START_TIME = 2007-05-12T20:28:32.489Z
STOP_TIME = 2007-05-12T20:33:45.257Z
/* ORBITAL DATA ELEMENTS */
ASCENDING_NODE_LONGITUDE = 138.16
MAXIMUM_RESOLUTION = 48
FOOTPRINT_POINT_LATITUDE = (-60.967,-60.943,-60.9141,-60.9251, -60.6648,-60.4038,-60.1429,-59.8791, -59.6173,-59.3563,-58.9156,-58.4769, -57.8185,-57.1573,-56.7168,-56.0571, -55.389,-54.9466,-54.5156,-54.0863, -53.6563,-53.2259,-52.5945,-52.1776, -51.7602,-51.3436,-50.7208,-50.3202, -49.9168,-49.5132,-49.1093,-48.705, -48.0989,-47.5064,-47.1162,-46.7275, -46.3402,-45.9508,-45.3662,-44.9764, -44.3971,-44.0037,-43.4188,-43.0376, -42.6631,-42.1016,-41.7276,-41.3537, -40.9788,-40.6019,-40.2329,-40.2451, -40.2524,-40.2591,-40.6334,-41.0075, -41.5688,-41.9432,-42.3181,-42.8795, -43.2561,-43.6462,-44.0365,-44.6217, -45.0123,-45.5983,-46.1836,-46.9653, -47.5525,-47.9431,-48.3445,-48.7501, -49.1553,-49.7632,-50.3707,-50.7753, -51.1836,-51.6048,-52.0308,-52.6559, -53.0742,-53.5067,-54.1547,-54.5855, -55.018,-55.462,-55.9069,-56.3529, -57.0205,-57.4641,-57.9075,-58.3507, -59.0158,-59.4587,-59.7219,-59.985, -60.2473,-60.5121,-60.7737,-60.967)
FOOTPRINT_POINT_LONGITUDE = (194.311,193.677,192.993,192.156, 192.224,192.291,192.356,192.424,192.488 ,192.549,192.652,192.747,192.884, 193.015,193.098,193.214,193.334,193.406 ,193.475,193.541,193.605,193.668, 193.755,193.811,193.866,193.917,193.993 ,194.037,194.082,194.126,194.169, 194.211,194.271,194.331,194.367,194.401 ,194.432,194.464,194.51,194.54,194.579, 194.61,194.651,194.676,194.7,194.734, 194.756,194.777,194.799,194.822,194.838 ,195.438,195.762,196.176,196.165, 196.153,196.134,196.121,196.108,196.087 ,196.074,196.06,196.046,196.023,196.007 ,195.983,195.958,195.923,195.897, 195.878,195.859,195.839,195.818,195.786 ,195.753,195.73,195.703,195.679,195.657 ,195.615,195.588,195.559,195.513, 195.481,195.448,195.413,195.377,195.341 ,195.285,195.245,195.204,195.162, 195.097,195.052,195.024,194.995,194.966 ,194.937,194.906,194.311)
ORBIT_NUMBER = 4304
ORBITAL_ECCENTRICITY = 0.571
ORBITAL_INCLINATION = 86.7
ORBITAL_SEMIMAJOR_AXIS = 8582.82
PERIAPSIS_ALTITUDE = 293.88
PERIAPSIS_ARGUMENT_ANGLE = 319.95
PERIAPSIS_TIME = 2007-05-12T20:33:33.000Z
SPACECRAFT_ORIENTATION = (0.0,1.0,0.0)
^MEX_ORIENTATION_DESC = "MEX_ORIENTATION_DESC.TXT"
SPACECRAFT_POINTING_MODE = ACROSSTRACK
^MEX_POINTING_DESC = "MEX_POINTING_DESC.TXT"
RIGHT_ASCENSION = -1e+32
DECLINATION = -1e+32
OFFSET_ANGLE = 0.15
SPACECRAFT_SOLAR_DISTANCE = 2.07219e+08
TARGET_NAME = MARS
/* CAMERA DATA ELEMENTS */
DETECTOR_TEMPERATURE = 18.5744
FOCAL_PLANE_TEMPERATURE = 9.195
INST_CMPRS_NAME = "DISCRETE COSINE TRANSFORMATION (DCT)"
INST_CMPRS_RATIO = 13.3436
INST_CMPRS_QUALITY = 0
INST_CMPRS_QUANTZ_TBL_ID = 0
INSTRUMENT_TEMPERATURE = 11.4379
LENS_TEMPERATURE = 9.8067
MACROPIXEL_SIZE = 4
MISSING_FRAMES = 0
PIXEL_SUBSAMPLING_FLAG = N
SIGNAL_CHAIN_ID = 3
/* RADIOMETRIC DATA ELEMENTS */
BANDWIDTH = 174.0
CENTER_FILTER_WAVELENGTH = 675.0
RADIANCE_OFFSET = 5.76143
RADIANCE_SCALING_FACTOR = 0.0158292
REFLECTANCE_SCALING_FACTOR = 0.000365599
MEX:REFLECTANCE_OFFSET = 0.133069
/* IMAGE OBJECT DEFINITIONS */
OBJECT = IMAGE
  INTERCHANGE_FORMAT = BINARY
  LINES = 24684
  LINE_SAMPLES = 2727
  SAMPLE_TYPE = UNSIGNED_INTEGER
  SAMPLE_BITS = 8
  BANDS = 1
  BAND_STORAGE_TYPE = BAND_SEQUENTIAL
  MAXIMUM = 255
  MEAN = 117.049
  MINIMUM = 1
  STANDARD_DEVIATION = 39.7911
END_OBJECT = IMAGE
/* MAP OBJECT DEFINITIONS */
OBJECT = IMAGE_MAP_PROJECTION
  ^DATA_SET_MAP_PROJECTION_CATALOG= "DSMAP.CAT"
  A_AXIS_RADIUS = 3396.0
  B_AXIS_RADIUS = 3396.0
  C_AXIS_RADIUS = 3396.0
  CENTER_LATITUDE = 0.0
  CENTER_LONGITUDE = 195.0
  COORDINATE_SYSTEM_NAME = PLANETOGRAPHIC
  COORDINATE_SYSTEM_TYPE = "BODY-FIXED ROTATING"
  EASTERNMOST_LONGITUDE = 196.176
  FIRST_STANDARD_PARALLEL = "N/A"
  LINE_FIRST_PIXEL = 1
  LINE_LAST_PIXEL = 24684
  LINE_PROJECTION_OFFSET = -47697.125
  MAP_PROJECTION_ROTATION = 0.0
  MAP_PROJECTION_TYPE = SINUSOIDAL
  MAP_RESOLUTION = 1185.42760773333
  MAP_SCALE = 0.05
  MAXIMUM_LATITUDE = -40.2329
  MINIMUM_LATITUDE = -60.967
  POSITIVE_LONGITUDE_DIRECTION = EAST
  REFERENCE_LATITUDE = "N/A"
  REFERENCE_LONGITUDE = "N/A"
  SAMPLE_FIRST_PIXEL = 1
  SAMPLE_LAST_PIXEL = 2727
  SAMPLE_PROJECTION_OFFSET = 1653.875
  SECOND_STANDARD_PARALLEL = "N/A"
  WESTERNMOST_LONGITUDE = 192.156
END_OBJECT = IMAGE_MAP_PROJECTION
/* The JPEG2000 image data file associated with this label. */
OBJECT = COMPRESSED_FILE
  FILE_NAME = "H4304_0000_P13.JP2"
  RECORD_TYPE = UNDEFINED
  FILE_RECORDS = UNK
  ENCODING_TYPE = "JP2"
  INTERCHANGE_FORMAT = BINARY
  UNCOMPRESSED_FILE_NAME = "H4304_0000_P13.IMG"
  REQUIRED_STORAGE_BYTES = "67335084"
  ^DESCRIPTION = "JP2INFO.TXT"
END_OBJECT = COMPRESSED_FILE
END
