PDS_VERSION_ID = PDS3
/* FILE DATA ELEMENTS */
RECORD_TYPE = STREAM
/* POINTERS TO DATA OBJECTS */
^COMPRESSED_FILE = "H4306_0000_P23.JP2"
/* IDENTIFICATION DATA ELEMENTS */
DATA_SET_ID = "MEX-M-HRSC-5-REFDR-MAPPROJECTED-V3.0"
DATA_SET_NAME = "MARS EXPRESS HRSC MAP PROJECTED REFDR V3.0"
DETECTOR_ID = MEX_HRSC_P2
EVENT_TYPE = "MARS-REGIONAL-MAPPING-Vo-Im"
INSTRUMENT_HOST_ID = MEX
INSTRUMENT_HOST_NAME = "MARS EXPRESS"
INSTRUMENT_ID = HRSC
INSTRUMENT_NAME = "HIGH RESOLUTION STEREO CAMERA"
MISSION_NAME = "MARS EXPRESS"
MISSION_PHASE_NAME = ME_Phase_7
PROCESSING_LEVEL_ID = 3
PRODUCT_CREATION_TIME = 2016-04-21T11:52:47.000Z
PRODUCT_ID = "H4306_0000_P23.JP2"
RELEASE_ID = 0049
REVISION_ID = 0000
/* QUALITY DATA ELEMENTS */
DATA_QUALITY_ID = 2
DATA_QUALITY_DESC = "Data calculated based on photogrammetrically improved orbit and attitude data"
/* TIME DATA ELEMENTS */
SPACECRAFT_CLOCK_START_COUNT = "1/0127130350.09043"
SPACECRAFT_CLOCK_STOP_COUNT = "1/0127130620.18027"
START_TIME = 2007-05-13T09:59:23.441Z
STOP_TIME = 2007-05-13T10:02:53.693Z
/* ORBITAL DATA ELEMENTS */
ASCENDING_NODE_LONGITUDE = 138.13
MAXIMUM_RESOLUTION = 44.3
FOOTPRINT_POINT_LATITUDE = (-41.2989,-41.2943,-41.2857,-41.2729, -40.9218,-40.6041,-40.3916,-40.0723, -39.8587,-39.6459,-39.4343,-39.2213, -39.0083,-38.7948,-38.5804,-38.3671, -38.1557,-37.9424,-37.729,-37.4085, -37.0873,-36.8727,-36.5528,-36.3396, -36.1258,-35.9119,-35.6984,-35.4847, -35.2674,-35.0445,-34.822,-34.5999, -34.2664,-34.0439,-33.8212,-33.599, -33.3768,-33.1542,-32.9315,-32.5978, -32.375,-32.1523,-31.9296,-31.7069, -31.4842,-31.1498,-27.9932,-27.7602, -27.5204,-27.2812,-27.2725,-27.277, -27.38,-27.2793,-27.5184,-27.7576, -27.9915,-31.1518,-31.375,-31.5985, -31.8212,-32.1587,-32.3818,-32.6028, -32.8235,-33.0466,-33.2695,-33.4938, -33.7174,-33.9406,-34.2756,-34.6104, -34.8295,-35.0525,-35.2754,-35.4976, -35.7122,-36.029,-36.2434,-36.4578, -36.6726,-36.8865,-37.0998,-37.3138, -37.6345,-37.8485,-38.0628,-38.2711, -38.4843,-38.6978,-38.9134,-39.2373, -39.4503,-39.7683,-40.0878,-40.4083, -40.623,-40.9414,-41.1539,-41.2989)
FOOTPRINT_POINT_LONGITUDE = (359.631,359.396,359.023,358.564, 358.451,358.468,358.479,358.494,358.504 ,358.514,358.525,358.534,358.544, 358.553,358.562,358.571,358.58,358.589, 358.598,358.61,358.621,358.629,358.64, 358.648,358.655,358.662,358.67,358.676, 358.683,358.689,358.696,358.702,358.712 ,358.717,358.723,358.729,358.735,358.74 ,358.745,358.753,358.757,358.762, 358.766,358.771,358.775,358.781,358.824 ,358.826,358.827,358.829,359.258, 359.642,359.913,360.076,360.072,360.069 ,360.065,360.017,360.014,360.01,360.006 ,359.998,359.994,359.992,359.989, 359.985,359.981,359.976,359.971,359.967 ,359.96,359.953,359.89,359.885,359.88, 359.876,359.871,359.926,359.921,359.917 ,359.912,359.907,359.903,359.898, 359.891,359.886,359.88,359.879,359.874, 359.869,359.862,359.852,359.847,359.84, 359.832,359.823,359.816,359.808,359.802 ,359.631)
ORBIT_NUMBER = 4306
ORBITAL_ECCENTRICITY = 0.571
ORBITAL_INCLINATION = 86.69
ORBITAL_SEMIMAJOR_AXIS = 8584.51
PERIAPSIS_ALTITUDE = 293.95
PERIAPSIS_ARGUMENT_ANGLE = 319.59
PERIAPSIS_TIME = 2007-05-13T09:59:55.000Z
SPACECRAFT_ORIENTATION = (0.0,1.0,0.0)
^MEX_ORIENTATION_DESC = "MEX_ORIENTATION_DESC.TXT"
SPACECRAFT_POINTING_MODE = NADIR
^MEX_POINTING_DESC = "MEX_POINTING_DESC.TXT"
RIGHT_ASCENSION = -1e+32
DECLINATION = -1e+32
OFFSET_ANGLE = -1e+32
SPACECRAFT_SOLAR_DISTANCE = 2.07192e+08
TARGET_NAME = MARS
/* CAMERA DATA ELEMENTS */
DETECTOR_TEMPERATURE = 18.3705
FOCAL_PLANE_TEMPERATURE = 10.2145
INST_CMPRS_NAME = "DISCRETE COSINE TRANSFORMATION (DCT)"
INST_CMPRS_RATIO = 9.74626
INST_CMPRS_QUALITY = 0
INST_CMPRS_QUANTZ_TBL_ID = 0
INSTRUMENT_TEMPERATURE = 11.4379
LENS_TEMPERATURE = 9.6028
MACROPIXEL_SIZE = 4
MISSING_FRAMES = 481
PIXEL_SUBSAMPLING_FLAG = N
SIGNAL_CHAIN_ID = 3
/* RADIOMETRIC DATA ELEMENTS */
BANDWIDTH = 177.0
CENTER_FILTER_WAVELENGTH = 676.5
RADIANCE_OFFSET = 6.86589
RADIANCE_SCALING_FACTOR = 0.0103297
REFLECTANCE_SCALING_FACTOR = 0.000235122
MEX:REFLECTANCE_OFFSET = 0.156279
/* IMAGE OBJECT DEFINITIONS */
OBJECT = IMAGE
  INTERCHANGE_FORMAT = BINARY
  LINES = 16612
  LINE_SAMPLES = 1707
  SAMPLE_TYPE = UNSIGNED_INTEGER
  SAMPLE_BITS = 8
  BANDS = 1
  BAND_STORAGE_TYPE = BAND_SEQUENTIAL
  MAXIMUM = 255
  MEAN = 138.225
  MINIMUM = 1
  STANDARD_DEVIATION = 19.9431
END_OBJECT = IMAGE
/* MAP OBJECT DEFINITIONS */
OBJECT = IMAGE_MAP_PROJECTION
  ^DATA_SET_MAP_PROJECTION_CATALOG= "DSMAP.CAT"
  A_AXIS_RADIUS = 3396.0
  B_AXIS_RADIUS = 3396.0
  C_AXIS_RADIUS = 3396.0
  CENTER_LATITUDE = 0.0
  CENTER_LONGITUDE = 359.0
  COORDINATE_SYSTEM_NAME = PLANETOGRAPHIC
  COORDINATE_SYSTEM_TYPE = "BODY-FIXED ROTATING"
  EASTERNMOST_LONGITUDE = 0.076
  FIRST_STANDARD_PARALLEL = "N/A"
  LINE_FIRST_PIXEL = 1
  LINE_LAST_PIXEL = 16612
  LINE_PROJECTION_OFFSET = -32316.375
  MAP_PROJECTION_ROTATION = 0.0
  MAP_PROJECTION_TYPE = SINUSOIDAL
  MAP_RESOLUTION = 1185.42760773333
  MAP_SCALE = 0.05
  MAXIMUM_LATITUDE = -27.2725
  MINIMUM_LATITUDE = -41.2989
  POSITIVE_LONGITUDE_DIRECTION = EAST
  REFERENCE_LATITUDE = "N/A"
  REFERENCE_LONGITUDE = "N/A"
  SAMPLE_FIRST_PIXEL = 1
  SAMPLE_LAST_PIXEL = 1707
  SAMPLE_PROJECTION_OFFSET = 526.625
  SECOND_STANDARD_PARALLEL = "N/A"
  WESTERNMOST_LONGITUDE = -1.549
END_OBJECT = IMAGE_MAP_PROJECTION
/* The JPEG2000 image data file associated with this label. */
OBJECT = COMPRESSED_FILE
  FILE_NAME = "H4306_0000_P23.JP2"
  RECORD_TYPE = UNDEFINED
  FILE_RECORDS = UNK
  ENCODING_TYPE = "JP2"
  INTERCHANGE_FORMAT = BINARY
  UNCOMPRESSED_FILE_NAME = "H4306_0000_P23.IMG"
  REQUIRED_STORAGE_BYTES = "28377168"
  ^DESCRIPTION = "JP2INFO.TXT"
END_OBJECT = COMPRESSED_FILE
END
