PDS_VERSION_ID = PDS3
/* FILE DATA ELEMENTS */
RECORD_TYPE = STREAM
/* POINTERS TO DATA OBJECTS */
^COMPRESSED_FILE = "H4308_0000_RE3.JP2"
/* IDENTIFICATION DATA ELEMENTS */
DATA_SET_ID = "MEX-M-HRSC-5-REFDR-MAPPROJECTED-V3.0"
DATA_SET_NAME = "MARS EXPRESS HRSC MAP PROJECTED REFDR V3.0"
DETECTOR_ID = MEX_HRSC_RED
EVENT_TYPE = "MARS-REGIONAL-MAPPING-Vo-Im-Fl"
INSTRUMENT_HOST_ID = MEX
INSTRUMENT_HOST_NAME = "MARS EXPRESS"
INSTRUMENT_ID = HRSC
INSTRUMENT_NAME = "HIGH RESOLUTION STEREO CAMERA"
MISSION_NAME = "MARS EXPRESS"
MISSION_PHASE_NAME = ME_Phase_7
PROCESSING_LEVEL_ID = 3
PRODUCT_CREATION_TIME = 2016-04-21T11:52:47.000Z
PRODUCT_ID = "H4308_0000_RE3.JP2"
RELEASE_ID = 0049
REVISION_ID = 0000
/* QUALITY DATA ELEMENTS */
DATA_QUALITY_ID = 2
DATA_QUALITY_DESC = "Data calculated based on photogrammetrically improved orbit and attitude data"
/* TIME DATA ELEMENTS */
SPACECRAFT_CLOCK_START_COUNT = "1/0127178688.08243"
SPACECRAFT_CLOCK_STOP_COUNT = "1/0127178927.22947"
START_TIME = 2007-05-13T23:24:56.955Z
STOP_TIME = 2007-05-13T23:27:59.873Z
/* ORBITAL DATA ELEMENTS */
ASCENDING_NODE_LONGITUDE = 138.08
MAXIMUM_RESOLUTION = 97.7
FOOTPRINT_POINT_LATITUDE = (-44.6842,-44.6762,-44.6628,-44.6517, -44.4781,-44.2382,-43.9976,-43.7575, -43.5172,-43.2764,-43.0348,-42.673, -42.4313,-42.1892,-41.8264,-41.4627, -41.2202,-40.8645,-40.6303,-40.3969, -40.1628,-39.8115,-39.5765,-39.2224, -38.9849,-38.751,-38.5151,-38.2796, -37.9265,-37.6905,-37.3364,-37.1004, -36.864,-36.6285,-36.3921,-36.1562, -35.9178,-35.6829,-35.4445,-35.1986, -34.9525,-34.7069,-34.4584,-34.2156, -33.9704,-33.7245,-33.4783,-33.233, -32.865,-32.4996,-32.5057,-32.5096, -32.5126,-32.5166,-32.6436,-32.8897, -33.2539,-33.4987,-33.8689,-34.1198, -34.3652,-34.6116,-34.8575,-35.1036, -35.3503,-35.5932,-35.8301,-36.0672, -36.3034,-36.6578,-37.013,-37.3672, -37.6034,-37.8398,-38.0748,-38.312, -38.5483,-38.7846,-39.0212,-39.2575, -39.4938,-39.848,-40.084,-40.4361, -40.7878,-41.0224,-41.2623,-41.5065, -41.8731,-42.1178,-42.3572,-42.592, -42.8332,-43.0751,-43.3168,-43.5593, -43.8064,-44.1651,-44.4048,-44.6842)
FOOTPRINT_POINT_LONGITUDE = (163.104,162.742,162.247,161.9,161.669, 161.686,161.702,161.719,161.735,161.751 ,161.766,161.789,161.803,161.818, 161.839,161.859,161.873,161.892,161.904 ,161.916,161.928,161.945,161.956, 161.971,161.98,161.991,162.001,162.011, 162.025,162.034,162.047,162.056,162.065 ,162.073,162.081,162.089,162.096, 162.104,162.112,162.119,162.126,162.133 ,162.139,162.147,162.154,162.16,162.166 ,162.172,162.181,162.19,162.501,162.721 ,162.93,163.232,163.423,163.418,163.414 ,163.41,163.403,163.396,163.392,163.387 ,163.382,163.378,163.372,163.367, 163.362,163.357,163.352,163.345,163.337 ,163.329,163.324,163.318,163.313, 163.307,163.301,163.295,163.288,163.282 ,163.276,163.266,163.259,163.25,163.241 ,163.234,163.228,163.22,163.209,163.201 ,163.195,163.192,163.185,163.178,163.17 ,163.162,163.152,163.142,163.135, 163.104)
ORBIT_NUMBER = 4308
ORBITAL_ECCENTRICITY = 0.571
ORBITAL_INCLINATION = 86.69
ORBITAL_SEMIMAJOR_AXIS = 8583.0
PERIAPSIS_ALTITUDE = 294.29
PERIAPSIS_ARGUMENT_ANGLE = 319.27
PERIAPSIS_TIME = 2007-05-13T23:26:19.000Z
SPACECRAFT_ORIENTATION = (0.0,1.0,0.0)
^MEX_ORIENTATION_DESC = "MEX_ORIENTATION_DESC.TXT"
SPACECRAFT_POINTING_MODE = NADIR
^MEX_POINTING_DESC = "MEX_POINTING_DESC.TXT"
RIGHT_ASCENSION = -1e+32
DECLINATION = -1e+32
OFFSET_ANGLE = -1e+32
SPACECRAFT_SOLAR_DISTANCE = 2.07166e+08
TARGET_NAME = MARS
/* CAMERA DATA ELEMENTS */
DETECTOR_TEMPERATURE = 18.7783
FOCAL_PLANE_TEMPERATURE = 8.7872
INST_CMPRS_NAME = "DISCRETE COSINE TRANSFORMATION (DCT)"
INST_CMPRS_RATIO = 24.1989
INST_CMPRS_QUALITY = 0
INST_CMPRS_QUANTZ_TBL_ID = 0
INSTRUMENT_TEMPERATURE = 11.6418
LENS_TEMPERATURE = 10.4184
MACROPIXEL_SIZE = 8
MISSING_FRAMES = 0
PIXEL_SUBSAMPLING_FLAG = N
SIGNAL_CHAIN_ID = 2
/* RADIOMETRIC DATA ELEMENTS */
BANDWIDTH = 48.0
CENTER_FILTER_WAVELENGTH = 748.0
RADIANCE_OFFSET = 1.67425
RADIANCE_SCALING_FACTOR = 0.00532687
REFLECTANCE_SCALING_FACTOR = 0.000521716
MEX:REFLECTANCE_OFFSET = 0.163977
/* IMAGE OBJECT DEFINITIONS */
OBJECT = IMAGE
  INTERCHANGE_FORMAT = BINARY
  LINES = 7202
  LINE_SAMPLES = 812
  SAMPLE_TYPE = UNSIGNED_INTEGER
  SAMPLE_BITS = 8
  BANDS = 1
  BAND_STORAGE_TYPE = BAND_SEQUENTIAL
  MAXIMUM = 255
  MEAN = 128.721
  MINIMUM = 1
  STANDARD_DEVIATION = 58.4994
END_OBJECT = IMAGE
/* MAP OBJECT DEFINITIONS */
OBJECT = IMAGE_MAP_PROJECTION
  ^DATA_SET_MAP_PROJECTION_CATALOG= "DSMAP.CAT"
  A_AXIS_RADIUS = 3396.0
  B_AXIS_RADIUS = 3396.0
  C_AXIS_RADIUS = 3396.0
  CENTER_LATITUDE = 0.0
  CENTER_LONGITUDE = 163.0
  COORDINATE_SYSTEM_NAME = PLANETOGRAPHIC
  COORDINATE_SYSTEM_TYPE = "BODY-FIXED ROTATING"
  EASTERNMOST_LONGITUDE = 163.423
  FIRST_STANDARD_PARALLEL = "N/A"
  LINE_FIRST_PIXEL = 1
  LINE_LAST_PIXEL = 7202
  LINE_PROJECTION_OFFSET = -19260.1875
  MAP_PROJECTION_ROTATION = 0.0
  MAP_PROJECTION_TYPE = SINUSOIDAL
  MAP_RESOLUTION = 592.713803866667
  MAP_SCALE = 0.1
  MAXIMUM_LATITUDE = -32.4996
  MINIMUM_LATITUDE = -44.6842
  POSITIVE_LONGITUDE_DIRECTION = EAST
  REFERENCE_LATITUDE = "N/A"
  REFERENCE_LONGITUDE = "N/A"
  SAMPLE_FIRST_PIXEL = 1
  SAMPLE_LAST_PIXEL = 812
  SAMPLE_PROJECTION_OFFSET = 578.6875
  SECOND_STANDARD_PARALLEL = "N/A"
  WESTERNMOST_LONGITUDE = 161.669
END_OBJECT = IMAGE_MAP_PROJECTION
/* The JPEG2000 image data file associated with this label. */
OBJECT = COMPRESSED_FILE
  FILE_NAME = "H4308_0000_RE3.JP2"
  RECORD_TYPE = UNDEFINED
  FILE_RECORDS = UNK
  ENCODING_TYPE = "JP2"
  INTERCHANGE_FORMAT = BINARY
  UNCOMPRESSED_FILE_NAME = "H4308_0000_RE3.IMG"
  REQUIRED_STORAGE_BYTES = "5865888"
  ^DESCRIPTION = "JP2INFO.TXT"
END_OBJECT = COMPRESSED_FILE
END
