PDS_VERSION_ID = PDS3
/* FILE DATA ELEMENTS */
RECORD_TYPE = STREAM
/* POINTERS TO DATA OBJECTS */
^COMPRESSED_FILE = "H4310_0006_SR3.JP2"
/* IDENTIFICATION DATA ELEMENTS */
DATA_SET_ID = "MEX-M-HRSC-5-REFDR-MAPPROJECTED-V3.0"
DATA_SET_NAME = "MARS EXPRESS HRSC MAP PROJECTED REFDR V3.0"
DETECTOR_ID = MEX_HRSC_SRC
EVENT_TYPE = "MARS-LOCAL-STEREO-Fl-Lc-Ot"
INSTRUMENT_HOST_ID = MEX
INSTRUMENT_HOST_NAME = "MARS EXPRESS"
INSTRUMENT_ID = HRSC
INSTRUMENT_NAME = "HIGH RESOLUTION STEREO CAMERA"
MISSION_NAME = "MARS EXPRESS"
MISSION_PHASE_NAME = ME_Phase_7
PROCESSING_LEVEL_ID = 3
PRODUCT_CREATION_TIME = 2016-04-21T11:52:47.000Z
PRODUCT_ID = "H4310_0006_SR3.JP2"
RELEASE_ID = 0049
REVISION_ID = 0000
/* QUALITY DATA ELEMENTS */
DATA_QUALITY_ID = 1
DATA_QUALITY_DESC = "Data calculated based on original SPICE kernels"
/* TIME DATA ELEMENTS */
SPACECRAFT_CLOCK_START_COUNT = "1/0127227316.08229"
SPACECRAFT_CLOCK_STOP_COUNT = "1/0127227482.17878"
IMAGE_TIME = 2007-05-14T12:56:56.990Z
START_TIME = 2007-05-14T12:56:56.987Z
STOP_TIME = 2007-05-14T12:56:56.992Z
/* ORBITAL DATA ELEMENTS */
ASCENDING_NODE_LONGITUDE = 138.05
MAXIMUM_RESOLUTION = 3.195
FOOTPRINT_POINT_LATITUDE = (-23.9462,-23.9447,-23.9425,-23.941, -23.9389,-23.9369,-23.9354,-23.9321, -23.9296,-23.9261,-23.9238,-23.9224, -23.9204,-23.9188,-23.917,-23.9147, -23.9129,-23.911,-23.908,-23.9063, -23.9031,-23.901,-23.8983,-23.8963, -23.8925,-23.8921,-23.8921,-23.8921, -23.8921,-23.8922,-23.8922,-23.8922, -23.8922,-23.8922,-23.8922,-23.8922, -23.8922,-23.8922,-23.8923,-23.8923, -23.8923,-23.8923,-23.8923,-23.8923, -23.8923,-23.8923,-23.8923,-23.8924, -23.8924,-23.8924,-23.8938,-23.8956, -23.897,-23.8992,-23.9019,-23.9039, -23.9068,-23.9092,-23.9112,-23.9132, -23.9155,-23.9184,-23.9206,-23.9227, -23.9242,-23.9273,-23.9298,-23.9315, -23.934,-23.9364,-23.9382,-23.9404, -23.9423,-23.9454,-23.9467,-23.9467, -23.9467,-23.9467,-23.9467,-23.9467, -23.9467,-23.9467,-23.9467,-23.9466, -23.9466,-23.9466,-23.9466,-23.9466, -23.9466,-23.9466,-23.9466,-23.9466, -23.9465,-23.9465,-23.9465,-23.9465, -23.9465,-23.9465,-23.9464,-23.9462)
FOOTPRINT_POINT_LONGITUDE = (326.279,326.279,326.279,326.279, 326.279,326.279,326.279,326.279,326.279 ,326.279,326.279,326.279,326.279, 326.279,326.279,326.279,326.279,326.279 ,326.279,326.279,326.279,326.279, 326.279,326.279,326.279,326.282,326.284 ,326.287,326.289,326.291,326.294, 326.296,326.298,326.301,326.303,326.305 ,326.308,326.31,326.313,326.315,326.317 ,326.32,326.322,326.324,326.327,326.329 ,326.331,326.334,326.336,326.339, 326.339,326.339,326.339,326.339,326.339 ,326.339,326.339,326.339,326.339, 326.339,326.339,326.339,326.339,326.339 ,326.339,326.339,326.339,326.339, 326.339,326.339,326.339,326.339,326.339 ,326.339,326.338,326.336,326.333, 326.331,326.328,326.326,326.324,326.321 ,326.319,326.317,326.314,326.312,326.31 ,326.307,326.305,326.302,326.3,326.298, 326.295,326.293,326.29,326.288,326.285, 326.283,326.281,326.279)
ORBIT_NUMBER = 4310
ORBITAL_ECCENTRICITY = 0.571
ORBITAL_INCLINATION = 86.7
ORBITAL_SEMIMAJOR_AXIS = 8580.92
PERIAPSIS_ALTITUDE = 293.84
PERIAPSIS_ARGUMENT_ANGLE = 318.91
PERIAPSIS_TIME = 2007-05-14T12:52:37.000Z
SPACECRAFT_ORIENTATION = (0.0,1.0,0.0)
^MEX_ORIENTATION_DESC = "MEX_ORIENTATION_DESC.TXT"
SPACECRAFT_POINTING_MODE = ACROSSTRACK
^MEX_POINTING_DESC = "MEX_POINTING_DESC.TXT"
RIGHT_ASCENSION = -1e+32
DECLINATION = -1e+32
OFFSET_ANGLE = 0.07
SPACECRAFT_SOLAR_DISTANCE = 2.07141e+08
TARGET_NAME = MARS
/* CAMERA DATA ELEMENTS */
BUFFER_MODE_ID = BUFFER_8
EXPOSURE_DURATION = 5.04
INST_CMPRS_NAME = NONE
INST_CMPRS_RATIO = 1.0
INST_CMPRS_QUALITY = -2147483648
INST_CMPRS_QUANTZ_TBL_ID = -2147483648
INSTRUMENT_TEMPERATURE = 13.1259
MISSING_FRAMES = 0
START_BIT = 0
/* RADIOMETRIC DATA ELEMENTS */
BANDWIDTH = 250.0
CENTER_FILTER_WAVELENGTH = 600.0
RADIANCE_OFFSET = -9.99e+31
RADIANCE_SCALING_FACTOR = -9.99e+31
REFLECTANCE_SCALING_FACTOR = -9.99e+31
MEX:REFLECTANCE_OFFSET = -9.99e+31
/* IMAGE OBJECT DEFINITIONS */
OBJECT = IMAGE
  INTERCHANGE_FORMAT = BINARY
  LINES = 1348
  LINE_SAMPLES = 1365
  SAMPLE_TYPE = UNSIGNED_INTEGER
  SAMPLE_BITS = 8
  BANDS = 1
  BAND_STORAGE_TYPE = BAND_SEQUENTIAL
  MAXIMUM = 250
  MEAN = 113.797
  MINIMUM = 6
  STANDARD_DEVIATION = 24.9574
END_OBJECT = IMAGE
/* MAP OBJECT DEFINITIONS */
OBJECT = IMAGE_MAP_PROJECTION
  ^DATA_SET_MAP_PROJECTION_CATALOG= "DSMAP.CAT"
  A_AXIS_RADIUS = 3396.19
  B_AXIS_RADIUS = 3396.19
  C_AXIS_RADIUS = 3396.19
  CENTER_LATITUDE = 0.0
  CENTER_LONGITUDE = 326.0
  COORDINATE_SYSTEM_NAME = PLANETOGRAPHIC
  COORDINATE_SYSTEM_TYPE = "BODY-FIXED ROTATING"
  EASTERNMOST_LONGITUDE = 326.339
  FIRST_STANDARD_PARALLEL = "N/A"
  LINE_FIRST_PIXEL = 1
  LINE_LAST_PIXEL = 1348
  LINE_PROJECTION_OFFSET = -566263.0
  MAP_PROJECTION_ROTATION = 0.0
  MAP_PROJECTION_TYPE = SINUSOIDAL
  MAP_RESOLUTION = 23709.8786048756
  MAP_SCALE = 0.0025
  MAXIMUM_LATITUDE = -23.8921
  MINIMUM_LATITUDE = -23.9467
  POSITIVE_LONGITUDE_DIRECTION = EAST
  REFERENCE_LATITUDE = "N/A"
  REFERENCE_LONGITUDE = "N/A"
  SAMPLE_FIRST_PIXEL = 1
  SAMPLE_LAST_PIXEL = 1365
  SAMPLE_PROJECTION_OFFSET = -5987.0
  SECOND_STANDARD_PARALLEL = "N/A"
  WESTERNMOST_LONGITUDE = 326.279
END_OBJECT = IMAGE_MAP_PROJECTION
/* The JPEG2000 image data file associated with this label. */
OBJECT = COMPRESSED_FILE
  FILE_NAME = "H4310_0006_SR3.JP2"
  RECORD_TYPE = UNDEFINED
  FILE_RECORDS = UNK
  ENCODING_TYPE = "JP2"
  INTERCHANGE_FORMAT = BINARY
  UNCOMPRESSED_FILE_NAME = "H4310_0006_SR3.IMG"
  REQUIRED_STORAGE_BYTES = "1859130"
  ^DESCRIPTION = "JP2INFO.TXT"
END_OBJECT = COMPRESSED_FILE
END
