PDS_VERSION_ID = PDS3
/* FILE DATA ELEMENTS */
RECORD_TYPE = STREAM
/* POINTERS TO DATA OBJECTS */
^COMPRESSED_FILE = "H4313_0000_IR3.JP2"
/* IDENTIFICATION DATA ELEMENTS */
DATA_SET_ID = "MEX-M-HRSC-5-REFDR-MAPPROJECTED-V3.0"
DATA_SET_NAME = "MARS EXPRESS HRSC MAP PROJECTED REFDR V3.0"
DETECTOR_ID = MEX_HRSC_IR
EVENT_TYPE = "MARS-REGIONAL-MAPPING-Vo-Te-Im"
INSTRUMENT_HOST_ID = MEX
INSTRUMENT_HOST_NAME = "MARS EXPRESS"
INSTRUMENT_ID = HRSC
INSTRUMENT_NAME = "HIGH RESOLUTION STEREO CAMERA"
MISSION_NAME = "MARS EXPRESS"
MISSION_PHASE_NAME = ME_Phase_7
PROCESSING_LEVEL_ID = 3
PRODUCT_CREATION_TIME = 2016-04-21T11:52:47.000Z
PRODUCT_ID = "H4313_0000_IR3.JP2"
RELEASE_ID = 0049
REVISION_ID = 0000
/* QUALITY DATA ELEMENTS */
DATA_QUALITY_ID = 1
DATA_QUALITY_DESC = "Data calculated based on original SPICE kernels"
/* TIME DATA ELEMENTS */
SPACECRAFT_CLOCK_START_COUNT = "1/0127299737.07296"
SPACECRAFT_CLOCK_STOP_COUNT = "1/0127299945.39711"
START_TIME = 2007-05-15T09:03:08.828Z
STOP_TIME = 2007-05-15T09:05:42.651Z
/* ORBITAL DATA ELEMENTS */
ASCENDING_NODE_LONGITUDE = 137.98
MAXIMUM_RESOLUTION = 97.9
FOOTPRINT_POINT_LATITUDE = (-39.0252,-39.0196,-39.0132,-38.9355, -38.7439,-38.55,-38.3603,-38.1666, -37.9731,-37.6811,-37.4846,-37.2933, -37.1015,-36.9092,-36.7164,-36.5238, -36.235,-36.0429,-35.851,-35.6593, -35.4671,-35.1794,-34.988,-34.701, -34.4142,-34.2198,-34.0218,-33.8237, -33.6259,-33.4286,-33.1326,-32.9353, -32.7384,-32.542,-32.3479,-32.0512, -31.8544,-31.6593,-31.357,-31.1547, -30.9527,-30.6499,-30.3472,-30.0461, -29.8451,-29.5437,-29.3363,-29.0938, -29.0957,-29.0975,-29.0991,-29.1021, -29.3096,-29.5172,-29.7188,-29.9192, -30.1241,-30.3268,-30.5244,-30.7256, -30.9277,-31.1356,-31.4453,-31.6474, -31.9349,-32.1271,-32.3235,-32.5209, -32.8156,-33.0125,-33.2089,-33.4063, -33.7051,-33.909,-34.1067,-34.3023, -34.4911,-34.6829,-34.8743,-35.0662, -35.3523,-35.5444,-35.737,-36.0257, -36.2167,-36.4113,-36.6069,-36.7998, -36.9922,-37.1829,-37.377,-37.571, -37.7646,-37.9584,-38.1526,-38.3469, -38.6373,-38.8313,-39.0211,-39.0252)
FOOTPRINT_POINT_LONGITUDE = (31.5874,31.2018,30.8153,30.4839, 30.4919,30.5,30.5055,30.5132,30.5209, 30.5331,30.5423,30.5483,30.5544,30.5609 ,30.5676,30.574,30.5835,30.5895,30.5954 ,30.601,30.6069,30.6153,30.6206,30.6284 ,30.6359,30.641,30.646,30.651,30.6557, 30.6602,30.6668,30.6711,30.6752,30.6791 ,30.6815,30.6883,30.6922,30.6951, 30.7002,30.7033,30.7063,30.7106,30.7148 ,30.7181,30.7205,30.724,30.7263,30.7883 ,31.0464,31.365,31.6588,32.0332,32.029, 32.0248,32.0206,32.0162,32.0132,32.0093 ,32.0037,31.9991,31.9947,31.9923, 31.9876,31.9831,31.9743,31.9685,31.964, 31.9598,31.9527,31.9481,31.9432,31.9386 ,31.9323,31.9296,31.9247,31.919,31.9132 ,31.9085,31.9037,31.899,31.891,31.8861, 31.8813,31.8738,31.8681,31.8637,31.8594 ,31.8542,31.8487,31.8425,31.8374, 31.8321,31.8267,31.8212,31.8157,31.8102 ,31.8014,31.7955,31.7898,31.5874)
ORBIT_NUMBER = 4313
ORBITAL_ECCENTRICITY = 0.571
ORBITAL_INCLINATION = 86.68
ORBITAL_SEMIMAJOR_AXIS = 8585.03
PERIAPSIS_ALTITUDE = 293.8
PERIAPSIS_ARGUMENT_ANGLE = 318.38
PERIAPSIS_TIME = 2007-05-15T09:02:10.000Z
SPACECRAFT_ORIENTATION = (0.0,1.0,0.0)
^MEX_ORIENTATION_DESC = "MEX_ORIENTATION_DESC.TXT"
SPACECRAFT_POINTING_MODE = ACROSSTRACK
^MEX_POINTING_DESC = "MEX_POINTING_DESC.TXT"
RIGHT_ASCENSION = -1e+32
DECLINATION = -1e+32
OFFSET_ANGLE = 0.1
SPACECRAFT_SOLAR_DISTANCE = 2.07104e+08
TARGET_NAME = MARS
/* CAMERA DATA ELEMENTS */
DETECTOR_TEMPERATURE = 17.5549
FOCAL_PLANE_TEMPERATURE = 8.7872
INST_CMPRS_NAME = "DISCRETE COSINE TRANSFORMATION (DCT)"
INST_CMPRS_RATIO = 21.647
INST_CMPRS_QUALITY = 0
INST_CMPRS_QUANTZ_TBL_ID = 0
INSTRUMENT_TEMPERATURE = 10.4184
LENS_TEMPERATURE = 8.9911
MACROPIXEL_SIZE = 8
MISSING_FRAMES = 0
PIXEL_SUBSAMPLING_FLAG = N
SIGNAL_CHAIN_ID = 2
/* RADIOMETRIC DATA ELEMENTS */
BANDWIDTH = 81.0
CENTER_FILTER_WAVELENGTH = 955.5
RADIANCE_OFFSET = 1.42204
RADIANCE_SCALING_FACTOR = 0.00358131
REFLECTANCE_SCALING_FACTOR = 0.000331394
MEX:REFLECTANCE_OFFSET = 0.131587
/* IMAGE OBJECT DEFINITIONS */
OBJECT = IMAGE
  INTERCHANGE_FORMAT = BINARY
  LINES = 5914
  LINE_SAMPLES = 800
  SAMPLE_TYPE = UNSIGNED_INTEGER
  SAMPLE_BITS = 8
  BANDS = 1
  BAND_STORAGE_TYPE = BAND_SEQUENTIAL
  MAXIMUM = 255
  MEAN = 123.141
  MINIMUM = 1
  STANDARD_DEVIATION = 45.5077
END_OBJECT = IMAGE
/* MAP OBJECT DEFINITIONS */
OBJECT = IMAGE_MAP_PROJECTION
  ^DATA_SET_MAP_PROJECTION_CATALOG= "DSMAP.CAT"
  A_AXIS_RADIUS = 3396.0
  B_AXIS_RADIUS = 3396.0
  C_AXIS_RADIUS = 3396.0
  CENTER_LATITUDE = 0.0
  CENTER_LONGITUDE = 31.0
  COORDINATE_SYSTEM_NAME = PLANETOGRAPHIC
  COORDINATE_SYSTEM_TYPE = "BODY-FIXED ROTATING"
  EASTERNMOST_LONGITUDE = 32.0332
  FIRST_STANDARD_PARALLEL = "N/A"
  LINE_FIRST_PIXEL = 1
  LINE_LAST_PIXEL = 5914
  LINE_PROJECTION_OFFSET = -17250.9375
  MAP_PROJECTION_ROTATION = 0.0
  MAP_PROJECTION_TYPE = SINUSOIDAL
  MAP_RESOLUTION = 592.713803866667
  MAP_SCALE = 0.1
  MAXIMUM_LATITUDE = -29.0938
  MINIMUM_LATITUDE = -39.0252
  POSITIVE_LONGITUDE_DIRECTION = EAST
  REFERENCE_LATITUDE = "N/A"
  REFERENCE_LONGITUDE = "N/A"
  SAMPLE_FIRST_PIXEL = 1
  SAMPLE_LAST_PIXEL = 800
  SAMPLE_PROJECTION_OFFSET = 263.9375
  SECOND_STANDARD_PARALLEL = "N/A"
  WESTERNMOST_LONGITUDE = 30.4839
END_OBJECT = IMAGE_MAP_PROJECTION
/* The JPEG2000 image data file associated with this label. */
OBJECT = COMPRESSED_FILE
  FILE_NAME = "H4313_0000_IR3.JP2"
  RECORD_TYPE = UNDEFINED
  FILE_RECORDS = UNK
  ENCODING_TYPE = "JP2"
  INTERCHANGE_FORMAT = BINARY
  UNCOMPRESSED_FILE_NAME = "H4313_0000_IR3.IMG"
  REQUIRED_STORAGE_BYTES = "4748800"
  ^DESCRIPTION = "JP2INFO.TXT"
END_OBJECT = COMPRESSED_FILE
END
