PDS_VERSION_ID = PDS3
/* FILE DATA ELEMENTS */
RECORD_TYPE = STREAM
/* POINTERS TO DATA OBJECTS */
^COMPRESSED_FILE = "H4313_0000_RE3.JP2"
/* IDENTIFICATION DATA ELEMENTS */
DATA_SET_ID = "MEX-M-HRSC-5-REFDR-MAPPROJECTED-V3.0"
DATA_SET_NAME = "MARS EXPRESS HRSC MAP PROJECTED REFDR V3.0"
DETECTOR_ID = MEX_HRSC_RED
EVENT_TYPE = "MARS-REGIONAL-MAPPING-Vo-Te-Im"
INSTRUMENT_HOST_ID = MEX
INSTRUMENT_HOST_NAME = "MARS EXPRESS"
INSTRUMENT_ID = HRSC
INSTRUMENT_NAME = "HIGH RESOLUTION STEREO CAMERA"
MISSION_NAME = "MARS EXPRESS"
MISSION_PHASE_NAME = ME_Phase_7
PROCESSING_LEVEL_ID = 3
PRODUCT_CREATION_TIME = 2016-04-21T11:52:47.000Z
PRODUCT_ID = "H4313_0000_RE3.JP2"
RELEASE_ID = 0049
REVISION_ID = 0000
/* QUALITY DATA ELEMENTS */
DATA_QUALITY_ID = 1
DATA_QUALITY_DESC = "Data calculated based on original SPICE kernels"
/* TIME DATA ELEMENTS */
SPACECRAFT_CLOCK_START_COUNT = "1/0127299737.07296"
SPACECRAFT_CLOCK_STOP_COUNT = "1/0127299945.39711"
START_TIME = 2007-05-15T09:02:25.871Z
STOP_TIME = 2007-05-15T09:04:54.993Z
/* ORBITAL DATA ELEMENTS */
ASCENDING_NODE_LONGITUDE = 137.98
MAXIMUM_RESOLUTION = 97.1
FOOTPRINT_POINT_LATITUDE = (-39.1161,-39.1093,-39.0971,-39.0911, -39.053,-38.8644,-38.5818,-38.2946, -38.106,-37.9174,-37.7284,-37.545, -37.2601,-37.0699,-36.8803,-36.5966, -36.3129,-36.1236,-35.93,-35.7331, -35.438,-35.1433,-34.9462,-34.7493, -34.454,-34.1589,-33.962,-33.7656, -33.5684,-33.273,-33.0758,-32.8789, -32.6816,-32.3843,-32.1855,-31.9922, -31.7945,-31.5963,-31.3989,-31.1961, -30.9912,-30.7861,-30.5813,-30.2744, -30.0691,-29.8644,-29.5577,-29.2509, -29.1048,-29.1105,-29.1141,-29.1177, -29.1203,-29.2268,-29.4318,-29.6367, -29.8425,-30.0471,-30.2497,-30.4561, -30.6629,-30.8684,-31.167,-31.3696, -31.566,-31.7695,-32.0705,-32.27, -32.4666,-32.6648,-32.8624,-33.0605, -33.3574,-33.5545,-33.7461,-33.9409, -34.2404,-34.4409,-34.736,-34.9333, -35.2292,-35.4277,-35.6246,-35.9192, -36.1159,-36.3056,-36.4909,-36.6802, -36.8699,-37.061,-37.2512,-37.4397, -37.6287,-37.8177,-38.0064,-38.1952, -38.478,-38.6673,-38.951,-39.1161)
FOOTPRINT_POINT_LONGITUDE = (31.7703,31.4715,31.0283,30.8364, 30.4813,30.4897,30.5023,30.5124,30.5203 ,30.5282,30.5358,30.546,30.5563,30.5629 ,30.5697,30.5801,30.5901,30.5966, 30.6031,30.6095,30.619,30.6284,30.6343, 30.6401,30.6487,30.657,30.6625,30.6679, 30.673,30.6805,30.6852,30.69,30.6945, 30.7004,30.7039,30.7098,30.7136,30.7171 ,30.7208,30.7248,30.7283,30.7316,30.735 ,30.74,30.7428,30.7458,30.7502,30.7544, 30.9304,31.1878,31.3746,31.6081,31.7828 ,31.9984,31.9948,31.9912,31.9873, 31.9837,31.9808,31.9765,31.9721,31.9681 ,31.9654,31.9623,31.959,31.9531,31.9457 ,31.9411,31.9374,31.9332,31.9291, 31.9248,31.9184,31.9144,31.9122,31.9089 ,31.9012,31.8957,31.8894,31.8849, 31.8781,31.873,31.8685,31.8618,31.8567, 31.8521,31.8491,31.8445,31.8397,31.8343 ,31.8292,31.8247,31.8199,31.8151, 31.8102,31.8053,31.798,31.7927,31.7847, 31.7703)
ORBIT_NUMBER = 4313
ORBITAL_ECCENTRICITY = 0.571
ORBITAL_INCLINATION = 86.68
ORBITAL_SEMIMAJOR_AXIS = 8585.03
PERIAPSIS_ALTITUDE = 293.8
PERIAPSIS_ARGUMENT_ANGLE = 318.38
PERIAPSIS_TIME = 2007-05-15T09:02:10.000Z
SPACECRAFT_ORIENTATION = (0.0,1.0,0.0)
^MEX_ORIENTATION_DESC = "MEX_ORIENTATION_DESC.TXT"
SPACECRAFT_POINTING_MODE = ACROSSTRACK
^MEX_POINTING_DESC = "MEX_POINTING_DESC.TXT"
RIGHT_ASCENSION = -1e+32
DECLINATION = -1e+32
OFFSET_ANGLE = 0.1
SPACECRAFT_SOLAR_DISTANCE = 2.07104e+08
TARGET_NAME = MARS
/* CAMERA DATA ELEMENTS */
DETECTOR_TEMPERATURE = 18.5744
FOCAL_PLANE_TEMPERATURE = 8.7872
INST_CMPRS_NAME = "DISCRETE COSINE TRANSFORMATION (DCT)"
INST_CMPRS_RATIO = 25.4683
INST_CMPRS_QUALITY = 0
INST_CMPRS_QUANTZ_TBL_ID = 0
INSTRUMENT_TEMPERATURE = 10.4184
LENS_TEMPERATURE = 8.9911
MACROPIXEL_SIZE = 8
MISSING_FRAMES = 0
PIXEL_SUBSAMPLING_FLAG = N
SIGNAL_CHAIN_ID = 2
/* RADIOMETRIC DATA ELEMENTS */
BANDWIDTH = 48.0
CENTER_FILTER_WAVELENGTH = 748.0
RADIANCE_OFFSET = 1.72107
RADIANCE_SCALING_FACTOR = 0.00340451
REFLECTANCE_SCALING_FACTOR = 0.00033324
MEX:REFLECTANCE_OFFSET = 0.168462
/* IMAGE OBJECT DEFINITIONS */
OBJECT = IMAGE
  INTERCHANGE_FORMAT = BINARY
  LINES = 5914
  LINE_SAMPLES = 800
  SAMPLE_TYPE = UNSIGNED_INTEGER
  SAMPLE_BITS = 8
  BANDS = 1
  BAND_STORAGE_TYPE = BAND_SEQUENTIAL
  MAXIMUM = 255
  MEAN = 128.276
  MINIMUM = 1
  STANDARD_DEVIATION = 42.5849
END_OBJECT = IMAGE
/* MAP OBJECT DEFINITIONS */
OBJECT = IMAGE_MAP_PROJECTION
  ^DATA_SET_MAP_PROJECTION_CATALOG= "DSMAP.CAT"
  A_AXIS_RADIUS = 3396.0
  B_AXIS_RADIUS = 3396.0
  C_AXIS_RADIUS = 3396.0
  CENTER_LATITUDE = 0.0
  CENTER_LONGITUDE = 31.0
  COORDINATE_SYSTEM_NAME = PLANETOGRAPHIC
  COORDINATE_SYSTEM_TYPE = "BODY-FIXED ROTATING"
  EASTERNMOST_LONGITUDE = 31.9984
  FIRST_STANDARD_PARALLEL = "N/A"
  LINE_FIRST_PIXEL = 1
  LINE_LAST_PIXEL = 5914
  LINE_PROJECTION_OFFSET = -17250.9375
  MAP_PROJECTION_ROTATION = 0.0
  MAP_PROJECTION_TYPE = SINUSOIDAL
  MAP_RESOLUTION = 592.713803866667
  MAP_SCALE = 0.1
  MAXIMUM_LATITUDE = -29.1048
  MINIMUM_LATITUDE = -39.1161
  POSITIVE_LONGITUDE_DIRECTION = EAST
  REFERENCE_LATITUDE = "N/A"
  REFERENCE_LONGITUDE = "N/A"
  SAMPLE_FIRST_PIXEL = 1
  SAMPLE_LAST_PIXEL = 800
  SAMPLE_PROJECTION_OFFSET = 263.9375
  SECOND_STANDARD_PARALLEL = "N/A"
  WESTERNMOST_LONGITUDE = 30.4813
END_OBJECT = IMAGE_MAP_PROJECTION
/* The JPEG2000 image data file associated with this label. */
OBJECT = COMPRESSED_FILE
  FILE_NAME = "H4313_0000_RE3.JP2"
  RECORD_TYPE = UNDEFINED
  FILE_RECORDS = UNK
  ENCODING_TYPE = "JP2"
  INTERCHANGE_FORMAT = BINARY
  UNCOMPRESSED_FILE_NAME = "H4313_0000_RE3.IMG"
  REQUIRED_STORAGE_BYTES = "4748800"
  ^DESCRIPTION = "JP2INFO.TXT"
END_OBJECT = COMPRESSED_FILE
END
