PDS_VERSION_ID = PDS3
/* FILE DATA ELEMENTS */
RECORD_TYPE = STREAM
/* POINTERS TO DATA OBJECTS */
^COMPRESSED_FILE = "H4317_0000_S13.JP2"
/* IDENTIFICATION DATA ELEMENTS */
DATA_SET_ID = "MEX-M-HRSC-5-REFDR-MAPPROJECTED-V3.0"
DATA_SET_NAME = "MARS EXPRESS HRSC MAP PROJECTED REFDR V3.0"
DETECTOR_ID = MEX_HRSC_S1
EVENT_TYPE = "MARS-REGIONAL-MAPPING-Vo-Im"
INSTRUMENT_HOST_ID = MEX
INSTRUMENT_HOST_NAME = "MARS EXPRESS"
INSTRUMENT_ID = HRSC
INSTRUMENT_NAME = "HIGH RESOLUTION STEREO CAMERA"
MISSION_NAME = "MARS EXPRESS"
MISSION_PHASE_NAME = ME_Phase_7
PROCESSING_LEVEL_ID = 3
PRODUCT_CREATION_TIME = 2016-04-21T11:52:47.000Z
PRODUCT_ID = "H4317_0000_S13.JP2"
RELEASE_ID = 0049
REVISION_ID = 0000
/* QUALITY DATA ELEMENTS */
DATA_QUALITY_ID = 1
DATA_QUALITY_DESC = "Data calculated based on original SPICE kernels"
/* TIME DATA ELEMENTS */
SPACECRAFT_CLOCK_START_COUNT = "1/0127396480.08253"
SPACECRAFT_CLOCK_STOP_COUNT = "1/0127396754.25216"
START_TIME = 2007-05-16T11:55:35.872Z
STOP_TIME = 2007-05-16T11:57:01.950Z
/* ORBITAL DATA ELEMENTS */
ASCENDING_NODE_LONGITUDE = 137.9
MAXIMUM_RESOLUTION = 24.9
FOOTPRINT_POINT_LATITUDE = (-41.243,-41.2397,-41.2357,-41.2305, -41.2255,-41.2178,-41.2547,-41.1451, -40.9807,-40.8164,-40.6517,-40.4873, -40.3777,-40.2682,-40.0493,-39.8854, -39.6638,-39.5504,-39.3801,-39.2104, -39.0971,-38.9836,-38.8704,-38.7574, -38.6443,-38.5313,-38.3618,-38.2491, -38.136,-38.0231,-37.9101,-37.7404, -37.6301,-37.5175,-37.4047,-37.2899, -37.1775,-37.0658,-36.9536,-36.8413, -36.6728,-36.5605,-36.448,-36.3359, -36.168,-36.056,-35.9438,-35.832, -35.6292,-35.6318,-35.6351,-35.6382, -35.6427,-35.6454,-35.6475,-35.7065, -35.8185,-35.9305,-36.0434,-36.2117, -36.3237,-36.4938,-36.6067,-36.7187, -36.831,-36.944,-37.0567,-37.1686, -37.281,-37.3935,-37.506,-37.6184, -37.7875,-37.9002,-38.0122,-38.184, -38.2984,-38.4116,-38.5245,-38.6376, -38.7495,-38.8598,-38.9738,-39.0891, -39.2028,-39.3167,-39.431,-39.5444, -39.6579,-39.772,-39.882,-40.1007, -40.2649,-40.4839,-40.6485,-40.7584, -40.8686,-40.9782,-41.0878,-41.243)
FOOTPRINT_POINT_LONGITUDE = (358.702,358.547,358.366,358.147, 357.941,357.645,357.456,357.461,357.469 ,357.477,357.484,357.492,357.497, 357.502,357.511,357.518,357.527,357.532 ,357.539,357.546,357.55,357.555,357.559 ,357.564,357.568,357.572,357.578, 357.582,357.586,357.59,357.594,357.6, 357.603,357.607,357.611,357.616,357.619 ,357.622,357.626,357.629,357.634, 357.638,357.641,357.645,357.649,357.652 ,357.656,357.659,357.664,357.803, 357.994,358.146,358.362,358.59,358.755, 358.975,358.972,358.969,358.967,358.963 ,358.96,358.957,358.954,358.951,358.948 ,358.945,358.943,358.94,358.937,358.934 ,358.931,358.927,358.923,358.92,358.917 ,358.913,358.91,358.907,358.904,358.901 ,358.898,358.893,358.89,358.888,358.885 ,358.882,358.879,358.876,358.872, 358.869,358.866,358.859,358.854,358.848 ,358.843,358.84,358.836,358.833,358.829 ,358.702)
ORBIT_NUMBER = 4317
ORBITAL_ECCENTRICITY = 0.571
ORBITAL_INCLINATION = 86.69
ORBITAL_SEMIMAJOR_AXIS = 8581.24
PERIAPSIS_ALTITUDE = 293.65
PERIAPSIS_ARGUMENT_ANGLE = 317.66
PERIAPSIS_TIME = 2007-05-16T11:54:56.000Z
SPACECRAFT_ORIENTATION = (0.0,1.0,0.0)
^MEX_ORIENTATION_DESC = "MEX_ORIENTATION_DESC.TXT"
SPACECRAFT_POINTING_MODE = ACROSSTRACK
^MEX_POINTING_DESC = "MEX_POINTING_DESC.TXT"
RIGHT_ASCENSION = -1e+32
DECLINATION = -1e+32
OFFSET_ANGLE = -0.05
SPACECRAFT_SOLAR_DISTANCE = 2.07056e+08
TARGET_NAME = MARS
/* CAMERA DATA ELEMENTS */
DETECTOR_TEMPERATURE = 17.9627
FOCAL_PLANE_TEMPERATURE = 9.6028
INST_CMPRS_NAME = "DISCRETE COSINE TRANSFORMATION (DCT)"
INST_CMPRS_RATIO = 9.0702
INST_CMPRS_QUALITY = 0
INST_CMPRS_QUANTZ_TBL_ID = 0
INSTRUMENT_TEMPERATURE = 10.6223
LENS_TEMPERATURE = 9.8067
MACROPIXEL_SIZE = 2
MISSING_FRAMES = 0
PIXEL_SUBSAMPLING_FLAG = N
SIGNAL_CHAIN_ID = 1
/* RADIOMETRIC DATA ELEMENTS */
BANDWIDTH = 180.0
CENTER_FILTER_WAVELENGTH = 677.0
RADIANCE_OFFSET = 7.95329
RADIANCE_SCALING_FACTOR = 0.0084869
REFLECTANCE_SCALING_FACTOR = 0.000189832
MEX:REFLECTANCE_OFFSET = 0.177896
/* IMAGE OBJECT DEFINITIONS */
OBJECT = IMAGE
  INTERCHANGE_FORMAT = BINARY
  LINES = 17671
  LINE_SAMPLES = 3039
  SAMPLE_TYPE = UNSIGNED_INTEGER
  SAMPLE_BITS = 8
  BANDS = 1
  BAND_STORAGE_TYPE = BAND_SEQUENTIAL
  MAXIMUM = 255
  MEAN = 170.295
  MINIMUM = 1
  STANDARD_DEVIATION = 19.9064
END_OBJECT = IMAGE
/* MAP OBJECT DEFINITIONS */
OBJECT = IMAGE_MAP_PROJECTION
  ^DATA_SET_MAP_PROJECTION_CATALOG= "DSMAP.CAT"
  A_AXIS_RADIUS = 3396.0
  B_AXIS_RADIUS = 3396.0
  C_AXIS_RADIUS = 3396.0
  CENTER_LATITUDE = 0.0
  CENTER_LONGITUDE = 358.0
  COORDINATE_SYSTEM_NAME = PLANETOGRAPHIC
  COORDINATE_SYSTEM_TYPE = "BODY-FIXED ROTATING"
  EASTERNMOST_LONGITUDE = 358.975
  FIRST_STANDARD_PARALLEL = "N/A"
  LINE_FIRST_PIXEL = 1
  LINE_LAST_PIXEL = 17671
  LINE_PROJECTION_OFFSET = -80242.75
  MAP_PROJECTION_ROTATION = 0.0
  MAP_PROJECTION_TYPE = SINUSOIDAL
  MAP_RESOLUTION = 2370.85521546667
  MAP_SCALE = 0.025
  MAXIMUM_LATITUDE = -35.6292
  MINIMUM_LATITUDE = -41.2547
  POSITIVE_LONGITUDE_DIRECTION = EAST
  REFERENCE_LATITUDE = "N/A"
  REFERENCE_LONGITUDE = "N/A"
  SAMPLE_FIRST_PIXEL = 1
  SAMPLE_LAST_PIXEL = 3039
  SAMPLE_PROJECTION_OFFSET = 1003.75
  SECOND_STANDARD_PARALLEL = "N/A"
  WESTERNMOST_LONGITUDE = 357.456
END_OBJECT = IMAGE_MAP_PROJECTION
/* The JPEG2000 image data file associated with this label. */
OBJECT = COMPRESSED_FILE
  FILE_NAME = "H4317_0000_S13.JP2"
  RECORD_TYPE = UNDEFINED
  FILE_RECORDS = UNK
  ENCODING_TYPE = "JP2"
  INTERCHANGE_FORMAT = BINARY
  UNCOMPRESSED_FILE_NAME = "H4317_0000_S13.IMG"
  REQUIRED_STORAGE_BYTES = "53726481"
  ^DESCRIPTION = "JP2INFO.TXT"
END_OBJECT = COMPRESSED_FILE
END
