PDS_VERSION_ID = PDS3
/* FILE DATA ELEMENTS */
RECORD_TYPE = STREAM
/* POINTERS TO DATA OBJECTS */
^COMPRESSED_FILE = "H4325_0000_P23.JP2"
/* IDENTIFICATION DATA ELEMENTS */
DATA_SET_ID = "MEX-M-HRSC-5-REFDR-MAPPROJECTED-V3.0"
DATA_SET_NAME = "MARS EXPRESS HRSC MAP PROJECTED REFDR V3.0"
DETECTOR_ID = MEX_HRSC_P2
EVENT_TYPE = "MARS-REGIONAL-MAPPING-Vo-Te-Fl"
INSTRUMENT_HOST_ID = MEX
INSTRUMENT_HOST_NAME = "MARS EXPRESS"
INSTRUMENT_ID = HRSC
INSTRUMENT_NAME = "HIGH RESOLUTION STEREO CAMERA"
MISSION_NAME = "MARS EXPRESS"
MISSION_PHASE_NAME = ME_Phase_7
PROCESSING_LEVEL_ID = 3
PRODUCT_CREATION_TIME = 2016-04-21T11:52:47.000Z
PRODUCT_ID = "H4325_0000_P23.JP2"
RELEASE_ID = 0049
REVISION_ID = 0000
/* QUALITY DATA ELEMENTS */
DATA_QUALITY_ID = 2
DATA_QUALITY_DESC = "Data calculated based on photogrammetrically improved orbit and attitude data"
/* TIME DATA ELEMENTS */
SPACECRAFT_CLOCK_START_COUNT = "1/0127590139.08425"
SPACECRAFT_CLOCK_STOP_COUNT = "1/0127590333.57940"
START_TIME = 2007-05-18T17:43:52.856Z
STOP_TIME = 2007-05-18T17:44:41.615Z
/* ORBITAL DATA ELEMENTS */
ASCENDING_NODE_LONGITUDE = 137.73
MAXIMUM_RESOLUTION = 26.5
FOOTPRINT_POINT_LATITUDE = (-28.9067,-28.9082,-28.9096,-28.9109, -28.912,-28.913,-28.9139,-28.9147, -28.9154,-28.916,-28.9164,-28.9168, -28.9153,-28.7883,-28.6922,-28.6281, -28.5321,-28.436,-28.3719,-28.2436, -28.1476,-28.0836,-28.0198,-27.9239, -27.86,-27.7649,-27.6697,-27.5422, -27.3828,-27.2552,-27.1278,-27.0322, -26.9343,-26.8358,-26.7367,-26.6709, -26.6055,-26.5074,-26.4087,-26.343, -26.2772,-26.1786,-26.113,-26.0146, -25.9163,-25.8507,-25.785,-25.6787, -25.6782,-25.6774,-25.6765,-25.6755, -25.6741,-25.6734,-25.6714,-25.6699, -25.6683,-25.6668,-25.665,-25.663, -25.7284,-25.7933,-25.8592,-25.9249, -26.0242,-26.0903,-26.1556,-26.2542, -26.3199,-26.3857,-26.4843,-26.5502, -26.6159,-26.6817,-26.7475,-26.8134, -26.8793,-26.9452,-27.0741,-27.1695, -27.2969,-27.3607,-27.4885,-27.5842, -27.6482,-27.8075,-27.9035,-27.9676, -28.0931,-28.1576,-28.2228,-28.2868, -28.3827,-28.4789,-28.5429,-28.639, -28.7352,-28.7993,-28.8949,-28.9067)
FOOTPRINT_POINT_LONGITUDE = (293.15,293.048,292.947,292.846,292.745 ,292.644,292.544,292.444,292.344, 292.245,292.146,292.047,291.956,291.957 ,291.957,291.957,291.957,291.958, 291.958,291.958,291.958,291.958,291.958 ,291.958,291.959,291.959,291.959, 291.959,291.959,291.959,291.959,291.959 ,291.959,291.959,291.959,291.959, 291.959,291.959,291.958,291.958,291.958 ,291.958,291.958,291.958,291.957, 291.957,291.957,291.982,292.084,292.186 ,292.288,292.391,292.507,292.584, 292.739,292.843,292.948,293.039,293.144 ,293.262,293.292,293.292,293.291, 293.291,293.289,293.288,293.288,293.287 ,293.286,293.285,293.284,293.283, 293.283,293.282,293.281,293.28,293.28, 293.279,293.278,293.277,293.275,293.275 ,293.273,293.272,293.271,293.269, 293.268,293.267,293.267,293.266,293.264 ,293.263,293.262,293.26,293.259,293.258 ,293.257,293.256,293.254,293.15)
ORBIT_NUMBER = 4325
ORBITAL_ECCENTRICITY = 0.571
ORBITAL_INCLINATION = 86.68
ORBITAL_SEMIMAJOR_AXIS = 8580.02
PERIAPSIS_ALTITUDE = 293.33
PERIAPSIS_ARGUMENT_ANGLE = 316.29
PERIAPSIS_TIME = 2007-05-18T17:40:29.000Z
SPACECRAFT_ORIENTATION = (0.0,1.0,0.0)
^MEX_ORIENTATION_DESC = "MEX_ORIENTATION_DESC.TXT"
SPACECRAFT_POINTING_MODE = ACROSSTRACK
^MEX_POINTING_DESC = "MEX_POINTING_DESC.TXT"
RIGHT_ASCENSION = -1e+32
DECLINATION = -1e+32
OFFSET_ANGLE = -0.4
SPACECRAFT_SOLAR_DISTANCE = 2.0697e+08
TARGET_NAME = MARS
/* CAMERA DATA ELEMENTS */
DETECTOR_TEMPERATURE = 21.429
FOCAL_PLANE_TEMPERATURE = 9.8067
INST_CMPRS_NAME = "DISCRETE COSINE TRANSFORMATION (DCT)"
INST_CMPRS_RATIO = 9.77871
INST_CMPRS_QUALITY = 0
INST_CMPRS_QUANTZ_TBL_ID = 0
INSTRUMENT_TEMPERATURE = 14.2925
LENS_TEMPERATURE = 10.0106
MACROPIXEL_SIZE = 2
MISSING_FRAMES = 0
PIXEL_SUBSAMPLING_FLAG = N
SIGNAL_CHAIN_ID = 3
/* RADIOMETRIC DATA ELEMENTS */
BANDWIDTH = 177.0
CENTER_FILTER_WAVELENGTH = 676.5
RADIANCE_OFFSET = 5.28154
RADIANCE_SCALING_FACTOR = 0.0149215
REFLECTANCE_SCALING_FACTOR = 0.00033891
MEX:REFLECTANCE_OFFSET = 0.119959
/* IMAGE OBJECT DEFINITIONS */
OBJECT = IMAGE
  INTERCHANGE_FORMAT = BINARY
  LINES = 10654
  LINE_SAMPLES = 3094
  SAMPLE_TYPE = UNSIGNED_INTEGER
  SAMPLE_BITS = 8
  BANDS = 1
  BAND_STORAGE_TYPE = BAND_SEQUENTIAL
  MAXIMUM = 255
  MEAN = 99.6866
  MINIMUM = 1
  STANDARD_DEVIATION = 20.4517
END_OBJECT = IMAGE
/* MAP OBJECT DEFINITIONS */
OBJECT = IMAGE_MAP_PROJECTION
  ^DATA_SET_MAP_PROJECTION_CATALOG= "DSMAP.CAT"
  A_AXIS_RADIUS = 3396.0
  B_AXIS_RADIUS = 3396.0
  C_AXIS_RADIUS = 3396.0
  CENTER_LATITUDE = 0.0
  CENTER_LONGITUDE = 293.0
  COORDINATE_SYSTEM_NAME = PLANETOGRAPHIC
  COORDINATE_SYSTEM_TYPE = "BODY-FIXED ROTATING"
  EASTERNMOST_LONGITUDE = 293.292
  FIRST_STANDARD_PARALLEL = "N/A"
  LINE_FIRST_PIXEL = 1
  LINE_LAST_PIXEL = 10654
  LINE_PROJECTION_OFFSET = -60839.75
  MAP_PROJECTION_ROTATION = 0.0
  MAP_PROJECTION_TYPE = SINUSOIDAL
  MAP_RESOLUTION = 2370.85521546667
  MAP_SCALE = 0.025
  MAXIMUM_LATITUDE = -25.663
  MINIMUM_LATITUDE = -28.9168
  POSITIVE_LONGITUDE_DIRECTION = EAST
  REFERENCE_LATITUDE = "N/A"
  REFERENCE_LONGITUDE = "N/A"
  SAMPLE_FIRST_PIXEL = 1
  SAMPLE_LAST_PIXEL = 3094
  SAMPLE_PROJECTION_OFFSET = 2286.75
  SECOND_STANDARD_PARALLEL = "N/A"
  WESTERNMOST_LONGITUDE = 291.956
END_OBJECT = IMAGE_MAP_PROJECTION
/* The JPEG2000 image data file associated with this label. */
OBJECT = COMPRESSED_FILE
  FILE_NAME = "H4325_0000_P23.JP2"
  RECORD_TYPE = UNDEFINED
  FILE_RECORDS = UNK
  ENCODING_TYPE = "JP2"
  INTERCHANGE_FORMAT = BINARY
  UNCOMPRESSED_FILE_NAME = "H4325_0000_P23.IMG"
  REQUIRED_STORAGE_BYTES = "32988228"
  ^DESCRIPTION = "JP2INFO.TXT"
END_OBJECT = COMPRESSED_FILE
END
