PDS_VERSION_ID = PDS3
/* FILE DATA ELEMENTS */
RECORD_TYPE = STREAM
/* POINTERS TO DATA OBJECTS */
^COMPRESSED_FILE = "H4328_0000_BL3.JP2"
/* IDENTIFICATION DATA ELEMENTS */
DATA_SET_ID = "MEX-M-HRSC-5-REFDR-MAPPROJECTED-V3.0"
DATA_SET_NAME = "MARS EXPRESS HRSC MAP PROJECTED REFDR V3.0"
DETECTOR_ID = MEX_HRSC_BLUE
EVENT_TYPE = "MARS-REGIONAL-MAPPING-Vo-Im"
INSTRUMENT_HOST_ID = MEX
INSTRUMENT_HOST_NAME = "MARS EXPRESS"
INSTRUMENT_ID = HRSC
INSTRUMENT_NAME = "HIGH RESOLUTION STEREO CAMERA"
MISSION_NAME = "MARS EXPRESS"
MISSION_PHASE_NAME = ME_Phase_7
PROCESSING_LEVEL_ID = 3
PRODUCT_CREATION_TIME = 2016-04-21T11:52:47.000Z
PRODUCT_ID = "H4328_0000_BL3.JP2"
RELEASE_ID = 0049
REVISION_ID = 0000
/* QUALITY DATA ELEMENTS */
DATA_QUALITY_ID = 2
DATA_QUALITY_DESC = "Data calculated based on photogrammetrically improved orbit and attitude data"
/* TIME DATA ELEMENTS */
SPACECRAFT_CLOCK_START_COUNT = "1/0127662516.08248"
SPACECRAFT_CLOCK_STOP_COUNT = "1/0127662887.40993"
START_TIME = 2007-05-19T13:49:02.563Z
STOP_TIME = 2007-05-19T13:54:11.609Z
/* ORBITAL DATA ELEMENTS */
ASCENDING_NODE_LONGITUDE = 137.68
MAXIMUM_RESOLUTION = 46.6
FOOTPRINT_POINT_LATITUDE = (-47.6421,-47.6243,-47.6105,-47.3921, -46.9919,-46.5913,-46.2023,-45.8163, -45.43,-44.8511,-44.4647,-43.8846, -43.3045,-42.9177,-42.5307,-42.1437, -41.7567,-41.3696,-40.9825,-40.5955, -40.0152,-39.6284,-39.2325,-38.8308, -38.4297,-38.028,-37.4246,-37.0253, -36.624,-36.2231,-35.8225,-35.2213, -34.6056,-34.1908,-33.7765,-33.3627, -33.0989,-32.6854,-32.2696,-31.8424, -31.4145,-30.7752,-30.349,-29.9137, -29.4739,-28.8144,-28.3741,-28.1477, -27.6967,-27.4707,-27.2117,-27.2182, -27.2212,-27.6735,-27.8999,-28.1266, -28.5749,-29.014,-29.4538,-29.8938, -30.3311,-30.7578,-31.3988,-31.8262, -32.4647,-32.8786,-33.3497,-33.7643, -34.1792,-34.5943,-35.212,-35.613, -36.0142,-36.4155,-36.817,-37.2188, -37.6208,-38.2239,-38.6261,-39.0285, -39.431,-39.8207,-40.2084,-40.5961, -40.9837,-41.3716,-41.7595,-42.1473, -42.7288,-43.1165,-43.5042,-43.8917, -44.4731,-45.0539,-45.4411,-45.8281, -46.215,-46.8043,-47.2056,-47.6421)
FOOTPRINT_POINT_LONGITUDE = (357.171,356.551,356.139,355.937,355.97 ,356.002,356.031,356.06,356.088,356.129 ,356.155,356.192,356.228,356.251, 356.272,356.294,356.314,356.334,356.353 ,356.371,356.398,356.415,356.431, 356.447,356.463,356.478,356.497,356.513 ,356.526,356.538,356.55,356.565,356.58, 356.59,356.599,356.608,356.613,356.621, 356.627,356.634,356.64,356.65,356.655, 356.66,356.664,356.669,356.669,356.671, 356.675,356.676,356.926,357.576,358.018 ,358.01,358.006,358.002,357.993,357.986 ,357.978,357.971,357.963,357.954, 357.942,357.934,357.92,357.911,357.901, 357.892,357.883,357.873,357.859,357.849 ,357.84,357.83,357.82,357.809,357.799, 357.782,357.771,357.76,357.748,357.736, 357.724,357.713,357.701,357.688,357.675 ,357.662,357.642,357.628,357.614,357.6, 357.577,357.555,357.539,357.523,357.507 ,357.481,357.463,357.171)
ORBIT_NUMBER = 4328
ORBITAL_ECCENTRICITY = 0.571
ORBITAL_INCLINATION = 86.69
ORBITAL_SEMIMAJOR_AXIS = 8577.94
PERIAPSIS_ALTITUDE = 293.33
PERIAPSIS_ARGUMENT_ANGLE = 315.73
PERIAPSIS_TIME = 2007-05-19T13:49:59.000Z
SPACECRAFT_ORIENTATION = (0.0,1.0,0.0)
^MEX_ORIENTATION_DESC = "MEX_ORIENTATION_DESC.TXT"
SPACECRAFT_POINTING_MODE = NADIR
^MEX_POINTING_DESC = "MEX_POINTING_DESC.TXT"
RIGHT_ASCENSION = -1e+32
DECLINATION = -1e+32
OFFSET_ANGLE = -1e+32
SPACECRAFT_SOLAR_DISTANCE = 2.06941e+08
TARGET_NAME = MARS
/* CAMERA DATA ELEMENTS */
DETECTOR_TEMPERATURE = 18.5744
FOCAL_PLANE_TEMPERATURE = 9.195
INST_CMPRS_NAME = "DISCRETE COSINE TRANSFORMATION (DCT)"
INST_CMPRS_RATIO = 6.5764
INST_CMPRS_QUALITY = 0
INST_CMPRS_QUANTZ_TBL_ID = 0
INSTRUMENT_TEMPERATURE = 11.6418
LENS_TEMPERATURE = 8.5833
MACROPIXEL_SIZE = 4
MISSING_FRAMES = 9
PIXEL_SUBSAMPLING_FLAG = N
SIGNAL_CHAIN_ID = 2
/* RADIOMETRIC DATA ELEMENTS */
BANDWIDTH = 76.0
CENTER_FILTER_WAVELENGTH = 444.0
RADIANCE_OFFSET = 1.02863
RADIANCE_SCALING_FACTOR = 0.00104099
REFLECTANCE_SCALING_FACTOR = 4.58033e-05
MEX:REFLECTANCE_OFFSET = 0.0452594
/* IMAGE OBJECT DEFINITIONS */
OBJECT = IMAGE
  INTERCHANGE_FORMAT = BINARY
  LINES = 24224
  LINE_SAMPLES = 2006
  SAMPLE_TYPE = UNSIGNED_INTEGER
  SAMPLE_BITS = 8
  BANDS = 1
  BAND_STORAGE_TYPE = BAND_SEQUENTIAL
  MAXIMUM = 255
  MEAN = 147.425
  MINIMUM = 1
  STANDARD_DEVIATION = 25.1115
END_OBJECT = IMAGE
/* MAP OBJECT DEFINITIONS */
OBJECT = IMAGE_MAP_PROJECTION
  ^DATA_SET_MAP_PROJECTION_CATALOG= "DSMAP.CAT"
  A_AXIS_RADIUS = 3396.0
  B_AXIS_RADIUS = 3396.0
  C_AXIS_RADIUS = 3396.0
  CENTER_LATITUDE = 0.0
  CENTER_LONGITUDE = 357.0
  COORDINATE_SYSTEM_NAME = PLANETOGRAPHIC
  COORDINATE_SYSTEM_TYPE = "BODY-FIXED ROTATING"
  EASTERNMOST_LONGITUDE = 358.018
  FIRST_STANDARD_PARALLEL = "N/A"
  LINE_FIRST_PIXEL = 1
  LINE_LAST_PIXEL = 24224
  LINE_PROJECTION_OFFSET = -32254.625
  MAP_PROJECTION_ROTATION = 0.0
  MAP_PROJECTION_TYPE = SINUSOIDAL
  MAP_RESOLUTION = 1185.42760773333
  MAP_SCALE = 0.05
  MAXIMUM_LATITUDE = -27.2117
  MINIMUM_LATITUDE = -47.6421
  POSITIVE_LONGITUDE_DIRECTION = EAST
  REFERENCE_LATITUDE = "N/A"
  REFERENCE_LONGITUDE = "N/A"
  SAMPLE_FIRST_PIXEL = 1
  SAMPLE_LAST_PIXEL = 2006
  SAMPLE_PROJECTION_OFFSET = 891.625
  SECOND_STANDARD_PARALLEL = "N/A"
  WESTERNMOST_LONGITUDE = 355.937
END_OBJECT = IMAGE_MAP_PROJECTION
/* The JPEG2000 image data file associated with this label. */
OBJECT = COMPRESSED_FILE
  FILE_NAME = "H4328_0000_BL3.JP2"
  RECORD_TYPE = UNDEFINED
  FILE_RECORDS = UNK
  ENCODING_TYPE = "JP2"
  INTERCHANGE_FORMAT = BINARY
  UNCOMPRESSED_FILE_NAME = "H4328_0000_BL3.IMG"
  REQUIRED_STORAGE_BYTES = "48613404"
  ^DESCRIPTION = "JP2INFO.TXT"
END_OBJECT = COMPRESSED_FILE
END
