PDS_VERSION_ID = PDS3
/* FILE DATA ELEMENTS */
RECORD_TYPE = STREAM
/* POINTERS TO DATA OBJECTS */
^COMPRESSED_FILE = "H4328_0000_S23.JP2"
/* IDENTIFICATION DATA ELEMENTS */
DATA_SET_ID = "MEX-M-HRSC-5-REFDR-MAPPROJECTED-V3.0"
DATA_SET_NAME = "MARS EXPRESS HRSC MAP PROJECTED REFDR V3.0"
DETECTOR_ID = MEX_HRSC_S2
EVENT_TYPE = "MARS-REGIONAL-MAPPING-Vo-Im"
INSTRUMENT_HOST_ID = MEX
INSTRUMENT_HOST_NAME = "MARS EXPRESS"
INSTRUMENT_ID = HRSC
INSTRUMENT_NAME = "HIGH RESOLUTION STEREO CAMERA"
MISSION_NAME = "MARS EXPRESS"
MISSION_PHASE_NAME = ME_Phase_7
PROCESSING_LEVEL_ID = 3
PRODUCT_CREATION_TIME = 2016-04-21T11:52:47.000Z
PRODUCT_ID = "H4328_0000_S23.JP2"
RELEASE_ID = 0049
REVISION_ID = 0000
/* QUALITY DATA ELEMENTS */
DATA_QUALITY_ID = 2
DATA_QUALITY_DESC = "Data calculated based on photogrammetrically improved orbit and attitude data"
/* TIME DATA ELEMENTS */
SPACECRAFT_CLOCK_START_COUNT = "1/0127662516.08248"
SPACECRAFT_CLOCK_STOP_COUNT = "1/0127662887.40993"
START_TIME = 2007-05-19T13:48:40.261Z
STOP_TIME = 2007-05-19T13:53:46.611Z
/* ORBITAL DATA ELEMENTS */
ASCENDING_NODE_LONGITUDE = 137.68
MAXIMUM_RESOLUTION = 24.8
FOOTPRINT_POINT_LATITUDE = (-47.7163,-47.7058,-47.6926,-47.6177, -47.222,-46.8263,-46.4279,-45.8306, -45.2339,-44.8462,-44.4621,-43.8843, -43.3058,-42.92,-42.533,-42.1461, -41.7585,-41.1767,-40.7885,-40.207, -39.6242,-39.0344,-38.6485,-38.2594, -37.8556,-37.4486,-37.0529,-36.6454, -36.2397,-35.6284,-35.2211,-34.8141, -34.4068,-33.9991,-33.5926,-33.172, -32.7491,-32.1158,-31.6412,-31.2237, -30.8005,-30.3632,-29.9254,-29.4884, -29.0504,-28.6024,-28.1497,-27.7044, -27.4776,-27.2504,-27.2245,-27.2327, -27.2348,-27.6878,-27.9148,-28.1419, -28.3694,-28.5998,-29.0369,-29.4731, -30.1304,-30.5686,-31.0005,-31.424, -31.89,-32.5285,-32.9515,-33.586, -33.994,-34.4016,-34.8088,-35.216, -35.6234,-36.0305,-36.4372,-37.0473, -37.4543,-38.0636,-38.4545,-39.0401, -39.4312,-39.8211,-40.2117,-40.6008, -40.9891,-41.3785,-41.7676,-42.1564, -42.5436,-43.1243,-43.5115,-43.8973, -44.4772,-45.0542,-45.4503,-45.8491, -46.2473,-46.8446,-47.2415,-47.7163)
FOOTPRINT_POINT_LONGITUDE = (357.238,356.858,356.449,355.899, 355.933,355.966,355.997,356.043,356.087 ,356.115,356.142,356.18,356.216,356.239 ,356.262,356.284,356.305,356.335, 356.354,356.383,356.409,356.432,356.45, 356.465,356.478,356.492,356.509,356.522 ,356.535,356.553,356.564,356.575, 356.585,356.595,356.604,356.614,356.622 ,356.634,356.64,356.648,356.654,356.66, 356.665,356.67,356.675,356.675,356.679, 356.684,356.685,356.686,357.081,357.616 ,358.003,357.996,357.992,357.988, 357.984,357.979,357.973,357.966,357.955 ,357.947,357.94,357.932,357.924,357.91, 357.902,357.889,357.88,357.872,357.863, 357.854,357.845,357.835,357.826,357.811 ,357.801,357.785,357.775,357.759, 357.748,357.737,357.726,357.714,357.703 ,357.691,357.678,357.666,357.653, 357.634,357.62,357.607,357.585,357.564, 357.548,357.533,357.517,357.491,357.474 ,357.238)
ORBIT_NUMBER = 4328
ORBITAL_ECCENTRICITY = 0.571
ORBITAL_INCLINATION = 86.69
ORBITAL_SEMIMAJOR_AXIS = 8577.94
PERIAPSIS_ALTITUDE = 293.33
PERIAPSIS_ARGUMENT_ANGLE = 315.73
PERIAPSIS_TIME = 2007-05-19T13:49:59.000Z
SPACECRAFT_ORIENTATION = (0.0,1.0,0.0)
^MEX_ORIENTATION_DESC = "MEX_ORIENTATION_DESC.TXT"
SPACECRAFT_POINTING_MODE = NADIR
^MEX_POINTING_DESC = "MEX_POINTING_DESC.TXT"
RIGHT_ASCENSION = -1e+32
DECLINATION = -1e+32
OFFSET_ANGLE = -1e+32
SPACECRAFT_SOLAR_DISTANCE = 2.06941e+08
TARGET_NAME = MARS
/* CAMERA DATA ELEMENTS */
DETECTOR_TEMPERATURE = 19.7978
FOCAL_PLANE_TEMPERATURE = 9.195
INST_CMPRS_NAME = "DISCRETE COSINE TRANSFORMATION (DCT)"
INST_CMPRS_RATIO = 9.8953
INST_CMPRS_QUALITY = 0
INST_CMPRS_QUANTZ_TBL_ID = 0
INSTRUMENT_TEMPERATURE = 11.6418
LENS_TEMPERATURE = 8.5833
MACROPIXEL_SIZE = 2
MISSING_FRAMES = 14
PIXEL_SUBSAMPLING_FLAG = N
SIGNAL_CHAIN_ID = 1
/* RADIOMETRIC DATA ELEMENTS */
BANDWIDTH = 178.0
CENTER_FILTER_WAVELENGTH = 679.0
RADIANCE_OFFSET = 7.27503
RADIANCE_SCALING_FACTOR = 0.0106248
REFLECTANCE_SCALING_FACTOR = 0.000240959
MEX:REFLECTANCE_OFFSET = 0.16499
/* IMAGE OBJECT DEFINITIONS */
OBJECT = IMAGE
  INTERCHANGE_FORMAT = BINARY
  LINES = 48448
  LINE_SAMPLES = 4012
  SAMPLE_TYPE = UNSIGNED_INTEGER
  SAMPLE_BITS = 8
  BANDS = 1
  BAND_STORAGE_TYPE = BAND_SEQUENTIAL
  MAXIMUM = 255
  MEAN = 145.979
  MINIMUM = 1
  STANDARD_DEVIATION = 26.0806
END_OBJECT = IMAGE
/* MAP OBJECT DEFINITIONS */
OBJECT = IMAGE_MAP_PROJECTION
  ^DATA_SET_MAP_PROJECTION_CATALOG= "DSMAP.CAT"
  A_AXIS_RADIUS = 3396.0
  B_AXIS_RADIUS = 3396.0
  C_AXIS_RADIUS = 3396.0
  CENTER_LATITUDE = 0.0
  CENTER_LONGITUDE = 357.0
  COORDINATE_SYSTEM_NAME = PLANETOGRAPHIC
  COORDINATE_SYSTEM_TYPE = "BODY-FIXED ROTATING"
  EASTERNMOST_LONGITUDE = 358.003
  FIRST_STANDARD_PARALLEL = "N/A"
  LINE_FIRST_PIXEL = 1
  LINE_LAST_PIXEL = 48448
  LINE_PROJECTION_OFFSET = -64508.75
  MAP_PROJECTION_ROTATION = 0.0
  MAP_PROJECTION_TYPE = SINUSOIDAL
  MAP_RESOLUTION = 2370.85521546667
  MAP_SCALE = 0.025
  MAXIMUM_LATITUDE = -27.2245
  MINIMUM_LATITUDE = -47.7163
  POSITIVE_LONGITUDE_DIRECTION = EAST
  REFERENCE_LATITUDE = "N/A"
  REFERENCE_LONGITUDE = "N/A"
  SAMPLE_FIRST_PIXEL = 1
  SAMPLE_LAST_PIXEL = 4012
  SAMPLE_PROJECTION_OFFSET = 1783.75
  SECOND_STANDARD_PARALLEL = "N/A"
  WESTERNMOST_LONGITUDE = 355.899
END_OBJECT = IMAGE_MAP_PROJECTION
/* The JPEG2000 image data file associated with this label. */
OBJECT = COMPRESSED_FILE
  FILE_NAME = "H4328_0000_S23.JP2"
  RECORD_TYPE = UNDEFINED
  FILE_RECORDS = UNK
  ENCODING_TYPE = "JP2"
  INTERCHANGE_FORMAT = BINARY
  UNCOMPRESSED_FILE_NAME = "H4328_0000_S23.IMG"
  REQUIRED_STORAGE_BYTES = "194397448"
  ^DESCRIPTION = "JP2INFO.TXT"
END_OBJECT = COMPRESSED_FILE
END
