PDS_VERSION_ID = PDS3
/* FILE DATA ELEMENTS */
RECORD_TYPE = STREAM
/* POINTERS TO DATA OBJECTS */
^COMPRESSED_FILE = "H4330_0000_IR3.JP2"
/* IDENTIFICATION DATA ELEMENTS */
DATA_SET_ID = "MEX-M-HRSC-5-REFDR-MAPPROJECTED-V3.0"
DATA_SET_NAME = "MARS EXPRESS HRSC MAP PROJECTED REFDR V3.0"
DETECTOR_ID = MEX_HRSC_IR
EVENT_TYPE = "MARS-REGIONAL-MAPPING-Vo-Im-Fl"
INSTRUMENT_HOST_ID = MEX
INSTRUMENT_HOST_NAME = "MARS EXPRESS"
INSTRUMENT_ID = HRSC
INSTRUMENT_NAME = "HIGH RESOLUTION STEREO CAMERA"
MISSION_NAME = "MARS EXPRESS"
MISSION_PHASE_NAME = ME_Phase_7
PROCESSING_LEVEL_ID = 3
PRODUCT_CREATION_TIME = 2016-04-21T11:52:47.000Z
PRODUCT_ID = "H4330_0000_IR3.JP2"
RELEASE_ID = 0049
REVISION_ID = 0000
/* QUALITY DATA ELEMENTS */
DATA_QUALITY_ID = 2
DATA_QUALITY_DESC = "Data calculated based on photogrammetrically improved orbit and attitude data"
/* TIME DATA ELEMENTS */
SPACECRAFT_CLOCK_START_COUNT = "1/0127710953.07297"
SPACECRAFT_CLOCK_STOP_COUNT = "1/0127711192.14347"
START_TIME = 2007-05-20T03:16:44.469Z
STOP_TIME = 2007-05-20T03:19:49.268Z
/* ORBITAL DATA ELEMENTS */
ASCENDING_NODE_LONGITUDE = 137.63
MAXIMUM_RESOLUTION = 97.7
FOOTPRINT_POINT_LATITUDE = (-44.5195,-44.5148,-44.5097,-44.5044, -44.4956,-44.2942,-43.9464,-43.7144, -43.3678,-43.1366,-42.905,-42.6735, -42.3262,-42.0944,-41.8685,-41.6314, -41.3916,-41.1483,-40.9093,-40.6712, -40.3165,-40.0761,-39.7172,-39.4829, -39.1278,-38.8903,-38.6532,-38.4155, -38.178,-37.9413,-37.7053,-37.4694, -37.2318,-36.9878,-36.7433,-36.4995, -36.2549,-36.0102,-35.6416,-35.3967, -35.1536,-34.9114,-34.6714,-34.4248, -34.1756,-33.926,-33.6763,-33.427, -33.0533,-32.6807,-32.5209,-32.5237, -32.5265,-32.5297,-32.5316,-32.5357, -32.7835,-33.0336,-33.2872,-33.5334, -33.9088,-34.1593,-34.4095,-34.7821, -35.0259,-35.2649,-35.5084,-35.8741, -36.1176,-36.3617,-36.6052,-36.8496, -37.0942,-37.3373,-37.6918,-38.0468, -38.2835,-38.5208,-38.7578,-39.1144, -39.4697,-39.8264,-40.0641,-40.4225, -40.6617,-41.0204,-41.2596,-41.6192, -41.859,-42.0909,-42.4383,-42.7857, -43.0174,-43.2492,-43.5967,-43.8286, -44.0618,-44.2948,-44.5279,-44.5195)
FOOTPRINT_POINT_LONGITUDE = (160.804,160.597,160.389,160.182, 159.858,159.597,159.618,159.633,159.653 ,159.666,159.679,159.692,159.711, 159.723,159.733,159.744,159.756,159.77, 159.781,159.792,159.806,159.818,159.833 ,159.841,159.855,159.864,159.872, 159.881,159.89,159.898,159.906,159.914, 159.921,159.928,159.936,159.943,159.95, 159.957,159.969,159.976,159.982,159.988 ,159.992,159.997,160.002,160.007, 160.012,160.016,160.023,160.029,160.256 ,160.621,160.797,160.999,161.163, 161.373,161.367,161.361,161.357,161.35, 161.341,161.336,161.329,161.321,161.315 ,161.307,161.301,161.292,161.286, 161.279,161.272,161.265,161.259,161.252 ,161.241,161.231,161.224,161.217,161.21 ,161.199,161.187,161.175,161.167, 161.156,161.148,161.136,161.128,161.115 ,161.107,161.1,161.087,161.075,161.066, 161.057,161.044,161.034,161.026,161.017 ,161.008,160.804)
ORBIT_NUMBER = 4330
ORBITAL_ECCENTRICITY = 0.571
ORBITAL_INCLINATION = 86.69
ORBITAL_SEMIMAJOR_AXIS = 8577.22
PERIAPSIS_ALTITUDE = 293.71
PERIAPSIS_ARGUMENT_ANGLE = 315.42
PERIAPSIS_TIME = 2007-05-20T03:16:25.000Z
SPACECRAFT_ORIENTATION = (0.0,1.0,0.0)
^MEX_ORIENTATION_DESC = "MEX_ORIENTATION_DESC.TXT"
SPACECRAFT_POINTING_MODE = NADIR
^MEX_POINTING_DESC = "MEX_POINTING_DESC.TXT"
RIGHT_ASCENSION = -1e+32
DECLINATION = -1e+32
OFFSET_ANGLE = -1e+32
SPACECRAFT_SOLAR_DISTANCE = 2.06922e+08
TARGET_NAME = MARS
/* CAMERA DATA ELEMENTS */
DETECTOR_TEMPERATURE = 17.7588
FOCAL_PLANE_TEMPERATURE = 9.195
INST_CMPRS_NAME = "DISCRETE COSINE TRANSFORMATION (DCT)"
INST_CMPRS_RATIO = 12.2751
INST_CMPRS_QUALITY = 0
INST_CMPRS_QUANTZ_TBL_ID = 0
INSTRUMENT_TEMPERATURE = 11.234
LENS_TEMPERATURE = 9.195
MACROPIXEL_SIZE = 8
MISSING_FRAMES = 0
PIXEL_SUBSAMPLING_FLAG = N
SIGNAL_CHAIN_ID = 2
/* RADIOMETRIC DATA ELEMENTS */
BANDWIDTH = 81.0
CENTER_FILTER_WAVELENGTH = 955.5
RADIANCE_OFFSET = 1.39009
RADIANCE_SCALING_FACTOR = 0.00460452
REFLECTANCE_SCALING_FACTOR = 0.000425331
MEX:REFLECTANCE_OFFSET = 0.128406
/* IMAGE OBJECT DEFINITIONS */
OBJECT = IMAGE
  INTERCHANGE_FORMAT = BINARY
  LINES = 7144
  LINE_SAMPLES = 807
  SAMPLE_TYPE = UNSIGNED_INTEGER
  SAMPLE_BITS = 8
  BANDS = 1
  BAND_STORAGE_TYPE = BAND_SEQUENTIAL
  MAXIMUM = 255
  MEAN = 114.41
  MINIMUM = 1
  STANDARD_DEVIATION = 43.5649
END_OBJECT = IMAGE
/* MAP OBJECT DEFINITIONS */
OBJECT = IMAGE_MAP_PROJECTION
  ^DATA_SET_MAP_PROJECTION_CATALOG= "DSMAP.CAT"
  A_AXIS_RADIUS = 3396.0
  B_AXIS_RADIUS = 3396.0
  C_AXIS_RADIUS = 3396.0
  CENTER_LATITUDE = 0.0
  CENTER_LONGITUDE = 161.0
  COORDINATE_SYSTEM_NAME = PLANETOGRAPHIC
  COORDINATE_SYSTEM_TYPE = "BODY-FIXED ROTATING"
  EASTERNMOST_LONGITUDE = 161.373
  FIRST_STANDARD_PARALLEL = "N/A"
  LINE_FIRST_PIXEL = 1
  LINE_LAST_PIXEL = 7144
  LINE_PROJECTION_OFFSET = -19274.6875
  MAP_PROJECTION_ROTATION = 0.0
  MAP_PROJECTION_TYPE = SINUSOIDAL
  MAP_RESOLUTION = 592.713803866667
  MAP_SCALE = 0.1
  MAXIMUM_LATITUDE = -32.5209
  MINIMUM_LATITUDE = -44.5279
  POSITIVE_LONGITUDE_DIRECTION = EAST
  REFERENCE_LATITUDE = "N/A"
  REFERENCE_LONGITUDE = "N/A"
  SAMPLE_FIRST_PIXEL = 1
  SAMPLE_LAST_PIXEL = 807
  SAMPLE_PROJECTION_OFFSET = 616.1875
  SECOND_STANDARD_PARALLEL = "N/A"
  WESTERNMOST_LONGITUDE = 159.597
END_OBJECT = IMAGE_MAP_PROJECTION
/* The JPEG2000 image data file associated with this label. */
OBJECT = COMPRESSED_FILE
  FILE_NAME = "H4330_0000_IR3.JP2"
  RECORD_TYPE = UNDEFINED
  FILE_RECORDS = UNK
  ENCODING_TYPE = "JP2"
  INTERCHANGE_FORMAT = BINARY
  UNCOMPRESSED_FILE_NAME = "H4330_0000_IR3.IMG"
  REQUIRED_STORAGE_BYTES = "5782962"
  ^DESCRIPTION = "JP2INFO.TXT"
END_OBJECT = COMPRESSED_FILE
END
