PDS_VERSION_ID = PDS3
/* FILE DATA ELEMENTS */
RECORD_TYPE = STREAM
/* POINTERS TO DATA OBJECTS */
^COMPRESSED_FILE = "H4332_0009_P13.JP2"
/* IDENTIFICATION DATA ELEMENTS */
DATA_SET_ID = "MEX-M-HRSC-5-REFDR-MAPPROJECTED-V3.0"
DATA_SET_NAME = "MARS EXPRESS HRSC MAP PROJECTED REFDR V3.0"
DETECTOR_ID = MEX_HRSC_P1
EVENT_TYPE = "MARS-LOCAL-STEREO-Fl-Lc-Ot"
INSTRUMENT_HOST_ID = MEX
INSTRUMENT_HOST_NAME = "MARS EXPRESS"
INSTRUMENT_ID = HRSC
INSTRUMENT_NAME = "HIGH RESOLUTION STEREO CAMERA"
MISSION_NAME = "MARS EXPRESS"
MISSION_PHASE_NAME = ME_Phase_7
PROCESSING_LEVEL_ID = 3
PRODUCT_CREATION_TIME = 2016-04-21T11:52:47.000Z
PRODUCT_ID = "H4332_0009_P13.JP2"
RELEASE_ID = 0049
REVISION_ID = 0000
/* QUALITY DATA ELEMENTS */
DATA_QUALITY_ID = 2
DATA_QUALITY_DESC = "Data calculated based on photogrammetrically improved orbit and attitude data"
/* TIME DATA ELEMENTS */
SPACECRAFT_CLOCK_START_COUNT = "1/0127759518.09066"
SPACECRAFT_CLOCK_STOP_COUNT = "1/0127759727.27153"
START_TIME = 2007-05-20T16:46:09.000Z
STOP_TIME = 2007-05-20T16:48:36.017Z
/* ORBITAL DATA ELEMENTS */
ASCENDING_NODE_LONGITUDE = 137.59
MAXIMUM_RESOLUTION = 27
FOOTPRINT_POINT_LATITUDE = (-32.4936,-32.4908,-32.4888,-32.4855, -32.4827,-32.1605,-31.9895,-31.7334, -31.5622,-31.3052,-31.1365,-30.9658, -30.7967,-30.5368,-30.3606,-30.0914, -29.9125,-29.7368,-29.5625,-29.3894, -29.2175,-29.0438,-28.8678,-28.691, -28.4284,-28.2531,-28.0783,-27.9043, -27.7319,-27.5631,-27.3918,-27.2183, -26.9538,-26.7772,-26.6059,-26.4321, -26.2268,-26.0218,-25.8163,-25.6118, -25.4079,-25.2041,-25.0003,-24.797, -24.5939,-24.3911,-24.1886,-23.9863, -23.7844,-23.5826,-23.3813,-23.3617, -23.3618,-23.3619,-23.3618,-23.4626, -23.7659,-23.9682,-24.1705,-24.4739, -24.7782,-24.9816,-25.1874,-25.496, -25.8053,-26.1157,-26.3213,-26.6015, -26.7733,-26.9433,-27.2049,-27.3787, -27.5525,-27.7235,-27.8965,-28.0705, -28.2449,-28.4188,-28.5932,-28.7673, -28.9408,-29.2028,-29.3779,-29.5533, -29.7287,-29.9032,-30.167,-30.3437, -30.5199,-30.6959,-30.8672,-31.0395, -31.2976,-31.4703,-31.6413,-31.8121, -31.9834,-32.1551,-32.3297,-32.4936)
FOOTPRINT_POINT_LONGITUDE = (324.647,324.249,324.029,323.707, 323.461,323.37,323.372,323.375,323.377, 323.38,323.381,323.383,323.384,323.386, 323.388,323.394,323.398,323.399,323.4, 323.4,323.399,323.4,323.402,323.404, 323.406,323.408,323.409,323.41,323.41, 323.407,323.406,323.407,323.411,323.413 ,323.413,323.413,323.412,323.412, 323.412,323.412,323.411,323.41,323.409, 323.409,323.408,323.406,323.405,323.404 ,323.402,323.401,323.399,323.721, 323.956,324.35,324.671,324.908,324.903, 324.899,324.895,324.889,324.883,324.879 ,324.876,324.871,324.867,324.862, 324.858,324.853,324.849,324.844,324.84, 324.837,324.833,324.829,324.825,324.821 ,324.818,324.814,324.81,324.806,324.802 ,324.796,324.792,324.788,324.785,324.78 ,324.774,324.771,324.767,324.763, 324.759,324.755,324.75,324.747,324.742, 324.738,324.734,324.729,324.726, 324.647)
ORBIT_NUMBER = 4332
ORBITAL_ECCENTRICITY = 0.571
ORBITAL_INCLINATION = 86.7
ORBITAL_SEMIMAJOR_AXIS = 8574.73
PERIAPSIS_ALTITUDE = 293.24
PERIAPSIS_ARGUMENT_ANGLE = 315.06
PERIAPSIS_TIME = 2007-05-20T16:42:44.000Z
SPACECRAFT_ORIENTATION = (0.0,1.0,0.0)
^MEX_ORIENTATION_DESC = "MEX_ORIENTATION_DESC.TXT"
SPACECRAFT_POINTING_MODE = ACROSSTRACK
^MEX_POINTING_DESC = "MEX_POINTING_DESC.TXT"
RIGHT_ASCENSION = -1e+32
DECLINATION = -1e+32
OFFSET_ANGLE = 0.1
SPACECRAFT_SOLAR_DISTANCE = 2.06904e+08
TARGET_NAME = MARS
/* CAMERA DATA ELEMENTS */
DETECTOR_TEMPERATURE = 17.9627
FOCAL_PLANE_TEMPERATURE = 9.6028
INST_CMPRS_NAME = "DISCRETE COSINE TRANSFORMATION (DCT)"
INST_CMPRS_RATIO = 14.4674
INST_CMPRS_QUALITY = 0
INST_CMPRS_QUANTZ_TBL_ID = 0
INSTRUMENT_TEMPERATURE = 12.2535
LENS_TEMPERATURE = 10.4184
MACROPIXEL_SIZE = 2
MISSING_FRAMES = 0
PIXEL_SUBSAMPLING_FLAG = N
SIGNAL_CHAIN_ID = 3
/* RADIOMETRIC DATA ELEMENTS */
BANDWIDTH = 174.0
CENTER_FILTER_WAVELENGTH = 675.0
RADIANCE_OFFSET = 5.84663
RADIANCE_SCALING_FACTOR = 0.0124855
REFLECTANCE_SCALING_FACTOR = 0.000287495
MEX:REFLECTANCE_OFFSET = 0.134626
/* IMAGE OBJECT DEFINITIONS */
OBJECT = IMAGE
  INTERCHANGE_FORMAT = BINARY
  LINES = 21697
  LINE_SAMPLES = 3328
  SAMPLE_TYPE = UNSIGNED_INTEGER
  SAMPLE_BITS = 8
  BANDS = 1
  BAND_STORAGE_TYPE = BAND_SEQUENTIAL
  MAXIMUM = 255
  MEAN = 87.4364
  MINIMUM = 1
  STANDARD_DEVIATION = 31.3494
END_OBJECT = IMAGE
/* MAP OBJECT DEFINITIONS */
OBJECT = IMAGE_MAP_PROJECTION
  ^DATA_SET_MAP_PROJECTION_CATALOG= "DSMAP.CAT"
  A_AXIS_RADIUS = 3396.0
  B_AXIS_RADIUS = 3396.0
  C_AXIS_RADIUS = 3396.0
  CENTER_LATITUDE = 0.0
  CENTER_LONGITUDE = 324.0
  COORDINATE_SYSTEM_NAME = PLANETOGRAPHIC
  COORDINATE_SYSTEM_TYPE = "BODY-FIXED ROTATING"
  EASTERNMOST_LONGITUDE = 324.908
  FIRST_STANDARD_PARALLEL = "N/A"
  LINE_FIRST_PIXEL = 1
  LINE_LAST_PIXEL = 21697
  LINE_PROJECTION_OFFSET = -55369.25
  MAP_PROJECTION_ROTATION = 0.0
  MAP_PROJECTION_TYPE = SINUSOIDAL
  MAP_RESOLUTION = 2370.85521546667
  MAP_SCALE = 0.025
  MAXIMUM_LATITUDE = -23.3617
  MINIMUM_LATITUDE = -32.4936
  POSITIVE_LONGITUDE_DIRECTION = EAST
  REFERENCE_LATITUDE = "N/A"
  REFERENCE_LONGITUDE = "N/A"
  SAMPLE_FIRST_PIXEL = 1
  SAMPLE_LAST_PIXEL = 3328
  SAMPLE_PROJECTION_OFFSET = 1342.75
  SECOND_STANDARD_PARALLEL = "N/A"
  WESTERNMOST_LONGITUDE = 323.37
END_OBJECT = IMAGE_MAP_PROJECTION
/* The JPEG2000 image data file associated with this label. */
OBJECT = COMPRESSED_FILE
  FILE_NAME = "H4332_0009_P13.JP2"
  RECORD_TYPE = UNDEFINED
  FILE_RECORDS = UNK
  ENCODING_TYPE = "JP2"
  INTERCHANGE_FORMAT = BINARY
  UNCOMPRESSED_FILE_NAME = "H4332_0009_P13.IMG"
  REQUIRED_STORAGE_BYTES = "72230912"
  ^DESCRIPTION = "JP2INFO.TXT"
END_OBJECT = COMPRESSED_FILE
END
