PDS_VERSION_ID = PDS3
/* FILE DATA ELEMENTS */
RECORD_TYPE = STREAM
/* POINTERS TO DATA OBJECTS */
^COMPRESSED_FILE = "H4336_0000_ND3.JP2"
/* IDENTIFICATION DATA ELEMENTS */
DATA_SET_ID = "MEX-M-HRSC-5-REFDR-MAPPROJECTED-V3.0"
DATA_SET_NAME = "MARS EXPRESS HRSC MAP PROJECTED REFDR V3.0"
DETECTOR_ID = MEX_HRSC_NADIR
EVENT_TYPE = "MARS-REGIONAL-MAPPING-Vo-Te-Fl"
INSTRUMENT_HOST_ID = MEX
INSTRUMENT_HOST_NAME = "MARS EXPRESS"
INSTRUMENT_ID = HRSC
INSTRUMENT_NAME = "HIGH RESOLUTION STEREO CAMERA"
MISSION_NAME = "MARS EXPRESS"
MISSION_PHASE_NAME = ME_Phase_7
PROCESSING_LEVEL_ID = 3
PRODUCT_CREATION_TIME = 2016-04-21T11:52:47.000Z
PRODUCT_ID = "H4336_0000_ND3.JP2"
RELEASE_ID = 0049
REVISION_ID = 0000
/* QUALITY DATA ELEMENTS */
DATA_QUALITY_ID = 2
DATA_QUALITY_DESC = "Data calculated based on photogrammetrically improved orbit and attitude data"
/* TIME DATA ELEMENTS */
SPACECRAFT_CLOCK_START_COUNT = "1/0127856265.07293"
SPACECRAFT_CLOCK_STOP_COUNT = "1/0127856465.46912"
START_TIME = 2007-05-21T19:38:16.497Z
STOP_TIME = 2007-05-21T19:40:32.482Z
/* ORBITAL DATA ELEMENTS */
ASCENDING_NODE_LONGITUDE = 137.51
MAXIMUM_RESOLUTION = 12.4
FOOTPRINT_POINT_LATITUDE = (-34.7297,-34.7284,-34.7267,-34.7246, -34.7195,-34.6327,-34.3012,-33.9606, -33.7892,-33.6178,-33.4465,-33.2753, -33.1042,-32.7622,-32.4205,-32.0792, -31.9039,-31.7276,-31.5513,-31.3752, -31.1992,-31.0232,-30.8473,-30.6716, -30.4959,-30.3203,-30.1427,-29.9615, -29.7804,-29.5994,-29.4185,-29.2378, -29.0571,-28.8765,-28.6961,-28.5157, -28.3355,-28.1554,-27.9755,-27.7957, -27.616,-27.4365,-27.257,-27.0777, -26.8986,-26.7195,-26.5406,-26.3618, -26.1832,-26.0047,-25.9082,-25.9092, -25.9098,-25.9097,-25.9094,-26.0881, -26.2669,-26.4458,-26.6249,-26.8041, -26.9834,-27.1629,-27.3425,-27.5222, -27.7021,-27.882,-28.0621,-28.2424, -28.4227,-28.6032,-28.7838,-28.9645, -29.2359,-29.4169,-29.598,-29.7792, -29.9606,-30.2322,-30.4079,-30.5837, -30.7596,-30.9356,-31.1117,-31.288, -31.4643,-31.6407,-31.8173,-32.0814, -32.3377,-32.6797,-32.8508,-33.0221, -33.1933,-33.3647,-33.5362,-33.7077, -33.8793,-34.051,-34.4724,-34.7297)
FOOTPRINT_POINT_LONGITUDE = (292.197,291.985,291.775,291.567, 291.154,290.932,290.937,290.941,290.943 ,290.945,290.947,290.949,290.951, 290.954,290.957,290.96,290.961,290.963, 290.964,290.965,290.966,290.967,290.968 ,290.968,290.969,290.97,290.97,290.971, 290.971,290.971,290.972,290.972,290.972 ,290.972,290.972,290.971,290.971, 290.971,290.97,290.97,290.969,290.969, 290.968,290.967,290.966,290.966,290.965 ,290.964,290.962,290.961,291.236, 291.486,291.766,292.147,292.382,292.38, 292.378,292.376,292.374,292.372,292.37, 292.367,292.365,292.363,292.36,292.36, 292.356,292.353,292.35,292.347,292.344, 292.341,292.332,292.33,292.328,292.326, 292.323,292.321,292.32,292.318,292.318, 292.317,292.317,292.315,292.312,292.309 ,292.307,292.303,292.297,292.294, 292.292,292.29,292.288,292.286,292.284, 292.281,292.278,292.276,292.269, 292.197)
ORBIT_NUMBER = 4336
ORBITAL_ECCENTRICITY = 0.571
ORBITAL_INCLINATION = 86.68
ORBITAL_SEMIMAJOR_AXIS = 8576.72
PERIAPSIS_ALTITUDE = 292.98
PERIAPSIS_ARGUMENT_ANGLE = 314.36
PERIAPSIS_TIME = 2007-05-21T19:35:33.000Z
SPACECRAFT_ORIENTATION = (0.0,1.0,0.0)
^MEX_ORIENTATION_DESC = "MEX_ORIENTATION_DESC.TXT"
SPACECRAFT_POINTING_MODE = ACROSSTRACK
^MEX_POINTING_DESC = "MEX_POINTING_DESC.TXT"
RIGHT_ASCENSION = -1e+32
DECLINATION = -1e+32
OFFSET_ANGLE = -0.5
SPACECRAFT_SOLAR_DISTANCE = 2.06869e+08
TARGET_NAME = MARS
/* CAMERA DATA ELEMENTS */
DETECTOR_TEMPERATURE = 18.3705
FOCAL_PLANE_TEMPERATURE = 8.7872
INST_CMPRS_NAME = "DISCRETE COSINE TRANSFORMATION (DCT)"
INST_CMPRS_RATIO = 6.78852
INST_CMPRS_QUALITY = 0
INST_CMPRS_QUANTZ_TBL_ID = 0
INSTRUMENT_TEMPERATURE = 11.234
LENS_TEMPERATURE = 8.9911
MACROPIXEL_SIZE = 1
MISSING_FRAMES = 0
PIXEL_SUBSAMPLING_FLAG = N
SIGNAL_CHAIN_ID = 0
/* RADIOMETRIC DATA ELEMENTS */
BANDWIDTH = 177.0
CENTER_FILTER_WAVELENGTH = 677.5
RADIANCE_OFFSET = 5.11153
RADIANCE_SCALING_FACTOR = 0.0214182
REFLECTANCE_SCALING_FACTOR = 0.000486922
MEX:REFLECTANCE_OFFSET = 0.116206
/* IMAGE OBJECT DEFINITIONS */
OBJECT = IMAGE
  INTERCHANGE_FORMAT = BINARY
  LINES = 41835
  LINE_SAMPLES = 6444
  SAMPLE_TYPE = UNSIGNED_INTEGER
  SAMPLE_BITS = 8
  BANDS = 1
  BAND_STORAGE_TYPE = BAND_SEQUENTIAL
  MAXIMUM = 255
  MEAN = 85.3414
  MINIMUM = 1
  STANDARD_DEVIATION = 29.8215
END_OBJECT = IMAGE
/* MAP OBJECT DEFINITIONS */
OBJECT = IMAGE_MAP_PROJECTION
  ^DATA_SET_MAP_PROJECTION_CATALOG= "DSMAP.CAT"
  A_AXIS_RADIUS = 3396.0
  B_AXIS_RADIUS = 3396.0
  C_AXIS_RADIUS = 3396.0
  CENTER_LATITUDE = 0.0
  CENTER_LONGITUDE = 292.0
  COORDINATE_SYSTEM_NAME = PLANETOGRAPHIC
  COORDINATE_SYSTEM_TYPE = "BODY-FIXED ROTATING"
  EASTERNMOST_LONGITUDE = 292.382
  FIRST_STANDARD_PARALLEL = "N/A"
  LINE_FIRST_PIXEL = 1
  LINE_LAST_PIXEL = 41835
  LINE_PROJECTION_OFFSET = -122844.0
  MAP_PROJECTION_ROTATION = 0.0
  MAP_PROJECTION_TYPE = SINUSOIDAL
  MAP_RESOLUTION = 4741.71043093333
  MAP_SCALE = 0.0125
  MAXIMUM_LATITUDE = -25.9082
  MINIMUM_LATITUDE = -34.7297
  POSITIVE_LONGITUDE_DIRECTION = EAST
  REFERENCE_LATITUDE = "N/A"
  REFERENCE_LONGITUDE = "N/A"
  SAMPLE_FIRST_PIXEL = 1
  SAMPLE_LAST_PIXEL = 6444
  SAMPLE_PROJECTION_OFFSET = 4466.0
  SECOND_STANDARD_PARALLEL = "N/A"
  WESTERNMOST_LONGITUDE = 290.932
END_OBJECT = IMAGE_MAP_PROJECTION
/* The JPEG2000 image data file associated with this label. */
OBJECT = COMPRESSED_FILE
  FILE_NAME = "H4336_0000_ND3.JP2"
  RECORD_TYPE = UNDEFINED
  FILE_RECORDS = UNK
  ENCODING_TYPE = "JP2"
  INTERCHANGE_FORMAT = BINARY
  UNCOMPRESSED_FILE_NAME = "H4336_0000_ND3.IMG"
  REQUIRED_STORAGE_BYTES = "269616960"
  ^DESCRIPTION = "JP2INFO.TXT"
END_OBJECT = COMPRESSED_FILE
END
