PDS_VERSION_ID = PDS3
/* FILE DATA ELEMENTS */
RECORD_TYPE = STREAM
/* POINTERS TO DATA OBJECTS */
^COMPRESSED_FILE = "H4337_0000_P23.JP2"
/* IDENTIFICATION DATA ELEMENTS */
DATA_SET_ID = "MEX-M-HRSC-5-REFDR-MAPPROJECTED-V3.0"
DATA_SET_NAME = "MARS EXPRESS HRSC MAP PROJECTED REFDR V3.0"
DETECTOR_ID = MEX_HRSC_P2
EVENT_TYPE = "MARS-REGIONAL-MAPPING-Vo-Te-Im"
INSTRUMENT_HOST_ID = MEX
INSTRUMENT_HOST_NAME = "MARS EXPRESS"
INSTRUMENT_ID = HRSC
INSTRUMENT_NAME = "HIGH RESOLUTION STEREO CAMERA"
MISSION_NAME = "MARS EXPRESS"
MISSION_PHASE_NAME = ME_Phase_7
PROCESSING_LEVEL_ID = 3
PRODUCT_CREATION_TIME = 2016-04-21T11:52:47.000Z
PRODUCT_ID = "H4337_0000_P23.JP2"
RELEASE_ID = 0049
REVISION_ID = 0000
/* QUALITY DATA ELEMENTS */
DATA_QUALITY_ID = 1
DATA_QUALITY_DESC = "Data calculated based on original SPICE kernels"
/* TIME DATA ELEMENTS */
SPACECRAFT_CLOCK_START_COUNT = "1/0127880179.08423"
SPACECRAFT_CLOCK_STOP_COUNT = "1/0127880406.24636"
START_TIME = 2007-05-22T02:16:33.021Z
STOP_TIME = 2007-05-22T02:19:25.117Z
/* ORBITAL DATA ELEMENTS */
ASCENDING_NODE_LONGITUDE = 137.48
MAXIMUM_RESOLUTION = 47.9
FOOTPRINT_POINT_LATITUDE = (-53.0779,-53.052,-53.0231,-53.0075, -52.9911,-52.9302,-52.7042,-52.4718, -52.24,-52.0072,-51.7735,-51.4237, -51.0778,-50.853,-50.628,-50.4027, -50.0648,-49.7264,-49.5006,-49.2748, -49.0489,-48.8228,-48.5962,-48.2565, -48.0301,-47.6901,-47.4634,-47.2369, -47.0098,-46.7828,-46.5563,-46.335, -46.0068,-45.7862,-45.5654,-45.2361, -45.0145,-44.7948,-44.4646,-44.2446, -43.9136,-43.6929,-43.4734,-43.253, -43.0322,-42.8114,-42.4803,-42.2603, -42.039,-41.8182,-41.6386,-41.6501, -41.6623,-41.6782,-41.6941,-41.7046, -41.9251,-42.1466,-42.479,-42.7006, -42.9221,-43.1422,-43.474,-43.696, -43.9172,-44.1378,-44.3589,-44.6897, -45.0175,-45.2404,-45.5711,-45.7922, -46.0136,-46.3426,-46.5659,-46.9059, -47.1337,-47.3613,-47.5881,-47.9284, -48.1556,-48.4965,-48.8371,-49.1777, -49.4046,-49.6314,-49.8579,-50.1976, -50.4243,-50.6506,-50.8777,-51.1083, -51.3382,-51.5726,-51.7999,-52.0349, -52.2657,-52.6163,-52.849,-53.0779)
FOOTPRINT_POINT_LONGITUDE = (191.841,191.329,190.811,190.55,190.288 ,190.047,190.087,190.119,190.152, 190.183,190.213,190.259,190.301,190.329 ,190.357,190.385,190.425,190.465, 190.491,190.516,190.542,190.567,190.591 ,190.626,190.65,190.685,190.707,190.73, 190.752,190.774,190.796,190.822,190.852 ,190.87,190.887,190.915,190.931,190.949 ,190.975,190.992,191.016,191.032, 191.049,191.064,191.079,191.095,191.117 ,191.132,191.146,191.16,191.171,191.38, 191.613,191.947,192.316,192.547,192.537 ,192.527,192.512,192.502,192.492, 192.481,192.465,192.455,192.444,192.433 ,192.421,192.404,192.387,192.375, 192.358,192.345,192.333,192.315,192.302 ,192.282,192.269,192.255,192.242, 192.221,192.207,192.185,192.163,192.14, 192.125,192.109,192.094,192.07,192.054, 192.037,192.02,192.003,191.985,191.967, 191.95,191.931,191.913,191.884,191.865, 191.841)
ORBIT_NUMBER = 4337
ORBITAL_ECCENTRICITY = 0.571
ORBITAL_INCLINATION = 86.7
ORBITAL_SEMIMAJOR_AXIS = 8573.61
PERIAPSIS_ALTITUDE = 292.99
PERIAPSIS_ARGUMENT_ANGLE = 314.18
PERIAPSIS_TIME = 2007-05-22T02:18:42.000Z
SPACECRAFT_ORIENTATION = (0.0,1.0,0.0)
^MEX_ORIENTATION_DESC = "MEX_ORIENTATION_DESC.TXT"
SPACECRAFT_POINTING_MODE = ACROSSTRACK
^MEX_POINTING_DESC = "MEX_POINTING_DESC.TXT"
RIGHT_ASCENSION = -1e+32
DECLINATION = -1e+32
OFFSET_ANGLE = 0.45
SPACECRAFT_SOLAR_DISTANCE = 2.06861e+08
TARGET_NAME = MARS
/* CAMERA DATA ELEMENTS */
DETECTOR_TEMPERATURE = 18.7783
FOCAL_PLANE_TEMPERATURE = 8.7872
INST_CMPRS_NAME = "DISCRETE COSINE TRANSFORMATION (DCT)"
INST_CMPRS_RATIO = 9.11154
INST_CMPRS_QUALITY = 0
INST_CMPRS_QUANTZ_TBL_ID = 0
INSTRUMENT_TEMPERATURE = 11.4379
LENS_TEMPERATURE = 8.9911
MACROPIXEL_SIZE = 4
MISSING_FRAMES = 0
PIXEL_SUBSAMPLING_FLAG = N
SIGNAL_CHAIN_ID = 3
/* RADIOMETRIC DATA ELEMENTS */
BANDWIDTH = 177.0
CENTER_FILTER_WAVELENGTH = 676.5
RADIANCE_OFFSET = 6.17186
RADIANCE_SCALING_FACTOR = 0.0166617
REFLECTANCE_SCALING_FACTOR = 0.000378037
MEX:REFLECTANCE_OFFSET = 0.140033
/* IMAGE OBJECT DEFINITIONS */
OBJECT = IMAGE
  INTERCHANGE_FORMAT = BINARY
  LINES = 13477
  LINE_SAMPLES = 1887
  SAMPLE_TYPE = UNSIGNED_INTEGER
  SAMPLE_BITS = 8
  BANDS = 1
  BAND_STORAGE_TYPE = BAND_SEQUENTIAL
  MAXIMUM = 255
  MEAN = 127.986
  MINIMUM = 1
  STANDARD_DEVIATION = 38.6038
END_OBJECT = IMAGE
/* MAP OBJECT DEFINITIONS */
OBJECT = IMAGE_MAP_PROJECTION
  ^DATA_SET_MAP_PROJECTION_CATALOG= "DSMAP.CAT"
  A_AXIS_RADIUS = 3396.0
  B_AXIS_RADIUS = 3396.0
  C_AXIS_RADIUS = 3396.0
  CENTER_LATITUDE = 0.0
  CENTER_LONGITUDE = 192.0
  COORDINATE_SYSTEM_NAME = PLANETOGRAPHIC
  COORDINATE_SYSTEM_TYPE = "BODY-FIXED ROTATING"
  EASTERNMOST_LONGITUDE = 192.547
  FIRST_STANDARD_PARALLEL = "N/A"
  LINE_FIRST_PIXEL = 1
  LINE_LAST_PIXEL = 13477
  LINE_PROJECTION_OFFSET = -49371.875
  MAP_PROJECTION_ROTATION = 0.0
  MAP_PROJECTION_TYPE = SINUSOIDAL
  MAP_RESOLUTION = 1185.42760773333
  MAP_SCALE = 0.05
  MAXIMUM_LATITUDE = -41.6386
  MINIMUM_LATITUDE = -53.0779
  POSITIVE_LONGITUDE_DIRECTION = EAST
  REFERENCE_LATITUDE = "N/A"
  REFERENCE_LONGITUDE = "N/A"
  SAMPLE_FIRST_PIXEL = 1
  SAMPLE_LAST_PIXEL = 1887
  SAMPLE_PROJECTION_OFFSET = 1400.125
  SECOND_STANDARD_PARALLEL = "N/A"
  WESTERNMOST_LONGITUDE = 190.047
END_OBJECT = IMAGE_MAP_PROJECTION
/* The JPEG2000 image data file associated with this label. */
OBJECT = COMPRESSED_FILE
  FILE_NAME = "H4337_0000_P23.JP2"
  RECORD_TYPE = UNDEFINED
  FILE_RECORDS = UNK
  ENCODING_TYPE = "JP2"
  INTERCHANGE_FORMAT = BINARY
  UNCOMPRESSED_FILE_NAME = "H4337_0000_P23.IMG"
  REQUIRED_STORAGE_BYTES = "25451856"
  ^DESCRIPTION = "JP2INFO.TXT"
END_OBJECT = COMPRESSED_FILE
END
