PDS_VERSION_ID = PDS3
/* FILE DATA ELEMENTS */
RECORD_TYPE = STREAM
/* POINTERS TO DATA OBJECTS */
^COMPRESSED_FILE = "H4338_0000_BL3.JP2"
/* IDENTIFICATION DATA ELEMENTS */
DATA_SET_ID = "MEX-M-HRSC-5-REFDR-MAPPROJECTED-V3.0"
DATA_SET_NAME = "MARS EXPRESS HRSC MAP PROJECTED REFDR V3.0"
DETECTOR_ID = MEX_HRSC_BLUE
EVENT_TYPE = "MARS-REGIONAL-MAPPING-Vo-Te-Im"
INSTRUMENT_HOST_ID = MEX
INSTRUMENT_HOST_NAME = "MARS EXPRESS"
INSTRUMENT_ID = HRSC
INSTRUMENT_NAME = "HIGH RESOLUTION STEREO CAMERA"
MISSION_NAME = "MARS EXPRESS"
MISSION_PHASE_NAME = ME_Phase_7
PROCESSING_LEVEL_ID = 3
PRODUCT_CREATION_TIME = 2016-04-21T11:52:47.000Z
PRODUCT_ID = "H4338_0000_BL3.JP2"
RELEASE_ID = 0049
REVISION_ID = 0000
/* QUALITY DATA ELEMENTS */
DATA_QUALITY_ID = 1
DATA_QUALITY_DESC = "Data calculated based on original SPICE kernels"
/* TIME DATA ELEMENTS */
SPACECRAFT_CLOCK_START_COUNT = "1/0127904267.08419"
SPACECRAFT_CLOCK_STOP_COUNT = "1/0127904483.57247"
START_TIME = 2007-05-22T08:58:17.767Z
STOP_TIME = 2007-05-22T09:00:55.486Z
/* ORBITAL DATA ELEMENTS */
ASCENDING_NODE_LONGITUDE = 137.46
MAXIMUM_RESOLUTION = 47.5
FOOTPRINT_POINT_LATITUDE = (-59.7878,-59.7552,-59.7187,-59.6989, -59.6583,-59.4388,-59.219,-59.0039, -58.7905,-58.4704,-58.257,-57.9353, -57.7203,-57.506,-57.2942,-57.087, -56.8795,-56.6712,-56.4631,-56.1508, -55.8382,-55.6296,-55.4207,-55.2127, -55.0105,-54.8081,-54.6061,-54.4045, -54.2015,-53.9987,-53.7962,-53.5935, -53.3903,-53.0848,-52.8819,-52.6796, -52.4762,-52.2801,-52.0838,-51.7895, -51.4959,-51.2973,-51.1003,-50.9035, -50.7067,-50.5104,-50.3141,-50.1184, -49.9204,-49.7226,-49.426,-49.4277, -49.4427,-49.4615,-49.5739,-49.7719, -50.0688,-50.3656,-50.564,-50.8615, -51.0601,-51.2592,-51.5545,-51.7511, -51.9473,-52.144,-52.3409,-52.5377, -52.7409,-52.9449,-53.251,-53.455, -53.6588,-53.8626,-54.0662,-54.2703, -54.4762,-54.6782,-54.8806,-55.0855, -55.2892,-55.4966,-55.8106,-56.1251, -56.3347,-56.6491,-56.8571,-57.0671, -57.2759,-57.4857,-57.7018,-57.9174, -58.2405,-58.4556,-58.6709,-58.9932, -59.2077,-59.4269,-59.6488,-59.7878)
FOOTPRINT_POINT_LONGITUDE = (92.4548,91.7919,91.122,90.7841,90.3762 ,90.4317,90.4857,90.536,90.5857,90.6598 ,90.7095,90.7777,90.8207,90.8664, 90.9148,90.9587,91.002,91.0415,91.0821, 91.1424,91.2015,91.2401,91.2775,91.3171 ,91.3511,91.3847,91.4196,91.4559,91.487 ,91.5185,91.5515,91.5835,91.6134, 91.6556,91.6866,91.7206,91.7495,91.7777 ,91.8051,91.8467,91.891,91.9093,91.9337 ,91.9589,91.9843,92.0115,92.0386, 92.0679,92.0883,92.1094,92.1411,92.6438 ,92.9741,93.4203,93.7412,93.7269, 93.7052,93.6831,93.6681,93.6452,93.6297 ,93.614,93.5903,93.5743,93.5582,93.5418 ,93.5252,93.5085,93.4909,93.473,93.4458 ,93.4273,93.4087,93.3897,93.3706, 93.3511,93.3309,93.3113,93.2913,93.2704 ,93.2495,93.2283,93.1954,93.1617, 93.1388,93.1037,93.0804,93.0561,93.0318 ,93.007,92.9809,92.9547,92.9146,92.8874 ,92.8596,92.8173,92.7887,92.7589, 92.7281,92.4548)
ORBIT_NUMBER = 4338
ORBITAL_ECCENTRICITY = 0.571
ORBITAL_INCLINATION = 86.69
ORBITAL_SEMIMAJOR_AXIS = 8578.12
PERIAPSIS_ALTITUDE = 292.09
PERIAPSIS_ARGUMENT_ANGLE = 313.98
PERIAPSIS_TIME = 2007-05-22T09:01:54.000Z
SPACECRAFT_ORIENTATION = (0.0,1.0,0.0)
^MEX_ORIENTATION_DESC = "MEX_ORIENTATION_DESC.TXT"
SPACECRAFT_POINTING_MODE = ACROSSTRACK
^MEX_POINTING_DESC = "MEX_POINTING_DESC.TXT"
RIGHT_ASCENSION = -1e+32
DECLINATION = -1e+32
OFFSET_ANGLE = 0.5
SPACECRAFT_SOLAR_DISTANCE = 2.06853e+08
TARGET_NAME = MARS
/* CAMERA DATA ELEMENTS */
DETECTOR_TEMPERATURE = 18.3705
FOCAL_PLANE_TEMPERATURE = 8.7872
INST_CMPRS_NAME = "DISCRETE COSINE TRANSFORMATION (DCT)"
INST_CMPRS_RATIO = 11.5318
INST_CMPRS_QUALITY = 0
INST_CMPRS_QUANTZ_TBL_ID = 0
INSTRUMENT_TEMPERATURE = 11.234
LENS_TEMPERATURE = 9.195
MACROPIXEL_SIZE = 4
MISSING_FRAMES = 0
PIXEL_SUBSAMPLING_FLAG = N
SIGNAL_CHAIN_ID = 2
/* RADIOMETRIC DATA ELEMENTS */
BANDWIDTH = 76.0
CENTER_FILTER_WAVELENGTH = 444.0
RADIANCE_OFFSET = 1.02633
RADIANCE_SCALING_FACTOR = 0.0010339
REFLECTANCE_SCALING_FACTOR = 4.54527e-05
MEX:REFLECTANCE_OFFSET = 0.0451199
/* IMAGE OBJECT DEFINITIONS */
OBJECT = IMAGE
  INTERCHANGE_FORMAT = BINARY
  LINES = 12294
  LINE_SAMPLES = 2337
  SAMPLE_TYPE = UNSIGNED_INTEGER
  SAMPLE_BITS = 8
  BANDS = 1
  BAND_STORAGE_TYPE = BAND_SEQUENTIAL
  MAXIMUM = 255
  MEAN = 129.624
  MINIMUM = 1
  STANDARD_DEVIATION = 35.0307
END_OBJECT = IMAGE
/* MAP OBJECT DEFINITIONS */
OBJECT = IMAGE_MAP_PROJECTION
  ^DATA_SET_MAP_PROJECTION_CATALOG= "DSMAP.CAT"
  A_AXIS_RADIUS = 3396.0
  B_AXIS_RADIUS = 3396.0
  C_AXIS_RADIUS = 3396.0
  CENTER_LATITUDE = 0.0
  CENTER_LONGITUDE = 92.0
  COORDINATE_SYSTEM_NAME = PLANETOGRAPHIC
  COORDINATE_SYSTEM_TYPE = "BODY-FIXED ROTATING"
  EASTERNMOST_LONGITUDE = 93.74120000000001
  FIRST_STANDARD_PARALLEL = "N/A"
  LINE_FIRST_PIXEL = 1
  LINE_LAST_PIXEL = 12294
  LINE_PROJECTION_OFFSET = -58558.625
  MAP_PROJECTION_ROTATION = 0.0
  MAP_PROJECTION_TYPE = SINUSOIDAL
  MAP_RESOLUTION = 1185.42760773333
  MAP_SCALE = 0.05
  MAXIMUM_LATITUDE = -49.426
  MINIMUM_LATITUDE = -59.7878
  POSITIVE_LONGITUDE_DIRECTION = EAST
  REFERENCE_LATITUDE = "N/A"
  REFERENCE_LONGITUDE = "N/A"
  SAMPLE_FIRST_PIXEL = 1
  SAMPLE_LAST_PIXEL = 2337
  SAMPLE_PROJECTION_OFFSET = 988.625
  SECOND_STANDARD_PARALLEL = "N/A"
  WESTERNMOST_LONGITUDE = 90.3762
END_OBJECT = IMAGE_MAP_PROJECTION
/* The JPEG2000 image data file associated with this label. */
OBJECT = COMPRESSED_FILE
  FILE_NAME = "H4338_0000_BL3.JP2"
  RECORD_TYPE = UNDEFINED
  FILE_RECORDS = UNK
  ENCODING_TYPE = "JP2"
  INTERCHANGE_FORMAT = BINARY
  UNCOMPRESSED_FILE_NAME = "H4338_0000_BL3.IMG"
  REQUIRED_STORAGE_BYTES = "28754448"
  ^DESCRIPTION = "JP2INFO.TXT"
END_OBJECT = COMPRESSED_FILE
END
