PDS_VERSION_ID = PDS3
/* FILE DATA ELEMENTS */
RECORD_TYPE = STREAM
/* POINTERS TO DATA OBJECTS */
^COMPRESSED_FILE = "H4346_0000_IR3.JP2"
/* IDENTIFICATION DATA ELEMENTS */
DATA_SET_ID = "MEX-M-HRSC-5-REFDR-MAPPROJECTED-V3.0"
DATA_SET_NAME = "MARS EXPRESS HRSC MAP PROJECTED REFDR V3.0"
DETECTOR_ID = MEX_HRSC_IR
EVENT_TYPE = "MARS-REGIONAL-MAPPING-Vo-Te-Im"
INSTRUMENT_HOST_ID = MEX
INSTRUMENT_HOST_NAME = "MARS EXPRESS"
INSTRUMENT_ID = HRSC
INSTRUMENT_NAME = "HIGH RESOLUTION STEREO CAMERA"
MISSION_NAME = "MARS EXPRESS"
MISSION_PHASE_NAME = ME_Phase_7
PROCESSING_LEVEL_ID = 3
PRODUCT_CREATION_TIME = 2016-04-21T11:52:47.000Z
PRODUCT_ID = "H4346_0000_IR3.JP2"
RELEASE_ID = 0049
REVISION_ID = 0000
/* QUALITY DATA ELEMENTS */
DATA_QUALITY_ID = 2
DATA_QUALITY_DESC = "Data calculated based on photogrammetrically improved orbit and attitude data"
/* TIME DATA ELEMENTS */
SPACECRAFT_CLOCK_START_COUNT = "1/0128097835.08384"
SPACECRAFT_CLOCK_STOP_COUNT = "1/0128098215.24377"
START_TIME = 2007-05-24T14:44:52.940Z
STOP_TIME = 2007-05-24T14:50:12.505Z
/* ORBITAL DATA ELEMENTS */
ASCENDING_NODE_LONGITUDE = 137.3
MAXIMUM_RESOLUTION = 97.1
FOOTPRINT_POINT_LATITUDE = (-58.6245,-58.5855,-58.6221,-58.3978, -57.7331,-57.0694,-56.6266,-56.1828, -55.7431,-55.3148,-54.8868,-54.247, -53.82,-53.1794,-52.7525,-52.3321, -51.9049,-51.4717,-51.0609,-50.6535, -50.2432,-49.8329,-49.2178,-48.8086, -48.3995,-47.9898,-47.5808,-46.9685, -46.5589,-46.1513,-45.5406,-45.1343, -44.5242,-44.1229,-43.7019,-43.2766, -42.8563,-42.2319,-41.5987,-40.9747, -40.3523,-39.9375,-39.5136,-39.0845, -38.6565,-38.0167,-37.5891,-37.5446, -37.5493,-37.5549,-37.7711,-38.1984, -38.6259,-39.0547,-39.4851,-39.9105, -40.3261,-40.7508,-41.168,-41.7867, -42.2062,-42.6245,-43.0459,-43.4669, -43.8876,-44.5122,-44.919,-45.3263, -45.9316,-46.5459,-46.9595,-47.5767, -47.9853,-48.3949,-48.8016,-49.2132, -49.8292,-50.4461,-50.8577,-51.2685, -51.9049,-52.3333,-52.7519,-53.1811, -53.6088,-54.0405,-54.4695,-54.8989, -55.329,-55.7587,-56.1981,-56.6434, -56.8667,-57.0895,-57.5341,-57.9785, -58.2027,-58.4271,-58.6497,-58.6245)
FOOTPRINT_POINT_LONGITUDE = (26.7523,25.7529,25.2873,25.3339, 25.4631,25.5842,25.6616,25.7371,25.8089 ,25.8771,25.9427,26.0351,26.0945, 26.1801,26.2348,26.2821,26.3336,26.3886 ,26.4346,26.4765,26.5196,26.5614, 26.6217,26.6597,26.6967,26.733,26.7678, 26.8175,26.8505,26.8813,26.9254,26.9533 ,26.9942,27.017,27.0438,27.072,27.0962, 27.1274,27.1633,27.1921,27.219,27.2363, 27.253,27.2696,27.2852,27.3067,27.3213, 27.7594,28.0811,28.5687,28.6855,28.6711 ,28.6562,28.6411,28.6261,28.6099, 28.5943,28.5815,28.5654,28.5375,28.5208 ,28.5029,28.4856,28.4675,28.4486, 28.4231,28.404,28.3845,28.352,28.3214, 28.3017,28.2698,28.2465,28.2229,28.1975 ,28.1733,28.135,28.0954,28.0681,28.0397 ,27.9969,27.9659,27.93,27.8974,27.8632, 27.8297,27.7939,27.7573,27.7199,27.6811 ,27.6399,27.597,27.5754,27.5532,27.5072 ,27.4598,27.4363,27.4127,27.3878, 26.7523)
ORBIT_NUMBER = 4346
ORBITAL_ECCENTRICITY = 0.571
ORBITAL_INCLINATION = 86.68
ORBITAL_SEMIMAJOR_AXIS = 8575.12
PERIAPSIS_ALTITUDE = 292.99
PERIAPSIS_ARGUMENT_ANGLE = 312.6
PERIAPSIS_TIME = 2007-05-24T14:47:23.000Z
SPACECRAFT_ORIENTATION = (0.0,1.0,0.0)
^MEX_ORIENTATION_DESC = "MEX_ORIENTATION_DESC.TXT"
SPACECRAFT_POINTING_MODE = ACROSSTRACK
^MEX_POINTING_DESC = "MEX_POINTING_DESC.TXT"
RIGHT_ASCENSION = -1e+32
DECLINATION = -1e+32
OFFSET_ANGLE = 0.1
SPACECRAFT_SOLAR_DISTANCE = 2.06795e+08
TARGET_NAME = MARS
/* CAMERA DATA ELEMENTS */
DETECTOR_TEMPERATURE = 17.9627
FOCAL_PLANE_TEMPERATURE = 10.2145
INST_CMPRS_NAME = "DISCRETE COSINE TRANSFORMATION (DCT)"
INST_CMPRS_RATIO = 25.4797
INST_CMPRS_QUALITY = 0
INST_CMPRS_QUANTZ_TBL_ID = 0
INSTRUMENT_TEMPERATURE = 11.6418
LENS_TEMPERATURE = 10.4184
MACROPIXEL_SIZE = 8
MISSING_FRAMES = 0
PIXEL_SUBSAMPLING_FLAG = N
SIGNAL_CHAIN_ID = 2
/* RADIOMETRIC DATA ELEMENTS */
BANDWIDTH = 81.0
CENTER_FILTER_WAVELENGTH = 955.5
RADIANCE_OFFSET = 1.30697
RADIANCE_SCALING_FACTOR = 0.00542688
REFLECTANCE_SCALING_FACTOR = 0.000500679
MEX:REFLECTANCE_OFFSET = 0.12058
/* IMAGE OBJECT DEFINITIONS */
OBJECT = IMAGE
  INTERCHANGE_FORMAT = BINARY
  LINES = 12562
  LINE_SAMPLES = 1339
  SAMPLE_TYPE = UNSIGNED_INTEGER
  SAMPLE_BITS = 8
  BANDS = 1
  BAND_STORAGE_TYPE = BAND_SEQUENTIAL
  MAXIMUM = 255
  MEAN = 141.179
  MINIMUM = 1
  STANDARD_DEVIATION = 33.6191
END_OBJECT = IMAGE
/* MAP OBJECT DEFINITIONS */
OBJECT = IMAGE_MAP_PROJECTION
  ^DATA_SET_MAP_PROJECTION_CATALOG= "DSMAP.CAT"
  A_AXIS_RADIUS = 3396.0
  B_AXIS_RADIUS = 3396.0
  C_AXIS_RADIUS = 3396.0
  CENTER_LATITUDE = 0.0
  CENTER_LONGITUDE = 27.0
  COORDINATE_SYSTEM_NAME = PLANETOGRAPHIC
  COORDINATE_SYSTEM_TYPE = "BODY-FIXED ROTATING"
  EASTERNMOST_LONGITUDE = 28.6855
  FIRST_STANDARD_PARALLEL = "N/A"
  LINE_FIRST_PIXEL = 1
  LINE_LAST_PIXEL = 12562
  LINE_PROJECTION_OFFSET = -22255.9375
  MAP_PROJECTION_ROTATION = 0.0
  MAP_PROJECTION_TYPE = SINUSOIDAL
  MAP_RESOLUTION = 592.713803866667
  MAP_SCALE = 0.1
  MAXIMUM_LATITUDE = -37.5446
  MINIMUM_LATITUDE = -58.6497
  POSITIVE_LONGITUDE_DIRECTION = EAST
  REFERENCE_LATITUDE = "N/A"
  REFERENCE_LONGITUDE = "N/A"
  SAMPLE_FIRST_PIXEL = 1
  SAMPLE_LAST_PIXEL = 1339
  SAMPLE_PROJECTION_OFFSET = 547.1875
  SECOND_STANDARD_PARALLEL = "N/A"
  WESTERNMOST_LONGITUDE = 25.2873
END_OBJECT = IMAGE_MAP_PROJECTION
/* The JPEG2000 image data file associated with this label. */
OBJECT = COMPRESSED_FILE
  FILE_NAME = "H4346_0000_IR3.JP2"
  RECORD_TYPE = UNDEFINED
  FILE_RECORDS = UNK
  ENCODING_TYPE = "JP2"
  INTERCHANGE_FORMAT = BINARY
  UNCOMPRESSED_FILE_NAME = "H4346_0000_IR3.IMG"
  REQUIRED_STORAGE_BYTES = "16840603"
  ^DESCRIPTION = "JP2INFO.TXT"
END_OBJECT = COMPRESSED_FILE
END
