PDS_VERSION_ID = PDS3
/* FILE DATA ELEMENTS */
RECORD_TYPE = STREAM
/* POINTERS TO DATA OBJECTS */
^COMPRESSED_FILE = "H4347_0000_P13.JP2"
/* IDENTIFICATION DATA ELEMENTS */
DATA_SET_ID = "MEX-M-HRSC-5-REFDR-MAPPROJECTED-V3.0"
DATA_SET_NAME = "MARS EXPRESS HRSC MAP PROJECTED REFDR V3.0"
DETECTOR_ID = MEX_HRSC_P1
EVENT_TYPE = "MARS-REGIONAL-MAPPING-Vo-Te-Fl"
INSTRUMENT_HOST_ID = MEX
INSTRUMENT_HOST_NAME = "MARS EXPRESS"
INSTRUMENT_ID = HRSC
INSTRUMENT_NAME = "HIGH RESOLUTION STEREO CAMERA"
MISSION_NAME = "MARS EXPRESS"
MISSION_PHASE_NAME = ME_Phase_7
PROCESSING_LEVEL_ID = 3
PRODUCT_CREATION_TIME = 2016-04-21T11:52:47.000Z
PRODUCT_ID = "H4347_0000_P13.JP2"
RELEASE_ID = 0049
REVISION_ID = 0000
/* QUALITY DATA ELEMENTS */
DATA_QUALITY_ID = 2
DATA_QUALITY_DESC = "Data calculated based on photogrammetrically improved orbit and attitude data"
/* TIME DATA ELEMENTS */
SPACECRAFT_CLOCK_START_COUNT = "1/0128122388.08249"
SPACECRAFT_CLOCK_STOP_COUNT = "1/0128122674.33398"
START_TIME = 2007-05-24T21:33:58.892Z
STOP_TIME = 2007-05-24T21:37:41.086Z
/* ORBITAL DATA ELEMENTS */
ASCENDING_NODE_LONGITUDE = 137.28
MAXIMUM_RESOLUTION = 26.4
FOOTPRINT_POINT_LATITUDE = (-35.4416,-35.4378,-35.4334,-35.4288, -35.1959,-34.7078,-34.4591,-34.2095, -33.9607,-33.7123,-33.2159,-32.9634, -32.7074,-32.4521,-32.0689,-31.8149, -31.5602,-31.3058,-31.052,-30.7989, -30.5462,-30.2949,-29.9197,-29.6691, -29.4185,-29.1684,-28.9186,-28.4779, -28.1813,-27.8852,-27.4436,-27.1479, -26.8532,-26.5592,-26.2655,-25.9735, -25.6807,-25.3894,-25.099,-24.6637, -24.3699,-24.0729,-23.7773,-23.4775, -23.1763,-22.8758,-22.5699,-22.2627, -21.9564,-21.7923,-21.7916,-21.7887, -21.7919,-22.2527,-22.5608,-22.8674, -23.1691,-23.4715,-23.7721,-24.068, -24.3646,-24.6602,-24.9509,-25.2416, -25.5335,-25.8252,-26.118,-26.4112, -26.8523,-27.1465,-27.447,-27.7425, -28.1822,-28.4781,-28.775,-29.0446, -29.4173,-29.6671,-29.9168,-30.1684, -30.4207,-30.6744,-30.9298,-31.184, -31.4408,-31.6968,-31.9513,-32.2056, -32.4616,-32.718,-32.9737,-33.2265, -33.4749,-33.7234,-33.9721,-34.2211, -34.4702,-34.7198,-35.2087,-35.4416)
FOOTPRINT_POINT_LONGITUDE = (290.342,289.973,289.63,289.312,289.079 ,289.09,289.095,289.1,289.105,289.11, 289.119,289.123,289.128,289.132,289.138 ,289.141,289.144,289.148,289.151, 289.154,289.156,289.158,289.159,289.16, 289.162,289.163,289.164,289.165,289.165 ,289.166,289.165,289.165,289.165, 289.164,289.164,289.163,289.162,289.16, 289.158,289.156,289.152,289.15,289.148, 289.145,289.141,289.137,289.133,289.129 ,289.124,289.362,289.793,290.351, 290.772,290.762,290.756,290.75,290.744, 290.738,290.732,290.726,290.72,290.714, 290.708,290.702,290.696,290.69,290.684, 290.678,290.668,290.662,290.658,290.651 ,290.639,290.632,290.624,290.618, 290.608,290.601,290.595,290.589,290.583 ,290.577,290.572,290.566,290.561, 290.556,290.549,290.543,290.537,290.53, 290.524,290.517,290.51,290.503,290.497, 290.49,290.482,290.475,290.461,290.342)
ORBIT_NUMBER = 4347
ORBITAL_ECCENTRICITY = 0.571
ORBITAL_INCLINATION = 86.68
ORBITAL_SEMIMAJOR_AXIS = 8573.44
PERIAPSIS_ALTITUDE = 292.77
PERIAPSIS_ARGUMENT_ANGLE = 312.43
PERIAPSIS_TIME = 2007-05-24T21:30:39.000Z
SPACECRAFT_ORIENTATION = (0.0,1.0,0.0)
^MEX_ORIENTATION_DESC = "MEX_ORIENTATION_DESC.TXT"
SPACECRAFT_POINTING_MODE = ACROSSTRACK
^MEX_POINTING_DESC = "MEX_POINTING_DESC.TXT"
RIGHT_ASCENSION = -1e+32
DECLINATION = -1e+32
OFFSET_ANGLE = 0.1
SPACECRAFT_SOLAR_DISTANCE = 2.06788e+08
TARGET_NAME = MARS
/* CAMERA DATA ELEMENTS */
DETECTOR_TEMPERATURE = 17.7588
FOCAL_PLANE_TEMPERATURE = 10.6223
INST_CMPRS_NAME = "DISCRETE COSINE TRANSFORMATION (DCT)"
INST_CMPRS_RATIO = 12.7544
INST_CMPRS_QUALITY = 0
INST_CMPRS_QUANTZ_TBL_ID = 0
INSTRUMENT_TEMPERATURE = 11.8457
LENS_TEMPERATURE = 10.0106
MACROPIXEL_SIZE = 2
MISSING_FRAMES = 0
PIXEL_SUBSAMPLING_FLAG = N
SIGNAL_CHAIN_ID = 3
/* RADIOMETRIC DATA ELEMENTS */
BANDWIDTH = 174.0
CENTER_FILTER_WAVELENGTH = 675.0
RADIANCE_OFFSET = 5.73085
RADIANCE_SCALING_FACTOR = 0.0179337
REFLECTANCE_SCALING_FACTOR = 0.000412485
MEX:REFLECTANCE_OFFSET = 0.131813
/* IMAGE OBJECT DEFINITIONS */
OBJECT = IMAGE
  INTERCHANGE_FORMAT = BINARY
  LINES = 32435
  LINE_SAMPLES = 3654
  SAMPLE_TYPE = UNSIGNED_INTEGER
  SAMPLE_BITS = 8
  BANDS = 1
  BAND_STORAGE_TYPE = BAND_SEQUENTIAL
  MAXIMUM = 255
  MEAN = 96.7052
  MINIMUM = 1
  STANDARD_DEVIATION = 22.6531
END_OBJECT = IMAGE
/* MAP OBJECT DEFINITIONS */
OBJECT = IMAGE_MAP_PROJECTION
  ^DATA_SET_MAP_PROJECTION_CATALOG= "DSMAP.CAT"
  A_AXIS_RADIUS = 3396.0
  B_AXIS_RADIUS = 3396.0
  C_AXIS_RADIUS = 3396.0
  CENTER_LATITUDE = 0.0
  CENTER_LONGITUDE = 290.0
  COORDINATE_SYSTEM_NAME = PLANETOGRAPHIC
  COORDINATE_SYSTEM_TYPE = "BODY-FIXED ROTATING"
  EASTERNMOST_LONGITUDE = 290.772
  FIRST_STANDARD_PARALLEL = "N/A"
  LINE_FIRST_PIXEL = 1
  LINE_LAST_PIXEL = 32435
  LINE_PROJECTION_OFFSET = -51681.25
  MAP_PROJECTION_ROTATION = 0.0
  MAP_PROJECTION_TYPE = SINUSOIDAL
  MAP_RESOLUTION = 2370.85521546667
  MAP_SCALE = 0.025
  MAXIMUM_LATITUDE = -21.7887
  MINIMUM_LATITUDE = -35.4416
  POSITIVE_LONGITUDE_DIRECTION = EAST
  REFERENCE_LATITUDE = "N/A"
  REFERENCE_LONGITUDE = "N/A"
  SAMPLE_FIRST_PIXEL = 1
  SAMPLE_LAST_PIXEL = 3654
  SAMPLE_PROJECTION_OFFSET = 1964.75
  SECOND_STANDARD_PARALLEL = "N/A"
  WESTERNMOST_LONGITUDE = 289.079
END_OBJECT = IMAGE_MAP_PROJECTION
/* The JPEG2000 image data file associated with this label. */
OBJECT = COMPRESSED_FILE
  FILE_NAME = "H4347_0000_P13.JP2"
  RECORD_TYPE = UNDEFINED
  FILE_RECORDS = UNK
  ENCODING_TYPE = "JP2"
  INTERCHANGE_FORMAT = BINARY
  UNCOMPRESSED_FILE_NAME = "H4347_0000_P13.IMG"
  REQUIRED_STORAGE_BYTES = "118539414"
  ^DESCRIPTION = "JP2INFO.TXT"
END_OBJECT = COMPRESSED_FILE
END
