PDS_VERSION_ID = PDS3
/* FILE DATA ELEMENTS */
RECORD_TYPE = STREAM
/* POINTERS TO DATA OBJECTS */
^COMPRESSED_FILE = "H4349_0000_S13.JP2"
/* IDENTIFICATION DATA ELEMENTS */
DATA_SET_ID = "MEX-M-HRSC-5-REFDR-MAPPROJECTED-V3.0"
DATA_SET_NAME = "MARS EXPRESS HRSC MAP PROJECTED REFDR V3.0"
DETECTOR_ID = MEX_HRSC_S1
EVENT_TYPE = "MARS-REGIONAL-MAPPING-Vo-Fl-Pf"
INSTRUMENT_HOST_ID = MEX
INSTRUMENT_HOST_NAME = "MARS EXPRESS"
INSTRUMENT_ID = HRSC
INSTRUMENT_NAME = "HIGH RESOLUTION STEREO CAMERA"
MISSION_NAME = "MARS EXPRESS"
MISSION_PHASE_NAME = ME_Phase_7
PROCESSING_LEVEL_ID = 3
PRODUCT_CREATION_TIME = 2016-04-21T11:52:47.000Z
PRODUCT_ID = "H4349_0000_S13.JP2"
RELEASE_ID = 0049
REVISION_ID = 0000
/* QUALITY DATA ELEMENTS */
DATA_QUALITY_ID = 1
DATA_QUALITY_DESC = "Data calculated based on original SPICE kernels"
/* TIME DATA ELEMENTS */
SPACECRAFT_CLOCK_START_COUNT = "1/0128170691.08407"
SPACECRAFT_CLOCK_STOP_COUNT = "1/0128170953.31941"
START_TIME = 2007-05-25T10:59:08.001Z
STOP_TIME = 2007-05-25T11:02:35.620Z
/* ORBITAL DATA ELEMENTS */
ASCENDING_NODE_LONGITUDE = 137.24
MAXIMUM_RESOLUTION = 26.1
FOOTPRINT_POINT_LATITUDE = (-41.0329,-41.0286,-41.021,-41.0145, -40.9602,-40.7166,-40.3513,-40.1001, -39.8475,-39.5961,-39.3448,-38.9735, -38.7205,-38.3437,-37.9695,-37.718, -37.3306,-36.9443,-36.6869,-36.4304, -36.1742,-35.9194,-35.5294,-35.2682, -34.8769,-34.6113,-34.3503,-34.0993, -33.8315,-33.5604,-33.2783,-33.0092, -32.7405,-32.4717,-32.2035,-31.9372, -31.5372,-31.2705,-31.0052,-30.7417, -30.4788,-30.2166,-29.9538,-29.5599, -29.1668,-28.7768,-28.3872,-28.127, -28.1038,-28.1051,-28.1068,-28.1083, -28.1101,-28.3706,-28.6309,-28.8925, -29.2848,-29.5465,-29.8074,-30.072, -30.3354,-30.5983,-30.8629,-31.1328, -31.4007,-31.7946,-32.0617,-32.4639, -32.7316,-33.0011,-33.4018,-33.8084, -34.2125,-34.4702,-34.7321,-34.9954, -35.2586,-35.5223,-35.786,-36.0416, -36.2979,-36.5547,-36.8118,-37.0663, -37.3269,-37.5869,-37.8439,-38.0937, -38.3443,-38.596,-38.8456,-39.221, -39.4723,-39.7243,-39.9766,-40.2288, -40.4765,-40.7201,-41.0863,-41.0329)
FOOTPRINT_POINT_LONGITUDE = (93.5232,93.3106,92.952,92.673,92.4546, 92.465,92.4803,92.4905,92.5007,92.5102, 92.5196,92.5308,92.5406,92.5538,92.5655 ,92.5733,92.5849,92.5959,92.603,92.6096 ,92.6161,92.6218,92.6305,92.6352,92.642 ,92.6483,92.6528,92.6531,92.6572, 92.6622,92.6714,92.6754,92.6792,92.683, 92.6865,92.6892,92.6934,92.6962,92.6984 ,92.6999,92.7012,92.7022,92.7035, 92.7052,92.7065,92.7068,92.7069,92.7072 ,93.078,93.2858,93.5232,93.8054,94.1471 ,94.236,94.2303,94.2249,94.2162,94.2103 ,94.2037,94.1983,94.1922,94.1856, 94.1794,94.1749,94.1694,94.1579,94.1515 ,94.142,94.1352,94.1288,94.1175,94.1077 ,94.0983,94.0897,94.0823,94.0752, 94.0679,94.0605,94.0529,94.0456,94.0382 ,94.0308,94.0233,94.0146,94.0079, 94.0008,93.9929,93.9851,93.9774,93.9699 ,93.9613,93.9485,93.9401,93.9317, 93.9231,93.9144,93.9056,93.8969,93.8837 ,93.5232)
ORBIT_NUMBER = 4349
ORBITAL_ECCENTRICITY = 0.571
ORBITAL_INCLINATION = 86.7
ORBITAL_SEMIMAJOR_AXIS = 8574.81
PERIAPSIS_ALTITUDE = 291.88
PERIAPSIS_ARGUMENT_ANGLE = 312.06
PERIAPSIS_TIME = 2007-05-25T10:57:00.000Z
SPACECRAFT_ORIENTATION = (0.0,1.0,0.0)
^MEX_ORIENTATION_DESC = "MEX_ORIENTATION_DESC.TXT"
SPACECRAFT_POINTING_MODE = NADIR
^MEX_POINTING_DESC = "MEX_POINTING_DESC.TXT"
RIGHT_ASCENSION = -1e+32
DECLINATION = -1e+32
OFFSET_ANGLE = -1e+32
SPACECRAFT_SOLAR_DISTANCE = 2.06776e+08
TARGET_NAME = MARS
/* CAMERA DATA ELEMENTS */
DETECTOR_TEMPERATURE = 18.1666
FOCAL_PLANE_TEMPERATURE = 9.8067
INST_CMPRS_NAME = "DISCRETE COSINE TRANSFORMATION (DCT)"
INST_CMPRS_RATIO = 9.45231
INST_CMPRS_QUALITY = 0
INST_CMPRS_QUANTZ_TBL_ID = 0
INSTRUMENT_TEMPERATURE = 11.6418
LENS_TEMPERATURE = 10.0106
MACROPIXEL_SIZE = 2
MISSING_FRAMES = 0
PIXEL_SUBSAMPLING_FLAG = N
SIGNAL_CHAIN_ID = 1
/* RADIOMETRIC DATA ELEMENTS */
BANDWIDTH = 180.0
CENTER_FILTER_WAVELENGTH = 677.0
RADIANCE_OFFSET = 7.872
RADIANCE_SCALING_FACTOR = 0.013604
REFLECTANCE_SCALING_FACTOR = 0.000303466
MEX:REFLECTANCE_OFFSET = 0.175602
/* IMAGE OBJECT DEFINITIONS */
OBJECT = IMAGE
  INTERCHANGE_FORMAT = BINARY
  LINES = 30796
  LINE_SAMPLES = 3539
  SAMPLE_TYPE = UNSIGNED_INTEGER
  SAMPLE_BITS = 8
  BANDS = 1
  BAND_STORAGE_TYPE = BAND_SEQUENTIAL
  MAXIMUM = 255
  MEAN = 175.188
  MINIMUM = 1
  STANDARD_DEVIATION = 33.4327
END_OBJECT = IMAGE
/* MAP OBJECT DEFINITIONS */
OBJECT = IMAGE_MAP_PROJECTION
  ^DATA_SET_MAP_PROJECTION_CATALOG= "DSMAP.CAT"
  A_AXIS_RADIUS = 3396.0
  B_AXIS_RADIUS = 3396.0
  C_AXIS_RADIUS = 3396.0
  CENTER_LATITUDE = 0.0
  CENTER_LONGITUDE = 93.0
  COORDINATE_SYSTEM_NAME = PLANETOGRAPHIC
  COORDINATE_SYSTEM_TYPE = "BODY-FIXED ROTATING"
  EASTERNMOST_LONGITUDE = 94.236
  FIRST_STANDARD_PARALLEL = "N/A"
  LINE_FIRST_PIXEL = 1
  LINE_LAST_PIXEL = 30796
  LINE_PROJECTION_OFFSET = -66624.25
  MAP_PROJECTION_ROTATION = 0.0
  MAP_PROJECTION_TYPE = SINUSOIDAL
  MAP_RESOLUTION = 2370.85521546667
  MAP_SCALE = 0.025
  MAXIMUM_LATITUDE = -28.1038
  MINIMUM_LATITUDE = -41.0863
  POSITIVE_LONGITUDE_DIRECTION = EAST
  REFERENCE_LATITUDE = "N/A"
  REFERENCE_LONGITUDE = "N/A"
  SAMPLE_FIRST_PIXEL = 1
  SAMPLE_LAST_PIXEL = 3539
  SAMPLE_PROJECTION_OFFSET = 995.25
  SECOND_STANDARD_PARALLEL = "N/A"
  WESTERNMOST_LONGITUDE = 92.4546
END_OBJECT = IMAGE_MAP_PROJECTION
/* The JPEG2000 image data file associated with this label. */
OBJECT = COMPRESSED_FILE
  FILE_NAME = "H4349_0000_S13.JP2"
  RECORD_TYPE = UNDEFINED
  FILE_RECORDS = UNK
  ENCODING_TYPE = "JP2"
  INTERCHANGE_FORMAT = BINARY
  UNCOMPRESSED_FILE_NAME = "H4349_0000_S13.IMG"
  REQUIRED_STORAGE_BYTES = "109011817"
  ^DESCRIPTION = "JP2INFO.TXT"
END_OBJECT = COMPRESSED_FILE
END
