PDS_VERSION_ID = PDS3
/* FILE DATA ELEMENTS */
RECORD_TYPE = STREAM
/* POINTERS TO DATA OBJECTS */
^COMPRESSED_FILE = "H4350_0000_ND3.JP2"
/* IDENTIFICATION DATA ELEMENTS */
DATA_SET_ID = "MEX-M-HRSC-5-REFDR-MAPPROJECTED-V3.0"
DATA_SET_NAME = "MARS EXPRESS HRSC MAP PROJECTED REFDR V3.0"
DETECTOR_ID = MEX_HRSC_NADIR
EVENT_TYPE = "MARS-REGIONAL-MAPPING-Gl-Pf-La"
INSTRUMENT_HOST_ID = MEX
INSTRUMENT_HOST_NAME = "MARS EXPRESS"
INSTRUMENT_ID = HRSC
INSTRUMENT_NAME = "HIGH RESOLUTION STEREO CAMERA"
MISSION_NAME = "MARS EXPRESS"
MISSION_PHASE_NAME = ME_Phase_7
PROCESSING_LEVEL_ID = 3
PRODUCT_CREATION_TIME = 2016-04-21T11:52:47.000Z
PRODUCT_ID = "H4350_0000_ND3.JP2"
RELEASE_ID = 0049
REVISION_ID = 0000
/* QUALITY DATA ELEMENTS */
DATA_QUALITY_ID = 2
DATA_QUALITY_DESC = "Data calculated based on photogrammetrically improved orbit and attitude data"
/* TIME DATA ELEMENTS */
SPACECRAFT_CLOCK_START_COUNT = "1/0128194237.07285"
SPACECRAFT_CLOCK_STOP_COUNT = "1/0128194484.45479"
START_TIME = 2007-05-25T17:31:40.104Z
STOP_TIME = 2007-05-25T17:34:10.102Z
/* ORBITAL DATA ELEMENTS */
ASCENDING_NODE_LONGITUDE = 137.22
MAXIMUM_RESOLUTION = 16.5
FOOTPRINT_POINT_LATITUDE = (-80.2137,-80.1353,-80.0445,-79.9465, -79.8414,-79.7292,-79.6098,-79.3561, -79.1787,-79.0001,-78.7321,-78.555, -78.3769,-78.1094,-77.9329,-77.7556, -77.4891,-77.3137,-77.1381,-76.9614, -76.7859,-76.6117,-76.4372,-76.2621, -76.0878,-75.9155,-75.7428,-75.5691, -75.3961,-75.2256,-75.0547,-74.8834, -74.6265,-74.4581,-74.2894,-74.0354, -73.8659,-73.7,-73.5336,-73.366, -73.1989,-73.0325,-72.8688,-72.7048, -72.5406,-72.376,-72.1298,-71.8072, -71.4836,-71.0036,-71.0628,-71.1009, -71.1532,-71.1916,-71.2207,-71.2569, -71.5167,-71.7656,-72.0976,-72.4288, -72.6819,-72.8512,-73.0203,-73.1892, -73.3578,-73.5305,-73.7029,-73.8751, -74.0471,-74.2189,-74.3944,-74.6575, -74.8326,-75.0074,-75.2747,-75.453, -75.6311,-75.8089,-75.9895,-76.1708, -76.3519,-76.5326,-76.7155,-76.8997, -77.0836,-77.2671,-77.4525,-77.6394, -77.8259,-78.012,-78.2957,-78.4849, -78.6736,-78.9605,-79.1521,-79.3432, -79.6333,-79.8271,-80.0203,-80.2137)
FOOTPRINT_POINT_LONGITUDE = (343.078,341.628,340.102,338.597, 337.116,335.659,334.225,333.921,334.405 ,334.874,335.546,335.972,336.385, 336.977,337.352,337.716,338.241,338.573 ,338.899,339.212,339.517,339.806, 340.091,340.368,340.635,340.893,341.146 ,341.388,341.625,341.852,342.075, 342.293,342.609,342.811,343.008,343.294 ,343.479,343.659,343.833,343.994, 344.162,344.336,344.492,344.646,344.796 ,344.944,345.16,345.433,345.695,346.067 ,346.896,347.462,348.288,348.939, 349.461,350.154,350.376,350.269,350.121 ,349.968,349.847,349.763,349.679, 349.593,349.504,349.411,349.317,349.221 ,349.122,349.022,348.917,348.754, 348.643,348.53,348.351,348.226,348.1, 347.97,347.834,347.694,347.551,347.405, 347.252,347.092,346.929,346.762,346.587 ,346.407,346.22,346.027,345.721,345.509 ,345.288,344.939,344.696,344.443,344.04 ,343.758,343.465,343.078)
ORBIT_NUMBER = 4350
ORBITAL_ECCENTRICITY = 0.571
ORBITAL_INCLINATION = 86.69
ORBITAL_SEMIMAJOR_AXIS = 8571.35
PERIAPSIS_ALTITUDE = 292.81
PERIAPSIS_ARGUMENT_ANGLE = 311.88
PERIAPSIS_TIME = 2007-05-25T17:40:10.000Z
SPACECRAFT_ORIENTATION = (0.0,1.0,0.0)
^MEX_ORIENTATION_DESC = "MEX_ORIENTATION_DESC.TXT"
SPACECRAFT_POINTING_MODE = ACROSSTRACK
^MEX_POINTING_DESC = "MEX_POINTING_DESC.TXT"
RIGHT_ASCENSION = -1e+32
DECLINATION = -1e+32
OFFSET_ANGLE = 0.5
SPACECRAFT_SOLAR_DISTANCE = 2.0677e+08
TARGET_NAME = MARS
/* CAMERA DATA ELEMENTS */
DETECTOR_TEMPERATURE = 18.5744
FOCAL_PLANE_TEMPERATURE = 9.6028
INST_CMPRS_NAME = "DISCRETE COSINE TRANSFORMATION (DCT)"
INST_CMPRS_RATIO = 6.34207
INST_CMPRS_QUALITY = 0
INST_CMPRS_QUANTZ_TBL_ID = 0
INSTRUMENT_TEMPERATURE = 11.8457
LENS_TEMPERATURE = 10.0106
MACROPIXEL_SIZE = 1
MISSING_FRAMES = 0
PIXEL_SUBSAMPLING_FLAG = N
SIGNAL_CHAIN_ID = 0
/* RADIOMETRIC DATA ELEMENTS */
BANDWIDTH = 177.0
CENTER_FILTER_WAVELENGTH = 677.5
RADIANCE_OFFSET = 7.42919
RADIANCE_SCALING_FACTOR = 0.0596046
REFLECTANCE_SCALING_FACTOR = 0.00135375
MEX:REFLECTANCE_OFFSET = 0.168733
/* IMAGE OBJECT DEFINITIONS */
OBJECT = IMAGE
  INTERCHANGE_FORMAT = BINARY
  LINES = 43691
  LINE_SAMPLES = 18296
  SAMPLE_TYPE = UNSIGNED_INTEGER
  SAMPLE_BITS = 8
  BANDS = 1
  BAND_STORAGE_TYPE = BAND_SEQUENTIAL
  MAXIMUM = 255
  MEAN = 183.31
  MINIMUM = 1
  STANDARD_DEVIATION = 49.0692
END_OBJECT = IMAGE
/* MAP OBJECT DEFINITIONS */
OBJECT = IMAGE_MAP_PROJECTION
  ^DATA_SET_MAP_PROJECTION_CATALOG= "DSMAP.CAT"
  A_AXIS_RADIUS = 3396.0
  B_AXIS_RADIUS = 3396.0
  C_AXIS_RADIUS = 3396.0
  CENTER_LATITUDE = 0.0
  CENTER_LONGITUDE = 345.0
  COORDINATE_SYSTEM_NAME = PLANETOGRAPHIC
  COORDINATE_SYSTEM_TYPE = "BODY-FIXED ROTATING"
  EASTERNMOST_LONGITUDE = 350.376
  FIRST_STANDARD_PARALLEL = "N/A"
  LINE_FIRST_PIXEL = 1
  LINE_LAST_PIXEL = 43691
  LINE_PROJECTION_OFFSET = -336665.0
  MAP_PROJECTION_ROTATION = 0.0
  MAP_PROJECTION_TYPE = SINUSOIDAL
  MAP_RESOLUTION = 4741.71043093333
  MAP_SCALE = 0.0125
  MAXIMUM_LATITUDE = -71.00360000000001
  MINIMUM_LATITUDE = -80.2137
  POSITIVE_LONGITUDE_DIRECTION = EAST
  REFERENCE_LATITUDE = "N/A"
  REFERENCE_LONGITUDE = "N/A"
  SAMPLE_FIRST_PIXEL = 1
  SAMPLE_LAST_PIXEL = 18296
  SAMPLE_PROJECTION_OFFSET = 9990.0
  SECOND_STANDARD_PARALLEL = "N/A"
  WESTERNMOST_LONGITUDE = 333.921
END_OBJECT = IMAGE_MAP_PROJECTION
/* The JPEG2000 image data file associated with this label. */
OBJECT = COMPRESSED_FILE
  FILE_NAME = "H4350_0000_ND3.JP2"
  RECORD_TYPE = UNDEFINED
  FILE_RECORDS = UNK
  ENCODING_TYPE = "JP2"
  INTERCHANGE_FORMAT = BINARY
  UNCOMPRESSED_FILE_NAME = "H4350_0000_ND3.IMG"
  REQUIRED_STORAGE_BYTES = "799425424"
  ^DESCRIPTION = "JP2INFO.TXT"
END_OBJECT = COMPRESSED_FILE
END
