PDS_VERSION_ID = PDS3
/* FILE DATA ELEMENTS */
RECORD_TYPE = STREAM
/* POINTERS TO DATA OBJECTS */
^COMPRESSED_FILE = "H4355_0000_ND3.JP2"
/* IDENTIFICATION DATA ELEMENTS */
DATA_SET_ID = "MEX-M-HRSC-5-REFDR-MAPPROJECTED-V3.0"
DATA_SET_NAME = "MARS EXPRESS HRSC MAP PROJECTED REFDR V3.0"
DETECTOR_ID = MEX_HRSC_NADIR
EVENT_TYPE = "MARS-REGIONAL-MAPPING-Vo-Te-Im"
INSTRUMENT_HOST_ID = MEX
INSTRUMENT_HOST_NAME = "MARS EXPRESS"
INSTRUMENT_ID = HRSC
INSTRUMENT_NAME = "HIGH RESOLUTION STEREO CAMERA"
MISSION_NAME = "MARS EXPRESS"
MISSION_PHASE_NAME = ME_Phase_7
PROCESSING_LEVEL_ID = 3
PRODUCT_CREATION_TIME = 2016-04-21T11:52:47.000Z
PRODUCT_ID = "H4355_0000_ND3.JP2"
RELEASE_ID = 0049
REVISION_ID = 0000
/* QUALITY DATA ELEMENTS */
DATA_QUALITY_ID = 2
DATA_QUALITY_DESC = "Data calculated based on photogrammetrically improved orbit and attitude data"
/* TIME DATA ELEMENTS */
SPACECRAFT_CLOCK_START_COUNT = "1/0128315737.07312"
SPACECRAFT_CLOCK_STOP_COUNT = "1/0128316139.13907"
START_TIME = 2007-05-27T03:16:07.216Z
STOP_TIME = 2007-05-27T03:21:43.210Z
/* ORBITAL DATA ELEMENTS */
ASCENDING_NODE_LONGITUDE = 137.12
MAXIMUM_RESOLUTION = 11.5
FOOTPRINT_POINT_LATITUDE = (-48.5941,-48.5771,-48.551,-47.9532, -47.3553,-46.9565,-46.3584,-45.9598, -45.5613,-45.1628,-44.7644,-44.366, -43.7522,-43.3389,-42.9258,-42.5128, -42.1001,-41.6875,-41.2752,-40.7811, -40.3693,-39.9578,-39.3229,-38.8971, -38.4717,-38.0464,-37.6216,-37.1972, -36.5404,-36.1022,-35.6644,-35.2272, -34.5565,-34.1056,-33.6555,-33.2057, -32.7419,-32.2788,-31.8163,-31.3551, -30.8943,-30.4344,-29.9753,-29.5172, -29.0598,-28.2778,-27.735,-27.1936, -26.6536,-26.6585,-26.6629,-26.666, -27.2069,-27.7492,-28.2929,-28.5652, -29.0766,-29.5347,-29.9936,-30.4534, -30.9141,-31.3755,-31.8378,-32.3008, -32.7646,-33.2292,-33.6798,-34.1307, -34.5822,-35.2542,-35.6921,-36.1306, -36.5695,-37.2274,-37.6525,-38.0779, -38.5038,-38.9301,-39.3568,-39.993, -40.4052,-40.8178,-41.3128,-41.7259, -42.1393,-42.5529,-42.9667,-43.3806, -43.7948,-44.4103,-44.8095,-45.2089, -45.8081,-46.4075,-47.007,-47.4067, -47.8065,-48.2062,-48.6059,-48.5941)
FOOTPRINT_POINT_LONGITUDE = (222.795,222.324,221.71,221.771,221.827 ,221.862,221.91,221.943,221.975,222.006 ,222.036,222.063,222.108,222.136, 222.163,222.187,222.212,222.235,222.258 ,222.284,222.305,222.324,222.355, 222.374,222.394,222.408,222.424,222.437 ,222.46,222.474,222.487,222.5,222.518, 222.53,222.54,222.55,222.56,222.569, 222.573,222.585,222.59,222.597,222.602, 222.607,222.61,222.616,222.618,222.62, 222.621,223.193,223.669,224.133,224.121 ,224.108,224.095,224.088,224.075, 224.063,224.051,224.039,224.026,224.014 ,224.0,223.987,223.973,223.959,223.945, 223.931,223.917,223.894,223.879,223.864 ,223.849,223.825,223.809,223.793, 223.776,223.759,223.741,223.715,223.697 ,223.679,223.657,223.638,223.618, 223.598,223.578,223.557,223.536,223.503 ,223.482,223.459,223.425,223.39,223.353 ,223.328,223.302,223.276,223.249, 222.795)
ORBIT_NUMBER = 4355
ORBITAL_ECCENTRICITY = 0.571
ORBITAL_INCLINATION = 86.7
ORBITAL_SEMIMAJOR_AXIS = 8569.68
PERIAPSIS_ALTITUDE = 292.07
PERIAPSIS_ARGUMENT_ANGLE = 311.01
PERIAPSIS_TIME = 2007-05-27T03:16:04.000Z
SPACECRAFT_ORIENTATION = (0.0,1.0,0.0)
^MEX_ORIENTATION_DESC = "MEX_ORIENTATION_DESC.TXT"
SPACECRAFT_POINTING_MODE = ACROSSTRACK
^MEX_POINTING_DESC = "MEX_POINTING_DESC.TXT"
RIGHT_ASCENSION = -1e+32
DECLINATION = -1e+32
OFFSET_ANGLE = 0.4
SPACECRAFT_SOLAR_DISTANCE = 2.06742e+08
TARGET_NAME = MARS
/* CAMERA DATA ELEMENTS */
DETECTOR_TEMPERATURE = 18.5744
FOCAL_PLANE_TEMPERATURE = 9.6028
INST_CMPRS_NAME = "DISCRETE COSINE TRANSFORMATION (DCT)"
INST_CMPRS_RATIO = 6.54595
INST_CMPRS_QUALITY = 0
INST_CMPRS_QUANTZ_TBL_ID = 0
INSTRUMENT_TEMPERATURE = 12.0496
LENS_TEMPERATURE = 10.0106
MACROPIXEL_SIZE = 1
MISSING_FRAMES = 54
PIXEL_SUBSAMPLING_FLAG = N
SIGNAL_CHAIN_ID = 0
/* RADIOMETRIC DATA ELEMENTS */
BANDWIDTH = 177.0
CENTER_FILTER_WAVELENGTH = 677.5
RADIANCE_OFFSET = 5.85051
RADIANCE_SCALING_FACTOR = 0.0252185
REFLECTANCE_SCALING_FACTOR = 0.000572615
MEX:REFLECTANCE_OFFSET = 0.132842
/* IMAGE OBJECT DEFINITIONS */
OBJECT = IMAGE
  INTERCHANGE_FORMAT = BINARY
  LINES = 104113
  LINE_SAMPLES = 9072
  SAMPLE_TYPE = UNSIGNED_INTEGER
  SAMPLE_BITS = 8
  BANDS = 1
  BAND_STORAGE_TYPE = BAND_SEQUENTIAL
  MAXIMUM = 255
  MEAN = 108.147
  MINIMUM = 1
  STANDARD_DEVIATION = 50.3609
END_OBJECT = IMAGE
/* MAP OBJECT DEFINITIONS */
OBJECT = IMAGE_MAP_PROJECTION
  ^DATA_SET_MAP_PROJECTION_CATALOG= "DSMAP.CAT"
  A_AXIS_RADIUS = 3396.0
  B_AXIS_RADIUS = 3396.0
  C_AXIS_RADIUS = 3396.0
  CENTER_LATITUDE = 0.0
  CENTER_LONGITUDE = 223.0
  COORDINATE_SYSTEM_NAME = PLANETOGRAPHIC
  COORDINATE_SYSTEM_TYPE = "BODY-FIXED ROTATING"
  EASTERNMOST_LONGITUDE = 224.133
  FIRST_STANDARD_PARALLEL = "N/A"
  LINE_FIRST_PIXEL = 1
  LINE_LAST_PIXEL = 104113
  LINE_PROJECTION_OFFSET = -126372.0
  MAP_PROJECTION_ROTATION = 0.0
  MAP_PROJECTION_TYPE = SINUSOIDAL
  MAP_RESOLUTION = 4741.71043093333
  MAP_SCALE = 0.0125
  MAXIMUM_LATITUDE = -26.6536
  MINIMUM_LATITUDE = -48.6059
  POSITIVE_LONGITUDE_DIRECTION = EAST
  REFERENCE_LATITUDE = "N/A"
  REFERENCE_LONGITUDE = "N/A"
  SAMPLE_FIRST_PIXEL = 1
  SAMPLE_LAST_PIXEL = 9072
  SAMPLE_PROJECTION_OFFSET = 4234.0
  SECOND_STANDARD_PARALLEL = "N/A"
  WESTERNMOST_LONGITUDE = 221.71
END_OBJECT = IMAGE_MAP_PROJECTION
/* The JPEG2000 image data file associated with this label. */
OBJECT = COMPRESSED_FILE
  FILE_NAME = "H4355_0000_ND3.JP2"
  RECORD_TYPE = UNDEFINED
  FILE_RECORDS = UNK
  ENCODING_TYPE = "JP2"
  INTERCHANGE_FORMAT = BINARY
  UNCOMPRESSED_FILE_NAME = "H4355_0000_ND3.IMG"
  REQUIRED_STORAGE_BYTES = "944549424"
  ^DESCRIPTION = "JP2INFO.TXT"
END_OBJECT = COMPRESSED_FILE
END
