PDS_VERSION_ID = PDS3
/* FILE DATA ELEMENTS */
RECORD_TYPE = STREAM
/* POINTERS TO DATA OBJECTS */
^COMPRESSED_FILE = "H4355_0000_P13.JP2"
/* IDENTIFICATION DATA ELEMENTS */
DATA_SET_ID = "MEX-M-HRSC-5-REFDR-MAPPROJECTED-V3.0"
DATA_SET_NAME = "MARS EXPRESS HRSC MAP PROJECTED REFDR V3.0"
DETECTOR_ID = MEX_HRSC_P1
EVENT_TYPE = "MARS-REGIONAL-MAPPING-Vo-Te-Im"
INSTRUMENT_HOST_ID = MEX
INSTRUMENT_HOST_NAME = "MARS EXPRESS"
INSTRUMENT_ID = HRSC
INSTRUMENT_NAME = "HIGH RESOLUTION STEREO CAMERA"
MISSION_NAME = "MARS EXPRESS"
MISSION_PHASE_NAME = ME_Phase_7
PROCESSING_LEVEL_ID = 3
PRODUCT_CREATION_TIME = 2016-04-21T11:52:47.000Z
PRODUCT_ID = "H4355_0000_P13.JP2"
RELEASE_ID = 0049
REVISION_ID = 0000
/* QUALITY DATA ELEMENTS */
DATA_QUALITY_ID = 2
DATA_QUALITY_DESC = "Data calculated based on photogrammetrically improved orbit and attitude data"
/* TIME DATA ELEMENTS */
SPACECRAFT_CLOCK_START_COUNT = "1/0128315737.07312"
SPACECRAFT_CLOCK_STOP_COUNT = "1/0128316139.13907"
START_TIME = 2007-05-27T03:16:24.031Z
STOP_TIME = 2007-05-27T03:22:07.568Z
/* ORBITAL DATA ELEMENTS */
ASCENDING_NODE_LONGITUDE = 137.12
MAXIMUM_RESOLUTION = 47.4
FOOTPRINT_POINT_LATITUDE = (-48.5526,-48.5433,-48.5576,-48.1593, -47.5622,-46.9669,-46.3744,-45.9782, -45.5823,-44.9753,-44.565,-44.1562, -43.5413,-43.1325,-42.7241,-42.3187, -42.0295,-41.6233,-41.0145,-40.3851, -39.9664,-39.5481,-39.1282,-38.7105, -38.2905,-37.8632,-37.4336,-36.7916, -36.3637,-35.9244,-35.4835,-35.0437, -34.6049,-33.9295,-33.4784,-33.0283, -32.5799,-32.132,-31.6902,-31.2405, -30.7968,-30.3537,-29.8376,-29.3124, -28.7893,-28.2671,-27.7481,-27.2304, -26.7145,-26.6659,-26.6631,-26.6597, -26.9168,-27.4345,-27.9539,-28.4753, -28.9986,-29.5235,-30.3113,-30.7547, -31.1993,-31.6452,-32.0923,-32.5404, -32.9897,-33.4402,-33.8917,-34.5692, -35.2281,-35.6662,-36.1106,-36.7614, -37.1913,-37.6201,-38.0545,-38.4798, -38.8961,-39.3137,-39.7326,-40.1528, -40.5732,-40.9929,-41.401,-41.8078, -42.2148,-42.5033,-42.9128,-43.3235, -43.7329,-44.143,-44.7577,-45.1683, -45.5719,-46.1684,-46.7612,-47.3572, -47.7551,-48.1553,-48.5557,-48.5526)
FOOTPRINT_POINT_LONGITUDE = (222.825,222.381,221.715,221.754, 221.811,221.864,221.911,221.943,221.975 ,222.021,222.051,222.079,222.122, 222.148,222.174,222.195,222.214,222.236 ,222.268,222.299,222.319,222.338, 222.358,222.376,222.394,222.407,222.422 ,222.443,222.456,222.47,222.483,222.495 ,222.506,222.522,222.532,222.541, 222.549,222.557,222.559,222.57,222.575, 222.58,222.585,222.59,222.593,222.596, 222.597,222.598,222.598,222.937,223.493 ,223.943,224.158,224.145,224.132, 224.118,224.104,224.09,224.068,224.055, 224.042,224.029,224.015,224.001,223.987 ,223.973,223.958,223.935,223.913, 223.897,223.881,223.858,223.842,223.825 ,223.808,223.791,223.773,223.756, 223.738,223.72,223.701,223.682,223.663, 223.644,223.624,223.61,223.589,223.569, 223.547,223.525,223.491,223.468,223.445 ,223.409,223.373,223.335,223.309, 223.282,223.255,222.825)
ORBIT_NUMBER = 4355
ORBITAL_ECCENTRICITY = 0.571
ORBITAL_INCLINATION = 86.7
ORBITAL_SEMIMAJOR_AXIS = 8569.68
PERIAPSIS_ALTITUDE = 292.07
PERIAPSIS_ARGUMENT_ANGLE = 311.01
PERIAPSIS_TIME = 2007-05-27T03:16:04.000Z
SPACECRAFT_ORIENTATION = (0.0,1.0,0.0)
^MEX_ORIENTATION_DESC = "MEX_ORIENTATION_DESC.TXT"
SPACECRAFT_POINTING_MODE = ACROSSTRACK
^MEX_POINTING_DESC = "MEX_POINTING_DESC.TXT"
RIGHT_ASCENSION = -1e+32
DECLINATION = -1e+32
OFFSET_ANGLE = 0.4
SPACECRAFT_SOLAR_DISTANCE = 2.06742e+08
TARGET_NAME = MARS
/* CAMERA DATA ELEMENTS */
DETECTOR_TEMPERATURE = 17.7588
FOCAL_PLANE_TEMPERATURE = 9.6028
INST_CMPRS_NAME = "DISCRETE COSINE TRANSFORMATION (DCT)"
INST_CMPRS_RATIO = 9.38023
INST_CMPRS_QUALITY = 0
INST_CMPRS_QUANTZ_TBL_ID = 0
INSTRUMENT_TEMPERATURE = 12.0496
LENS_TEMPERATURE = 10.0106
MACROPIXEL_SIZE = 4
MISSING_FRAMES = 14
PIXEL_SUBSAMPLING_FLAG = N
SIGNAL_CHAIN_ID = 3
/* RADIOMETRIC DATA ELEMENTS */
BANDWIDTH = 174.0
CENTER_FILTER_WAVELENGTH = 675.0
RADIANCE_OFFSET = 6.547
RADIANCE_SCALING_FACTOR = 0.0235753
REFLECTANCE_SCALING_FACTOR = 0.000542005
MEX:REFLECTANCE_OFFSET = 0.150518
/* IMAGE OBJECT DEFINITIONS */
OBJECT = IMAGE
  INTERCHANGE_FORMAT = BINARY
  LINES = 26029
  LINE_SAMPLES = 2268
  SAMPLE_TYPE = UNSIGNED_INTEGER
  SAMPLE_BITS = 8
  BANDS = 1
  BAND_STORAGE_TYPE = BAND_SEQUENTIAL
  MAXIMUM = 255
  MEAN = 111.786
  MINIMUM = 1
  STANDARD_DEVIATION = 52.2754
END_OBJECT = IMAGE
/* MAP OBJECT DEFINITIONS */
OBJECT = IMAGE_MAP_PROJECTION
  ^DATA_SET_MAP_PROJECTION_CATALOG= "DSMAP.CAT"
  A_AXIS_RADIUS = 3396.0
  B_AXIS_RADIUS = 3396.0
  C_AXIS_RADIUS = 3396.0
  CENTER_LATITUDE = 0.0
  CENTER_LONGITUDE = 223.0
  COORDINATE_SYSTEM_NAME = PLANETOGRAPHIC
  COORDINATE_SYSTEM_TYPE = "BODY-FIXED ROTATING"
  EASTERNMOST_LONGITUDE = 224.158
  FIRST_STANDARD_PARALLEL = "N/A"
  LINE_FIRST_PIXEL = 1
  LINE_LAST_PIXEL = 26029
  LINE_PROJECTION_OFFSET = -31593.375
  MAP_PROJECTION_ROTATION = 0.0
  MAP_PROJECTION_TYPE = SINUSOIDAL
  MAP_RESOLUTION = 1185.42760773333
  MAP_SCALE = 0.05
  MAXIMUM_LATITUDE = -26.6597
  MINIMUM_LATITUDE = -48.5576
  POSITIVE_LONGITUDE_DIRECTION = EAST
  REFERENCE_LATITUDE = "N/A"
  REFERENCE_LONGITUDE = "N/A"
  SAMPLE_FIRST_PIXEL = 1
  SAMPLE_LAST_PIXEL = 2268
  SAMPLE_PROJECTION_OFFSET = 1058.125
  SECOND_STANDARD_PARALLEL = "N/A"
  WESTERNMOST_LONGITUDE = 221.715
END_OBJECT = IMAGE_MAP_PROJECTION
/* The JPEG2000 image data file associated with this label. */
OBJECT = COMPRESSED_FILE
  FILE_NAME = "H4355_0000_P13.JP2"
  RECORD_TYPE = UNDEFINED
  FILE_RECORDS = UNK
  ENCODING_TYPE = "JP2"
  INTERCHANGE_FORMAT = BINARY
  UNCOMPRESSED_FILE_NAME = "H4355_0000_P13.IMG"
  REQUIRED_STORAGE_BYTES = "59056452"
  ^DESCRIPTION = "JP2INFO.TXT"
END_OBJECT = COMPRESSED_FILE
END
