PDS_VERSION_ID = PDS3
/* FILE DATA ELEMENTS */
RECORD_TYPE = STREAM
/* POINTERS TO DATA OBJECTS */
^COMPRESSED_FILE = "H4355_0000_S23.JP2"
/* IDENTIFICATION DATA ELEMENTS */
DATA_SET_ID = "MEX-M-HRSC-5-REFDR-MAPPROJECTED-V3.0"
DATA_SET_NAME = "MARS EXPRESS HRSC MAP PROJECTED REFDR V3.0"
DETECTOR_ID = MEX_HRSC_S2
EVENT_TYPE = "MARS-REGIONAL-MAPPING-Vo-Te-Im"
INSTRUMENT_HOST_ID = MEX
INSTRUMENT_HOST_NAME = "MARS EXPRESS"
INSTRUMENT_ID = HRSC
INSTRUMENT_NAME = "HIGH RESOLUTION STEREO CAMERA"
MISSION_NAME = "MARS EXPRESS"
MISSION_PHASE_NAME = ME_Phase_7
PROCESSING_LEVEL_ID = 3
PRODUCT_CREATION_TIME = 2016-04-21T11:52:47.000Z
PRODUCT_ID = "H4355_0000_S23.JP2"
RELEASE_ID = 0049
REVISION_ID = 0000
/* QUALITY DATA ELEMENTS */
DATA_QUALITY_ID = 2
DATA_QUALITY_DESC = "Data calculated based on photogrammetrically improved orbit and attitude data"
/* TIME DATA ELEMENTS */
SPACECRAFT_CLOCK_START_COUNT = "1/0128315737.07312"
SPACECRAFT_CLOCK_STOP_COUNT = "1/0128316139.13907"
START_TIME = 2007-05-27T03:15:41.210Z
STOP_TIME = 2007-05-27T03:21:09.230Z
/* ORBITAL DATA ELEMENTS */
ASCENDING_NODE_LONGITUDE = 137.12
MAXIMUM_RESOLUTION = 24.5
FOOTPRINT_POINT_LATITUDE = (-48.6873,-48.6605,-48.6308,-48.3624, -47.9654,-47.3656,-46.9652,-46.5607, -45.9584,-45.5568,-44.9544,-44.3478, -43.7462,-43.3428,-42.9396,-42.323, -41.695,-41.2742,-40.6422,-40.2203, -39.798,-39.3775,-38.8745,-38.4552, -37.807,-37.3684,-36.9285,-36.2717, -35.8337,-35.3959,-34.7187,-34.2651, -33.8119,-33.1325,-32.6635,-32.1953, -31.719,-31.2579,-30.7744,-30.0491, -29.5659,-29.083,-28.3599,-27.8765, -27.3944,-26.9128,-26.6618,-26.6648, -26.6804,-26.6937,-26.9482,-27.6719, -28.1547,-28.6373,-29.1212,-29.6049, -29.8469,-30.0889,-30.3311,-30.5732, -30.8155,-31.0579,-31.3002,-31.7693, -32.2388,-32.7083,-33.4052,-34.0866, -34.7682,-35.2254,-35.6716,-36.1064, -36.5417,-36.9808,-37.419,-37.8608, -38.287,-38.7162,-39.1388,-39.6461, -40.0669,-40.4887,-41.1241,-41.7561, -42.178,-42.5978,-43.0016,-43.6063, -44.011,-44.6176,-45.0232,-45.4266, -45.8302,-46.2303,-46.6385,-47.041, -47.6438,-48.0433,-48.4409,-48.6873)
FOOTPRINT_POINT_LONGITUDE = (222.898,222.434,221.965,221.722, 221.763,221.82,221.856,221.889,221.94, 221.973,222.021,222.065,222.11,222.137, 222.165,222.2,222.239,222.263,222.297, 222.319,222.339,222.36,222.384,222.404, 222.427,222.443,222.458,222.482,222.496 ,222.51,222.53,222.542,222.554,222.571, 222.58,222.59,222.595,222.607,222.615, 222.625,222.631,222.636,222.643,222.646 ,222.649,222.651,222.652,223.218, 223.666,224.101,224.095,224.08,224.069, 224.058,224.046,224.035,224.029,224.023 ,224.017,224.011,224.005,223.999, 223.992,223.98,223.967,223.954,223.934, 223.914,223.893,223.878,223.863,223.849 ,223.835,223.82,223.804,223.788,223.772 ,223.756,223.739,223.719,223.702, 223.685,223.657,223.629,223.61,223.59, 223.571,223.542,223.521,223.49,223.468, 223.446,223.424,223.401,223.377,223.353 ,223.316,223.29,223.265,222.898)
ORBIT_NUMBER = 4355
ORBITAL_ECCENTRICITY = 0.571
ORBITAL_INCLINATION = 86.7
ORBITAL_SEMIMAJOR_AXIS = 8569.68
PERIAPSIS_ALTITUDE = 292.07
PERIAPSIS_ARGUMENT_ANGLE = 311.01
PERIAPSIS_TIME = 2007-05-27T03:16:04.000Z
SPACECRAFT_ORIENTATION = (0.0,1.0,0.0)
^MEX_ORIENTATION_DESC = "MEX_ORIENTATION_DESC.TXT"
SPACECRAFT_POINTING_MODE = ACROSSTRACK
^MEX_POINTING_DESC = "MEX_POINTING_DESC.TXT"
RIGHT_ASCENSION = -1e+32
DECLINATION = -1e+32
OFFSET_ANGLE = 0.4
SPACECRAFT_SOLAR_DISTANCE = 2.06742e+08
TARGET_NAME = MARS
/* CAMERA DATA ELEMENTS */
DETECTOR_TEMPERATURE = 19.1861
FOCAL_PLANE_TEMPERATURE = 9.6028
INST_CMPRS_NAME = "DISCRETE COSINE TRANSFORMATION (DCT)"
INST_CMPRS_RATIO = 8.71499
INST_CMPRS_QUALITY = 0
INST_CMPRS_QUANTZ_TBL_ID = 0
INSTRUMENT_TEMPERATURE = 12.0496
LENS_TEMPERATURE = 10.0106
MACROPIXEL_SIZE = 2
MISSING_FRAMES = 27
PIXEL_SUBSAMPLING_FLAG = N
SIGNAL_CHAIN_ID = 1
/* RADIOMETRIC DATA ELEMENTS */
BANDWIDTH = 178.0
CENTER_FILTER_WAVELENGTH = 679.0
RADIANCE_OFFSET = 6.60338
RADIANCE_SCALING_FACTOR = 0.0230395
REFLECTANCE_SCALING_FACTOR = 0.00052151
MEX:REFLECTANCE_OFFSET = 0.149471
/* IMAGE OBJECT DEFINITIONS */
OBJECT = IMAGE
  INTERCHANGE_FORMAT = BINARY
  LINES = 52057
  LINE_SAMPLES = 4536
  SAMPLE_TYPE = UNSIGNED_INTEGER
  SAMPLE_BITS = 8
  BANDS = 1
  BAND_STORAGE_TYPE = BAND_SEQUENTIAL
  MAXIMUM = 255
  MEAN = 111.132
  MINIMUM = 1
  STANDARD_DEVIATION = 51.0852
END_OBJECT = IMAGE
/* MAP OBJECT DEFINITIONS */
OBJECT = IMAGE_MAP_PROJECTION
  ^DATA_SET_MAP_PROJECTION_CATALOG= "DSMAP.CAT"
  A_AXIS_RADIUS = 3396.0
  B_AXIS_RADIUS = 3396.0
  C_AXIS_RADIUS = 3396.0
  CENTER_LATITUDE = 0.0
  CENTER_LONGITUDE = 223.0
  COORDINATE_SYSTEM_NAME = PLANETOGRAPHIC
  COORDINATE_SYSTEM_TYPE = "BODY-FIXED ROTATING"
  EASTERNMOST_LONGITUDE = 224.101
  FIRST_STANDARD_PARALLEL = "N/A"
  LINE_FIRST_PIXEL = 1
  LINE_LAST_PIXEL = 52057
  LINE_PROJECTION_OFFSET = -63186.25
  MAP_PROJECTION_ROTATION = 0.0
  MAP_PROJECTION_TYPE = SINUSOIDAL
  MAP_RESOLUTION = 2370.85521546667
  MAP_SCALE = 0.025
  MAXIMUM_LATITUDE = -26.6618
  MINIMUM_LATITUDE = -48.6873
  POSITIVE_LONGITUDE_DIRECTION = EAST
  REFERENCE_LATITUDE = "N/A"
  REFERENCE_LONGITUDE = "N/A"
  SAMPLE_FIRST_PIXEL = 1
  SAMPLE_LAST_PIXEL = 4536
  SAMPLE_PROJECTION_OFFSET = 2116.75
  SECOND_STANDARD_PARALLEL = "N/A"
  WESTERNMOST_LONGITUDE = 221.722
END_OBJECT = IMAGE_MAP_PROJECTION
/* The JPEG2000 image data file associated with this label. */
OBJECT = COMPRESSED_FILE
  FILE_NAME = "H4355_0000_S23.JP2"
  RECORD_TYPE = UNDEFINED
  FILE_RECORDS = UNK
  ENCODING_TYPE = "JP2"
  INTERCHANGE_FORMAT = BINARY
  UNCOMPRESSED_FILE_NAME = "H4355_0000_S23.IMG"
  REQUIRED_STORAGE_BYTES = "236157768"
  ^DESCRIPTION = "JP2INFO.TXT"
END_OBJECT = COMPRESSED_FILE
END
