PDS_VERSION_ID = PDS3
/* FILE DATA ELEMENTS */
RECORD_TYPE = STREAM
/* POINTERS TO DATA OBJECTS */
^COMPRESSED_FILE = "H4358_0000_GR3.JP2"
/* IDENTIFICATION DATA ELEMENTS */
DATA_SET_ID = "MEX-M-HRSC-5-REFDR-MAPPROJECTED-V3.0"
DATA_SET_NAME = "MARS EXPRESS HRSC MAP PROJECTED REFDR V3.0"
DETECTOR_ID = MEX_HRSC_GREEN
EVENT_TYPE = "MARS-REGIONAL-MAPPING-Vo-Te-Fl"
INSTRUMENT_HOST_ID = MEX
INSTRUMENT_HOST_NAME = "MARS EXPRESS"
INSTRUMENT_ID = HRSC
INSTRUMENT_NAME = "HIGH RESOLUTION STEREO CAMERA"
MISSION_NAME = "MARS EXPRESS"
MISSION_PHASE_NAME = ME_Phase_7
PROCESSING_LEVEL_ID = 3
PRODUCT_CREATION_TIME = 2016-04-21T11:52:47.000Z
PRODUCT_ID = "H4358_0000_GR3.JP2"
RELEASE_ID = 0049
REVISION_ID = 0000
/* QUALITY DATA ELEMENTS */
DATA_QUALITY_ID = 2
DATA_QUALITY_DESC = "Data calculated based on photogrammetrically improved orbit and attitude data"
/* TIME DATA ELEMENTS */
SPACECRAFT_CLOCK_START_COUNT = "1/0128388531.08371"
SPACECRAFT_CLOCK_STOP_COUNT = "1/0128388822.08373"
START_TIME = 2007-05-27T23:29:28.875Z
STOP_TIME = 2007-05-27T23:33:05.286Z
/* ORBITAL DATA ELEMENTS */
ASCENDING_NODE_LONGITUDE = 137.06
MAXIMUM_RESOLUTION = 105.2
FOOTPRINT_POINT_LATITUDE = (-35.0342,-35.0277,-34.8842,-34.6134, -34.3428,-34.0726,-33.7937,-33.5149, -33.2365,-32.9583,-32.6807,-32.4032, -32.1262,-31.8493,-31.5733,-31.2973, -31.0209,-30.7456,-30.4708,-30.1964, -29.9222,-29.6483,-29.3748,-29.1016, -28.8288,-28.5564,-28.2842,-28.0134, -27.7411,-27.4702,-27.1998,-26.93, -26.6598,-26.3904,-26.1215,-25.853, -25.5848,-25.3171,-25.0499,-24.783, -24.5167,-24.2507,-23.9853,-23.7203, -23.4557,-23.1914,-22.6646,-22.1394, -21.6159,-21.49,-21.4906,-21.4906, -22.0147,-22.5405,-22.804,-23.068, -23.3324,-23.5973,-23.8627,-24.1286, -24.3946,-24.6612,-24.9282,-25.1959, -25.4639,-25.7322,-26.001,-26.2704, -26.5399,-26.81,-27.0805,-27.3514, -27.6225,-27.8938,-28.1657,-28.438, -28.7106,-28.9837,-29.2571,-29.5309, -29.805,-30.0793,-30.354,-30.6292, -30.9049,-31.1811,-31.4577,-31.7346, -32.0116,-32.2891,-32.5669,-32.8449, -33.1233,-33.4019,-33.8205,-34.0995, -34.3702,-34.641,-34.9121,-35.0342)
FOOTPRINT_POINT_LONGITUDE = (288.79,288.403,287.951,287.957,287.963 ,287.969,287.975,287.98,287.985,287.99, 287.995,287.999,288.003,288.007,288.009 ,288.012,288.017,288.019,288.021, 288.022,288.024,288.025,288.027,288.028 ,288.029,288.029,288.03,288.028,288.031 ,288.031,288.031,288.03,288.03,288.03, 288.029,288.028,288.027,288.025,288.024 ,288.022,288.02,288.018,288.015,288.012 ,288.009,288.007,288.0,287.993,287.986, 288.389,289.06,289.647,289.637,289.627, 289.622,289.617,289.612,289.607,289.602 ,289.597,289.591,289.586,289.58,289.575 ,289.57,289.564,289.559,289.553,289.547 ,289.542,289.536,289.531,289.524, 289.518,289.512,289.506,289.499,289.493 ,289.486,289.48,289.473,289.466,289.459 ,289.452,289.445,289.439,289.432, 289.426,289.418,289.411,289.404,289.397 ,289.389,289.382,289.37,289.362,289.355 ,289.346,289.338,288.79)
ORBIT_NUMBER = 4358
ORBITAL_ECCENTRICITY = 0.571
ORBITAL_INCLINATION = 86.68
ORBITAL_SEMIMAJOR_AXIS = 8570.18
PERIAPSIS_ALTITUDE = 292.59
PERIAPSIS_ARGUMENT_ANGLE = 310.51
PERIAPSIS_TIME = 2007-05-27T23:25:47.000Z
SPACECRAFT_ORIENTATION = (0.0,1.0,0.0)
^MEX_ORIENTATION_DESC = "MEX_ORIENTATION_DESC.TXT"
SPACECRAFT_POINTING_MODE = ACROSSTRACK
^MEX_POINTING_DESC = "MEX_POINTING_DESC.TXT"
RIGHT_ASCENSION = -1e+32
DECLINATION = -1e+32
OFFSET_ANGLE = 0.15
SPACECRAFT_SOLAR_DISTANCE = 2.06728e+08
TARGET_NAME = MARS
/* CAMERA DATA ELEMENTS */
DETECTOR_TEMPERATURE = 18.5744
FOCAL_PLANE_TEMPERATURE = 10.8262
INST_CMPRS_NAME = "DISCRETE COSINE TRANSFORMATION (DCT)"
INST_CMPRS_RATIO = 18.328
INST_CMPRS_QUALITY = 0
INST_CMPRS_QUANTZ_TBL_ID = 0
INSTRUMENT_TEMPERATURE = 11.8457
LENS_TEMPERATURE = 10.8262
MACROPIXEL_SIZE = 8
MISSING_FRAMES = 0
PIXEL_SUBSAMPLING_FLAG = N
SIGNAL_CHAIN_ID = 2
/* RADIOMETRIC DATA ELEMENTS */
BANDWIDTH = 88.0
CENTER_FILTER_WAVELENGTH = 538.0
RADIANCE_OFFSET = 2.34153
RADIANCE_SCALING_FACTOR = 0.00344342
REFLECTANCE_SCALING_FACTOR = 0.0001267
MEX:REFLECTANCE_OFFSET = 0.0861563
/* IMAGE OBJECT DEFINITIONS */
OBJECT = IMAGE
  INTERCHANGE_FORMAT = BINARY
  LINES = 8031
  LINE_SAMPLES = 969
  SAMPLE_TYPE = UNSIGNED_INTEGER
  SAMPLE_BITS = 8
  BANDS = 1
  BAND_STORAGE_TYPE = BAND_SEQUENTIAL
  MAXIMUM = 255
  MEAN = 126.808
  MINIMUM = 1
  STANDARD_DEVIATION = 21.5262
END_OBJECT = IMAGE
/* MAP OBJECT DEFINITIONS */
OBJECT = IMAGE_MAP_PROJECTION
  ^DATA_SET_MAP_PROJECTION_CATALOG= "DSMAP.CAT"
  A_AXIS_RADIUS = 3396.0
  B_AXIS_RADIUS = 3396.0
  C_AXIS_RADIUS = 3396.0
  CENTER_LATITUDE = 0.0
  CENTER_LONGITUDE = 289.0
  COORDINATE_SYSTEM_NAME = PLANETOGRAPHIC
  COORDINATE_SYSTEM_TYPE = "BODY-FIXED ROTATING"
  EASTERNMOST_LONGITUDE = 289.647
  FIRST_STANDARD_PARALLEL = "N/A"
  LINE_FIRST_PIXEL = 1
  LINE_LAST_PIXEL = 8031
  LINE_PROJECTION_OFFSET = -12736.8125
  MAP_PROJECTION_ROTATION = 0.0
  MAP_PROJECTION_TYPE = SINUSOIDAL
  MAP_RESOLUTION = 592.713803866667
  MAP_SCALE = 0.1
  MAXIMUM_LATITUDE = -21.49
  MINIMUM_LATITUDE = -35.0342
  POSITIVE_LONGITUDE_DIRECTION = EAST
  REFERENCE_LATITUDE = "N/A"
  REFERENCE_LONGITUDE = "N/A"
  SAMPLE_FIRST_PIXEL = 1
  SAMPLE_LAST_PIXEL = 969
  SAMPLE_PROJECTION_OFFSET = 595.9375
  SECOND_STANDARD_PARALLEL = "N/A"
  WESTERNMOST_LONGITUDE = 287.951
END_OBJECT = IMAGE_MAP_PROJECTION
/* The JPEG2000 image data file associated with this label. */
OBJECT = COMPRESSED_FILE
  FILE_NAME = "H4358_0000_GR3.JP2"
  RECORD_TYPE = UNDEFINED
  FILE_RECORDS = UNK
  ENCODING_TYPE = "JP2"
  INTERCHANGE_FORMAT = BINARY
  UNCOMPRESSED_FILE_NAME = "H4358_0000_GR3.IMG"
  REQUIRED_STORAGE_BYTES = "7800450"
  ^DESCRIPTION = "JP2INFO.TXT"
END_OBJECT = COMPRESSED_FILE
END
