PDS_VERSION_ID = PDS3
/* FILE DATA ELEMENTS */
RECORD_TYPE = STREAM
/* POINTERS TO DATA OBJECTS */
^COMPRESSED_FILE = "H4358_0000_P13.JP2"
/* IDENTIFICATION DATA ELEMENTS */
DATA_SET_ID = "MEX-M-HRSC-5-REFDR-MAPPROJECTED-V3.0"
DATA_SET_NAME = "MARS EXPRESS HRSC MAP PROJECTED REFDR V3.0"
DETECTOR_ID = MEX_HRSC_P1
EVENT_TYPE = "MARS-REGIONAL-MAPPING-Vo-Te-Fl"
INSTRUMENT_HOST_ID = MEX
INSTRUMENT_HOST_NAME = "MARS EXPRESS"
INSTRUMENT_ID = HRSC
INSTRUMENT_NAME = "HIGH RESOLUTION STEREO CAMERA"
MISSION_NAME = "MARS EXPRESS"
MISSION_PHASE_NAME = ME_Phase_7
PROCESSING_LEVEL_ID = 3
PRODUCT_CREATION_TIME = 2016-04-21T11:52:47.000Z
PRODUCT_ID = "H4358_0000_P13.JP2"
RELEASE_ID = 0049
REVISION_ID = 0000
/* QUALITY DATA ELEMENTS */
DATA_QUALITY_ID = 2
DATA_QUALITY_DESC = "Data calculated based on photogrammetrically improved orbit and attitude data"
/* TIME DATA ELEMENTS */
SPACECRAFT_CLOCK_START_COUNT = "1/0128388531.08371"
SPACECRAFT_CLOCK_STOP_COUNT = "1/0128388822.08373"
START_TIME = 2007-05-27T23:29:44.051Z
STOP_TIME = 2007-05-27T23:33:27.422Z
/* ORBITAL DATA ELEMENTS */
ASCENDING_NODE_LONGITUDE = 137.06
MAXIMUM_RESOLUTION = 55
FOOTPRINT_POINT_LATITUDE = (-35.0004,-34.9958,-34.991,-34.8564, -34.5759,-34.2954,-34.0157,-33.5965, -33.3173,-33.0386,-32.7607,-32.4836, -32.0682,-31.6556,-31.242,-30.9653, -30.6916,-30.4188,-30.1468,-29.7386, -29.4669,-29.1955,-28.9245,-28.6546, -28.2497,-27.9816,-27.7113,-27.4433, -27.1763,-26.9097,-26.6419,-26.3754, -26.1099,-25.8449,-25.58,-25.316, -25.0527,-24.7895,-24.5283,-24.2659, -24.0052,-23.745,-23.4852,-23.0962, -22.8377,-22.5809,-22.3235,-22.0668, -21.5547,-21.4872,-21.4857,-21.4828, -21.6082,-21.8648,-22.1219,-22.3794, -22.6372,-22.8958,-23.1548,-23.4143, -23.6747,-23.936,-24.3278,-24.59, -24.8526,-25.1168,-25.3807,-25.6454, -25.9105,-26.177,-26.443,-26.7101, -27.112,-27.3801,-27.6481,-27.9163, -28.1855,-28.4551,-28.7256,-28.9965, -29.2677,-29.5396,-29.8117,-30.0834, -30.3563,-30.6302,-30.9051,-31.181, -31.5962,-31.8728,-32.2889,-32.7057, -32.9837,-33.2624,-33.5416,-33.8212, -34.1003,-34.3811,-34.6612,-35.0004)
FOOTPRINT_POINT_LONGITUDE = (289.241,288.716,288.295,287.928, 287.934,287.94,287.945,287.953,287.958, 287.963,287.967,287.971,287.977,287.981 ,287.985,287.989,287.991,287.992, 287.993,287.995,287.996,287.997,287.998 ,287.998,287.998,287.997,287.998, 287.998,287.997,287.996,287.996,287.995 ,287.993,287.992,287.99,287.988,287.986 ,287.984,287.981,287.979,287.976, 287.973,287.969,287.964,287.961,287.956 ,287.952,287.948,287.94,288.428,288.753 ,289.208,289.68,289.675,289.67,289.664, 289.659,289.653,289.648,289.642,289.637 ,289.631,289.623,289.617,289.611, 289.606,289.6,289.594,289.588,289.582, 289.576,289.57,289.562,289.555,289.549, 289.542,289.536,289.529,289.522,289.516 ,289.509,289.502,289.495,289.487,289.48 ,289.473,289.466,289.459,289.449, 289.441,289.43,289.419,289.411,289.403, 289.395,289.387,289.379,289.371,289.362 ,289.241)
ORBIT_NUMBER = 4358
ORBITAL_ECCENTRICITY = 0.571
ORBITAL_INCLINATION = 86.68
ORBITAL_SEMIMAJOR_AXIS = 8570.18
PERIAPSIS_ALTITUDE = 292.59
PERIAPSIS_ARGUMENT_ANGLE = 310.51
PERIAPSIS_TIME = 2007-05-27T23:25:47.000Z
SPACECRAFT_ORIENTATION = (0.0,1.0,0.0)
^MEX_ORIENTATION_DESC = "MEX_ORIENTATION_DESC.TXT"
SPACECRAFT_POINTING_MODE = ACROSSTRACK
^MEX_POINTING_DESC = "MEX_POINTING_DESC.TXT"
RIGHT_ASCENSION = -1e+32
DECLINATION = -1e+32
OFFSET_ANGLE = 0.15
SPACECRAFT_SOLAR_DISTANCE = 2.06728e+08
TARGET_NAME = MARS
/* CAMERA DATA ELEMENTS */
DETECTOR_TEMPERATURE = 17.9627
FOCAL_PLANE_TEMPERATURE = 10.8262
INST_CMPRS_NAME = "DISCRETE COSINE TRANSFORMATION (DCT)"
INST_CMPRS_RATIO = 14.0796
INST_CMPRS_QUALITY = 0
INST_CMPRS_QUANTZ_TBL_ID = 0
INSTRUMENT_TEMPERATURE = 11.8457
LENS_TEMPERATURE = 10.8262
MACROPIXEL_SIZE = 4
MISSING_FRAMES = 0
PIXEL_SUBSAMPLING_FLAG = N
SIGNAL_CHAIN_ID = 3
/* RADIOMETRIC DATA ELEMENTS */
BANDWIDTH = 174.0
CENTER_FILTER_WAVELENGTH = 675.0
RADIANCE_OFFSET = 6.12716
RADIANCE_SCALING_FACTOR = 0.0144168
REFLECTANCE_SCALING_FACTOR = 0.000331402
MEX:REFLECTANCE_OFFSET = 0.140846
/* IMAGE OBJECT DEFINITIONS */
OBJECT = IMAGE
  INTERCHANGE_FORMAT = BINARY
  LINES = 16062
  LINE_SAMPLES = 1938
  SAMPLE_TYPE = UNSIGNED_INTEGER
  SAMPLE_BITS = 8
  BANDS = 1
  BAND_STORAGE_TYPE = BAND_SEQUENTIAL
  MAXIMUM = 255
  MEAN = 106.029
  MINIMUM = 1
  STANDARD_DEVIATION = 24.7965
END_OBJECT = IMAGE
/* MAP OBJECT DEFINITIONS */
OBJECT = IMAGE_MAP_PROJECTION
  ^DATA_SET_MAP_PROJECTION_CATALOG= "DSMAP.CAT"
  A_AXIS_RADIUS = 3396.0
  B_AXIS_RADIUS = 3396.0
  C_AXIS_RADIUS = 3396.0
  CENTER_LATITUDE = 0.0
  CENTER_LONGITUDE = 289.0
  COORDINATE_SYSTEM_NAME = PLANETOGRAPHIC
  COORDINATE_SYSTEM_TYPE = "BODY-FIXED ROTATING"
  EASTERNMOST_LONGITUDE = 289.68
  FIRST_STANDARD_PARALLEL = "N/A"
  LINE_FIRST_PIXEL = 1
  LINE_LAST_PIXEL = 16062
  LINE_PROJECTION_OFFSET = -25473.125
  MAP_PROJECTION_ROTATION = 0.0
  MAP_PROJECTION_TYPE = SINUSOIDAL
  MAP_RESOLUTION = 1185.42760773333
  MAP_SCALE = 0.05
  MAXIMUM_LATITUDE = -21.4828
  MINIMUM_LATITUDE = -35.0004
  POSITIVE_LONGITUDE_DIRECTION = EAST
  REFERENCE_LATITUDE = "N/A"
  REFERENCE_LONGITUDE = "N/A"
  SAMPLE_FIRST_PIXEL = 1
  SAMPLE_LAST_PIXEL = 1938
  SAMPLE_PROJECTION_OFFSET = 1192.375
  SECOND_STANDARD_PARALLEL = "N/A"
  WESTERNMOST_LONGITUDE = 287.928
END_OBJECT = IMAGE_MAP_PROJECTION
/* The JPEG2000 image data file associated with this label. */
OBJECT = COMPRESSED_FILE
  FILE_NAME = "H4358_0000_P13.JP2"
  RECORD_TYPE = UNDEFINED
  FILE_RECORDS = UNK
  ENCODING_TYPE = "JP2"
  INTERCHANGE_FORMAT = BINARY
  UNCOMPRESSED_FILE_NAME = "H4358_0000_P13.IMG"
  REQUIRED_STORAGE_BYTES = "31147536"
  ^DESCRIPTION = "JP2INFO.TXT"
END_OBJECT = COMPRESSED_FILE
END
