PDS_VERSION_ID = PDS3
/* FILE DATA ELEMENTS */
RECORD_TYPE = STREAM
/* POINTERS TO DATA OBJECTS */
^COMPRESSED_FILE = "H4358_0000_P23.JP2"
/* IDENTIFICATION DATA ELEMENTS */
DATA_SET_ID = "MEX-M-HRSC-5-REFDR-MAPPROJECTED-V3.0"
DATA_SET_NAME = "MARS EXPRESS HRSC MAP PROJECTED REFDR V3.0"
DETECTOR_ID = MEX_HRSC_P2
EVENT_TYPE = "MARS-REGIONAL-MAPPING-Vo-Te-Fl"
INSTRUMENT_HOST_ID = MEX
INSTRUMENT_HOST_NAME = "MARS EXPRESS"
INSTRUMENT_ID = HRSC
INSTRUMENT_NAME = "HIGH RESOLUTION STEREO CAMERA"
MISSION_NAME = "MARS EXPRESS"
MISSION_PHASE_NAME = ME_Phase_7
PROCESSING_LEVEL_ID = 3
PRODUCT_CREATION_TIME = 2016-04-21T11:52:47.000Z
PRODUCT_ID = "H4358_0000_P23.JP2"
RELEASE_ID = 0049
REVISION_ID = 0000
/* QUALITY DATA ELEMENTS */
DATA_QUALITY_ID = 2
DATA_QUALITY_DESC = "Data calculated based on photogrammetrically improved orbit and attitude data"
/* TIME DATA ELEMENTS */
SPACECRAFT_CLOCK_START_COUNT = "1/0128388531.08371"
SPACECRAFT_CLOCK_STOP_COUNT = "1/0128388822.08373"
START_TIME = 2007-05-27T23:29:04.891Z
STOP_TIME = 2007-05-27T23:32:31.338Z
/* ORBITAL DATA ELEMENTS */
ASCENDING_NODE_LONGITUDE = 137.06
MAXIMUM_RESOLUTION = 52.7
FOOTPRINT_POINT_LATITUDE = (-35.0708,-35.0668,-35.0624,-35.0574, -35.052,-35.046,-34.8977,-34.6397, -34.3819,-33.9851,-33.7188,-33.4529, -33.0538,-32.7878,-32.5216,-32.2486, -31.8366,-31.5606,-31.2855,-31.0147, -30.74,-30.4647,-30.1898,-29.9151, -29.6414,-29.2306,-28.8204,-28.5472, -28.2746,-27.9989,-27.5936,-27.185, -26.912,-26.6422,-26.3713,-26.0998, -25.6939,-25.2883,-25.0177,-24.6123, -24.2078,-23.9382,-23.6686,-23.2653, -22.8626,-22.5936,-22.3254,-22.0576, -21.7904,-21.5236,-21.5004,-21.5036, -21.5049,-21.5068,-21.5078,-21.6424, -21.9099,-22.3118,-22.7146,-22.9835, -23.2527,-23.5227,-23.9267,-24.1958, -24.467,-24.7373,-25.1427,-25.5489, -25.82,-26.2262,-26.4981,-26.9056, -27.177,-27.4492,-27.7224,-27.9964, -28.2695,-28.5431,-28.9535,-29.3645, -29.6386,-30.0512,-30.3265,-30.6009, -31.0129,-31.2864,-31.6974,-31.972, -32.2466,-32.5205,-32.7867,-33.053, -33.3194,-33.5864,-33.8532,-34.1209, -34.3855,-34.7737,-35.0325,-35.0708)
FOOTPRINT_POINT_LONGITUDE = (289.149,288.948,288.747,288.545, 288.344,288.141,287.955,287.961,287.967 ,287.976,287.982,287.988,287.995,288.0, 288.005,288.009,288.015,288.018,288.021 ,288.027,288.029,288.032,288.034, 288.035,288.038,288.04,288.042,288.043, 288.045,288.044,288.047,288.047,288.046 ,288.047,288.047,288.047,288.046, 288.045,288.043,288.041,288.039,288.037 ,288.034,288.031,288.027,288.024, 288.021,288.018,288.014,288.011,288.413 ,288.711,288.919,289.186,289.437, 289.603,289.599,289.592,289.586,289.581 ,289.577,289.572,289.565,289.56,289.555 ,289.55,289.543,289.536,289.531,289.523 ,289.518,289.51,289.505,289.5,289.494, 289.488,289.483,289.477,289.468,289.459 ,289.453,289.443,289.436,289.43,289.421 ,289.414,289.405,289.399,289.392, 289.385,289.379,289.372,289.365,289.358 ,289.351,289.344,289.337,289.326, 289.318,289.149)
ORBIT_NUMBER = 4358
ORBITAL_ECCENTRICITY = 0.571
ORBITAL_INCLINATION = 86.68
ORBITAL_SEMIMAJOR_AXIS = 8570.18
PERIAPSIS_ALTITUDE = 292.59
PERIAPSIS_ARGUMENT_ANGLE = 310.51
PERIAPSIS_TIME = 2007-05-27T23:25:47.000Z
SPACECRAFT_ORIENTATION = (0.0,1.0,0.0)
^MEX_ORIENTATION_DESC = "MEX_ORIENTATION_DESC.TXT"
SPACECRAFT_POINTING_MODE = ACROSSTRACK
^MEX_POINTING_DESC = "MEX_POINTING_DESC.TXT"
RIGHT_ASCENSION = -1e+32
DECLINATION = -1e+32
OFFSET_ANGLE = 0.15
SPACECRAFT_SOLAR_DISTANCE = 2.06728e+08
TARGET_NAME = MARS
/* CAMERA DATA ELEMENTS */
DETECTOR_TEMPERATURE = 19.1861
FOCAL_PLANE_TEMPERATURE = 10.8262
INST_CMPRS_NAME = "DISCRETE COSINE TRANSFORMATION (DCT)"
INST_CMPRS_RATIO = 9.83687
INST_CMPRS_QUALITY = 0
INST_CMPRS_QUANTZ_TBL_ID = 0
INSTRUMENT_TEMPERATURE = 11.8457
LENS_TEMPERATURE = 10.8262
MACROPIXEL_SIZE = 4
MISSING_FRAMES = 0
PIXEL_SUBSAMPLING_FLAG = N
SIGNAL_CHAIN_ID = 3
/* RADIOMETRIC DATA ELEMENTS */
BANDWIDTH = 177.0
CENTER_FILTER_WAVELENGTH = 676.5
RADIANCE_OFFSET = 6.18283
RADIANCE_SCALING_FACTOR = 0.0139192
REFLECTANCE_SCALING_FACTOR = 0.000315407
MEX:REFLECTANCE_OFFSET = 0.140102
/* IMAGE OBJECT DEFINITIONS */
OBJECT = IMAGE
  INTERCHANGE_FORMAT = BINARY
  LINES = 16062
  LINE_SAMPLES = 1938
  SAMPLE_TYPE = UNSIGNED_INTEGER
  SAMPLE_BITS = 8
  BANDS = 1
  BAND_STORAGE_TYPE = BAND_SEQUENTIAL
  MAXIMUM = 255
  MEAN = 97.1484
  MINIMUM = 1
  STANDARD_DEVIATION = 24.629
END_OBJECT = IMAGE
/* MAP OBJECT DEFINITIONS */
OBJECT = IMAGE_MAP_PROJECTION
  ^DATA_SET_MAP_PROJECTION_CATALOG= "DSMAP.CAT"
  A_AXIS_RADIUS = 3396.0
  B_AXIS_RADIUS = 3396.0
  C_AXIS_RADIUS = 3396.0
  CENTER_LATITUDE = 0.0
  CENTER_LONGITUDE = 289.0
  COORDINATE_SYSTEM_NAME = PLANETOGRAPHIC
  COORDINATE_SYSTEM_TYPE = "BODY-FIXED ROTATING"
  EASTERNMOST_LONGITUDE = 289.603
  FIRST_STANDARD_PARALLEL = "N/A"
  LINE_FIRST_PIXEL = 1
  LINE_LAST_PIXEL = 16062
  LINE_PROJECTION_OFFSET = -25473.125
  MAP_PROJECTION_ROTATION = 0.0
  MAP_PROJECTION_TYPE = SINUSOIDAL
  MAP_RESOLUTION = 1185.42760773333
  MAP_SCALE = 0.05
  MAXIMUM_LATITUDE = -21.5004
  MINIMUM_LATITUDE = -35.0708
  POSITIVE_LONGITUDE_DIRECTION = EAST
  REFERENCE_LATITUDE = "N/A"
  REFERENCE_LONGITUDE = "N/A"
  SAMPLE_FIRST_PIXEL = 1
  SAMPLE_LAST_PIXEL = 1938
  SAMPLE_PROJECTION_OFFSET = 1192.375
  SECOND_STANDARD_PARALLEL = "N/A"
  WESTERNMOST_LONGITUDE = 287.955
END_OBJECT = IMAGE_MAP_PROJECTION
/* The JPEG2000 image data file associated with this label. */
OBJECT = COMPRESSED_FILE
  FILE_NAME = "H4358_0000_P23.JP2"
  RECORD_TYPE = UNDEFINED
  FILE_RECORDS = UNK
  ENCODING_TYPE = "JP2"
  INTERCHANGE_FORMAT = BINARY
  UNCOMPRESSED_FILE_NAME = "H4358_0000_P23.IMG"
  REQUIRED_STORAGE_BYTES = "31147536"
  ^DESCRIPTION = "JP2INFO.TXT"
END_OBJECT = COMPRESSED_FILE
END
