PDS_VERSION_ID = PDS3
/* FILE DATA ELEMENTS */
RECORD_TYPE = STREAM
/* POINTERS TO DATA OBJECTS */
^COMPRESSED_FILE = "H4361_0000_ND3.JP2"
/* IDENTIFICATION DATA ELEMENTS */
DATA_SET_ID = "MEX-M-HRSC-5-REFDR-MAPPROJECTED-V3.0"
DATA_SET_NAME = "MARS EXPRESS HRSC MAP PROJECTED REFDR V3.0"
DETECTOR_ID = MEX_HRSC_NADIR
EVENT_TYPE = "MARS-REGIONAL-MAPPING-Vo-Im"
INSTRUMENT_HOST_ID = MEX
INSTRUMENT_HOST_NAME = "MARS EXPRESS"
INSTRUMENT_ID = HRSC
INSTRUMENT_NAME = "HIGH RESOLUTION STEREO CAMERA"
MISSION_NAME = "MARS EXPRESS"
MISSION_PHASE_NAME = ME_Phase_7
PROCESSING_LEVEL_ID = 3
PRODUCT_CREATION_TIME = 2016-04-21T11:52:47.000Z
PRODUCT_ID = "H4361_0000_ND3.JP2"
RELEASE_ID = 0049
REVISION_ID = 0000
/* QUALITY DATA ELEMENTS */
DATA_QUALITY_ID = 2
DATA_QUALITY_DESC = "Data calculated based on photogrammetrically improved orbit and attitude data"
/* TIME DATA ELEMENTS */
SPACECRAFT_CLOCK_START_COUNT = "1/0128460912.08264"
SPACECRAFT_CLOCK_STOP_COUNT = "1/0128461182.32484"
START_TIME = 2007-05-28T19:35:41.978Z
STOP_TIME = 2007-05-28T19:39:12.989Z
/* ORBITAL DATA ELEMENTS */
ASCENDING_NODE_LONGITUDE = 137.0
MAXIMUM_RESOLUTION = 11.6
FOOTPRINT_POINT_LATITUDE = (-48.3305,-48.3134,-48.2958,-47.9004, -47.6367,-47.3729,-47.1093,-46.8457, -46.5821,-46.3186,-46.0389,-45.512, -44.9853,-44.5757,-44.3024,-44.0292, -43.7561,-43.4831,-43.2101,-42.9372, -42.6645,-42.3919,-42.1194,-41.8467, -41.5743,-41.3023,-41.0303,-40.7578, -40.4759,-40.1942,-39.9126,-39.6312, -39.35,-39.069,-38.7881,-38.5074, -38.2269,-37.9407,-37.6507,-37.2158, -36.9264,-36.637,-36.3479,-36.0591, -35.6132,-35.3151,-35.0172,-34.7196, -34.4223,-34.4259,-34.4336,-34.4401, -34.7379,-35.0359,-35.3342,-35.6328, -36.0796,-36.3689,-36.6584,-36.9482, -37.2382,-37.5284,-37.8188,-38.251, -38.5319,-38.8131,-39.0943,-39.3759, -39.6576,-39.9394,-40.2214,-40.5036, -40.9228,-41.1953,-41.4679,-41.7406, -42.0135,-42.2864,-42.5595,-42.8327, -43.106,-43.3794,-43.7898,-44.0635, -44.4741,-44.748,-45.0216,-45.2854, -45.5494,-45.8134,-46.0774,-46.3577, -46.6218,-46.886,-47.1502,-47.4144, -47.6787,-47.9431,-48.2074,-48.3305)
FOOTPRINT_POINT_LONGITUDE = (353.687,353.134,352.667,352.7,352.721, 352.741,352.761,352.781,352.8,352.819, 352.838,352.874,352.907,352.933,352.949 ,352.965,352.981,352.996,353.01,353.024 ,353.039,353.052,353.066,353.076, 353.087,353.102,353.115,353.125,353.137 ,353.148,353.159,353.169,353.179, 353.189,353.199,353.208,353.216,353.226 ,353.236,353.246,353.255,353.263,353.27 ,353.277,353.287,353.294,353.3,353.306, 353.311,353.688,354.178,354.73,354.722, 354.715,354.706,354.698,354.685,354.677 ,354.668,354.66,354.651,354.642,354.634 ,354.621,354.612,354.602,354.594, 354.583,354.574,354.564,354.554,354.544 ,354.529,354.519,354.509,354.498, 354.487,354.477,354.466,354.455,354.444 ,354.434,354.415,354.402,354.385, 354.372,354.359,354.347,354.334,354.322 ,354.309,354.296,354.283,354.269, 354.259,354.246,354.231,354.213,354.199 ,353.687)
ORBIT_NUMBER = 4361
ORBITAL_ECCENTRICITY = 0.571
ORBITAL_INCLINATION = 86.69
ORBITAL_SEMIMAJOR_AXIS = 8568.13
PERIAPSIS_ALTITUDE = 292.66
PERIAPSIS_ARGUMENT_ANGLE = 309.96
PERIAPSIS_TIME = 2007-05-28T19:35:18.000Z
SPACECRAFT_ORIENTATION = (0.0,1.0,0.0)
^MEX_ORIENTATION_DESC = "MEX_ORIENTATION_DESC.TXT"
SPACECRAFT_POINTING_MODE = NADIR
^MEX_POINTING_DESC = "MEX_POINTING_DESC.TXT"
RIGHT_ASCENSION = -1e+32
DECLINATION = -1e+32
OFFSET_ANGLE = -1e+32
SPACECRAFT_SOLAR_DISTANCE = 2.06715e+08
TARGET_NAME = MARS
/* CAMERA DATA ELEMENTS */
DETECTOR_TEMPERATURE = 18.9822
FOCAL_PLANE_TEMPERATURE = 9.3989
INST_CMPRS_NAME = "DISCRETE COSINE TRANSFORMATION (DCT)"
INST_CMPRS_RATIO = 6.87957
INST_CMPRS_QUALITY = 0
INST_CMPRS_QUANTZ_TBL_ID = 0
INSTRUMENT_TEMPERATURE = 11.4379
LENS_TEMPERATURE = 9.8067
MACROPIXEL_SIZE = 1
MISSING_FRAMES = 11
PIXEL_SUBSAMPLING_FLAG = N
SIGNAL_CHAIN_ID = 0
/* RADIOMETRIC DATA ELEMENTS */
BANDWIDTH = 177.0
CENTER_FILTER_WAVELENGTH = 677.5
RADIANCE_OFFSET = 7.0184
RADIANCE_SCALING_FACTOR = 0.0116335
REFLECTANCE_SCALING_FACTOR = 0.000264082
MEX:REFLECTANCE_OFFSET = 0.159319
/* IMAGE OBJECT DEFINITIONS */
OBJECT = IMAGE
  INTERCHANGE_FORMAT = BINARY
  LINES = 66022
  LINE_SAMPLES = 7265
  SAMPLE_TYPE = UNSIGNED_INTEGER
  SAMPLE_BITS = 8
  BANDS = 1
  BAND_STORAGE_TYPE = BAND_SEQUENTIAL
  MAXIMUM = 255
  MEAN = 118.669
  MINIMUM = 1
  STANDARD_DEVIATION = 21.943
END_OBJECT = IMAGE
/* MAP OBJECT DEFINITIONS */
OBJECT = IMAGE_MAP_PROJECTION
  ^DATA_SET_MAP_PROJECTION_CATALOG= "DSMAP.CAT"
  A_AXIS_RADIUS = 3396.0
  B_AXIS_RADIUS = 3396.0
  C_AXIS_RADIUS = 3396.0
  CENTER_LATITUDE = 0.0
  CENTER_LONGITUDE = 354.0
  COORDINATE_SYSTEM_NAME = PLANETOGRAPHIC
  COORDINATE_SYSTEM_TYPE = "BODY-FIXED ROTATING"
  EASTERNMOST_LONGITUDE = 354.73
  FIRST_STANDARD_PARALLEL = "N/A"
  LINE_FIRST_PIXEL = 1
  LINE_LAST_PIXEL = 66022
  LINE_PROJECTION_OFFSET = -163202.0
  MAP_PROJECTION_ROTATION = 0.0
  MAP_PROJECTION_TYPE = SINUSOIDAL
  MAP_RESOLUTION = 4741.71043093333
  MAP_SCALE = 0.0125
  MAXIMUM_LATITUDE = -34.4223
  MINIMUM_LATITUDE = -48.3305
  POSITIVE_LONGITUDE_DIRECTION = EAST
  REFERENCE_LATITUDE = "N/A"
  REFERENCE_LONGITUDE = "N/A"
  SAMPLE_FIRST_PIXEL = 1
  SAMPLE_LAST_PIXEL = 7265
  SAMPLE_PROJECTION_OFFSET = 4266.0
  SECOND_STANDARD_PARALLEL = "N/A"
  WESTERNMOST_LONGITUDE = 352.667
END_OBJECT = IMAGE_MAP_PROJECTION
/* The JPEG2000 image data file associated with this label. */
OBJECT = COMPRESSED_FILE
  FILE_NAME = "H4361_0000_ND3.JP2"
  RECORD_TYPE = UNDEFINED
  FILE_RECORDS = UNK
  ENCODING_TYPE = "JP2"
  INTERCHANGE_FORMAT = BINARY
  UNCOMPRESSED_FILE_NAME = "H4361_0000_ND3.IMG"
  REQUIRED_STORAGE_BYTES = "479678890"
  ^DESCRIPTION = "JP2INFO.TXT"
END_OBJECT = COMPRESSED_FILE
END
