PDS_VERSION_ID = PDS3
/* FILE DATA ELEMENTS */
RECORD_TYPE = STREAM
/* POINTERS TO DATA OBJECTS */
^COMPRESSED_FILE = "H4364_0000_ND3.JP2"
/* IDENTIFICATION DATA ELEMENTS */
DATA_SET_ID = "MEX-M-HRSC-5-REFDR-MAPPROJECTED-V3.0"
DATA_SET_NAME = "MARS EXPRESS HRSC MAP PROJECTED REFDR V3.0"
DETECTOR_ID = MEX_HRSC_NADIR
EVENT_TYPE = "MARS-REGIONAL-MAPPING-Vo-Gl"
INSTRUMENT_HOST_ID = MEX
INSTRUMENT_HOST_NAME = "MARS EXPRESS"
INSTRUMENT_ID = HRSC
INSTRUMENT_NAME = "HIGH RESOLUTION STEREO CAMERA"
MISSION_NAME = "MARS EXPRESS"
MISSION_PHASE_NAME = ME_Phase_7
PROCESSING_LEVEL_ID = 3
PRODUCT_CREATION_TIME = 2016-04-21T11:52:47.000Z
PRODUCT_ID = "H4364_0000_ND3.JP2"
RELEASE_ID = 0049
REVISION_ID = 0000
/* QUALITY DATA ELEMENTS */
DATA_QUALITY_ID = 1
DATA_QUALITY_DESC = "Data calculated based on original SPICE kernels"
/* TIME DATA ELEMENTS */
SPACECRAFT_CLOCK_START_COUNT = "1/0128533136.08241"
SPACECRAFT_CLOCK_STOP_COUNT = "1/0128533344.31030"
START_TIME = 2007-05-29T15:39:38.485Z
STOP_TIME = 2007-05-29T15:41:58.484Z
/* ORBITAL DATA ELEMENTS */
ASCENDING_NODE_LONGITUDE = 136.93
MAXIMUM_RESOLUTION = 12.9
FOOTPRINT_POINT_LATITUDE = (-70.9706,-70.9395,-70.8955,-70.8456, -70.7862,-70.5869,-70.3873,-70.1874, -69.9872,-69.7868,-69.5861,-69.3853, -69.184,-68.9824,-68.7803,-68.4841, -68.3144,-68.1445,-67.9744,-67.8041, -67.6337,-67.4631,-67.2923,-67.1213, -66.9501,-66.7788,-66.6074,-66.4358, -66.2639,-66.092,-65.9199,-65.7477, -65.5753,-65.4027,-65.23,-65.0571, -64.8841,-64.711,-64.5377,-64.3642, -64.1077,-63.8522,-63.5154,-63.1782, -62.8406,-62.6716,-62.4183,-62.0909, -61.9365,-61.9607,-61.9853,-62.0185, -62.1899,-62.5199,-62.7748,-62.9453, -63.1156,-63.2859,-63.456,-63.6261, -63.7961,-63.966,-64.2239,-64.4824, -64.6575,-64.8325,-65.0074,-65.1822, -65.3568,-65.5314,-65.7058,-65.8801, -66.0543,-66.2284,-66.4024,-66.5762, -66.7499,-66.9235,-67.0969,-67.2702, -67.4434,-67.6165,-67.7894,-67.9622, -68.1348,-68.3074,-68.4798,-68.652, -68.9492,-69.1543,-69.3592,-69.5638, -69.7683,-69.9725,-70.1766,-70.3804, -70.584,-70.7874,-70.9905,-70.9706)
FOOTPRINT_POINT_LONGITUDE = (54.6021,53.9869,53.1807,52.3376, 51.4441,51.5753,51.7037,51.8294,51.9522 ,52.0736,52.192,52.3118,52.4259,52.5363 ,52.6425,52.7954,52.8815,52.9667, 53.0501,53.1323,53.2133,53.2928,53.3708 ,53.4477,53.5231,53.5975,53.6715, 53.7431,53.8134,53.8833,53.9519,54.0195 ,54.0865,54.1512,54.2163,54.2785, 54.3408,54.4028,54.4638,54.5221,54.6086 ,54.6929,54.8013,54.9066,55.0097, 55.0599,55.1339,55.2274,55.7496,56.2216 ,56.7398,57.5148,57.6411,57.5882, 57.5462,57.5175,57.4884,57.4586,57.4288 ,57.3986,57.3681,57.3372,57.2891, 57.2399,57.2059,57.1711,57.1362,57.1007 ,57.0651,57.0286,56.9914,56.9538,56.916 ,56.8773,56.8377,56.798,56.7574,56.716, 56.6742,56.6316,56.5884,56.5446,56.5001 ,56.4546,56.4086,56.362,56.3143,56.2657 ,56.1803,56.1192,56.057,55.9933,55.9279 ,55.8641,55.7968,55.7286,55.6592, 55.5879,55.5151,54.6021)
ORBIT_NUMBER = 4364
ORBITAL_ECCENTRICITY = 0.571
ORBITAL_INCLINATION = 86.7
ORBITAL_SEMIMAJOR_AXIS = 8569.59
PERIAPSIS_ALTITUDE = 292.16
PERIAPSIS_ARGUMENT_ANGLE = 309.46
PERIAPSIS_TIME = 2007-05-29T15:44:54.000Z
SPACECRAFT_ORIENTATION = (0.0,1.0,0.0)
^MEX_ORIENTATION_DESC = "MEX_ORIENTATION_DESC.TXT"
SPACECRAFT_POINTING_MODE = ACROSSTRACK
^MEX_POINTING_DESC = "MEX_POINTING_DESC.TXT"
RIGHT_ASCENSION = -1e+32
DECLINATION = -1e+32
OFFSET_ANGLE = 0.2
SPACECRAFT_SOLAR_DISTANCE = 2.06704e+08
TARGET_NAME = MARS
/* CAMERA DATA ELEMENTS */
DETECTOR_TEMPERATURE = 18.5744
FOCAL_PLANE_TEMPERATURE = 9.6028
INST_CMPRS_NAME = "DISCRETE COSINE TRANSFORMATION (DCT)"
INST_CMPRS_RATIO = 7.20244
INST_CMPRS_QUALITY = 0
INST_CMPRS_QUANTZ_TBL_ID = 0
INSTRUMENT_TEMPERATURE = 11.4379
LENS_TEMPERATURE = 8.3794
MACROPIXEL_SIZE = 1
MISSING_FRAMES = 2
PIXEL_SUBSAMPLING_FLAG = N
SIGNAL_CHAIN_ID = 0
/* RADIOMETRIC DATA ELEMENTS */
BANDWIDTH = 177.0
CENTER_FILTER_WAVELENGTH = 677.5
RADIANCE_OFFSET = 5.87415
RADIANCE_SCALING_FACTOR = 0.0354276
REFLECTANCE_SCALING_FACTOR = 0.000804123
MEX:REFLECTANCE_OFFSET = 0.133329
/* IMAGE OBJECT DEFINITIONS */
OBJECT = IMAGE
  INTERCHANGE_FORMAT = BINARY
  LINES = 43125
  LINE_SAMPLES = 11321
  SAMPLE_TYPE = UNSIGNED_INTEGER
  SAMPLE_BITS = 8
  BANDS = 1
  BAND_STORAGE_TYPE = BAND_SEQUENTIAL
  MAXIMUM = 255
  MEAN = 54.499
  MINIMUM = 1
  STANDARD_DEVIATION = 19.649
END_OBJECT = IMAGE
/* MAP OBJECT DEFINITIONS */
OBJECT = IMAGE_MAP_PROJECTION
  ^DATA_SET_MAP_PROJECTION_CATALOG= "DSMAP.CAT"
  A_AXIS_RADIUS = 3396.0
  B_AXIS_RADIUS = 3396.0
  C_AXIS_RADIUS = 3396.0
  CENTER_LATITUDE = 0.0
  CENTER_LONGITUDE = 55.0
  COORDINATE_SYSTEM_NAME = PLANETOGRAPHIC
  COORDINATE_SYSTEM_TYPE = "BODY-FIXED ROTATING"
  EASTERNMOST_LONGITUDE = 57.6411
  FIRST_STANDARD_PARALLEL = "N/A"
  LINE_FIRST_PIXEL = 1
  LINE_LAST_PIXEL = 43125
  LINE_PROJECTION_OFFSET = -293590.0
  MAP_PROJECTION_ROTATION = 0.0
  MAP_PROJECTION_TYPE = SINUSOIDAL
  MAP_RESOLUTION = 4741.71043093333
  MAP_SCALE = 0.0125
  MAXIMUM_LATITUDE = -61.9365
  MINIMUM_LATITUDE = -70.9905
  POSITIVE_LONGITUDE_DIRECTION = EAST
  REFERENCE_LATITUDE = "N/A"
  REFERENCE_LONGITUDE = "N/A"
  SAMPLE_FIRST_PIXEL = 1
  SAMPLE_LAST_PIXEL = 11321
  SAMPLE_PROJECTION_OFFSET = 5387.0
  SECOND_STANDARD_PARALLEL = "N/A"
  WESTERNMOST_LONGITUDE = 51.4441
END_OBJECT = IMAGE_MAP_PROJECTION
/* The JPEG2000 image data file associated with this label. */
OBJECT = COMPRESSED_FILE
  FILE_NAME = "H4364_0000_ND3.JP2"
  RECORD_TYPE = UNDEFINED
  FILE_RECORDS = UNK
  ENCODING_TYPE = "JP2"
  INTERCHANGE_FORMAT = BINARY
  UNCOMPRESSED_FILE_NAME = "H4364_0000_ND3.IMG"
  REQUIRED_STORAGE_BYTES = "488252088"
  ^DESCRIPTION = "JP2INFO.TXT"
END_OBJECT = COMPRESSED_FILE
END
