PDS_VERSION_ID = PDS3
/* FILE DATA ELEMENTS */
RECORD_TYPE = STREAM
/* POINTERS TO DATA OBJECTS */
^COMPRESSED_FILE = "H4364_0001_P13.JP2"
/* IDENTIFICATION DATA ELEMENTS */
DATA_SET_ID = "MEX-M-HRSC-5-REFDR-MAPPROJECTED-V3.0"
DATA_SET_NAME = "MARS EXPRESS HRSC MAP PROJECTED REFDR V3.0"
DETECTOR_ID = MEX_HRSC_P1
EVENT_TYPE = "MARS-REGIONAL-MAPPING-Im-Fl-Lc"
INSTRUMENT_HOST_ID = MEX
INSTRUMENT_HOST_NAME = "MARS EXPRESS"
INSTRUMENT_ID = HRSC
INSTRUMENT_NAME = "HIGH RESOLUTION STEREO CAMERA"
MISSION_NAME = "MARS EXPRESS"
MISSION_PHASE_NAME = ME_Phase_7
PROCESSING_LEVEL_ID = 3
PRODUCT_CREATION_TIME = 2016-04-21T11:52:47.000Z
PRODUCT_ID = "H4364_0001_P13.JP2"
RELEASE_ID = 0049
REVISION_ID = 0000
/* QUALITY DATA ELEMENTS */
DATA_QUALITY_ID = 2
DATA_QUALITY_DESC = "Data calculated based on photogrammetrically improved orbit and attitude data"
/* TIME DATA ELEMENTS */
SPACECRAFT_CLOCK_START_COUNT = "1/0128533843.08419"
SPACECRAFT_CLOCK_STOP_COUNT = "1/0128534094.46108"
START_TIME = 2007-05-29T15:51:51.251Z
STOP_TIME = 2007-05-29T15:54:34.724Z
/* ORBITAL DATA ELEMENTS */
ASCENDING_NODE_LONGITUDE = 136.93
MAXIMUM_RESOLUTION = 35.9
FOOTPRINT_POINT_LATITUDE = (-25.0565,-25.0578,-25.0588,-25.0595, -25.06,-25.0602,-24.745,-24.4095, -23.9876,-23.8174,-23.6465,-23.4759, -23.3055,-23.1318,-22.9578,-22.7846, -22.6116,-22.4363,-22.2589,-21.9929, -21.8178,-21.6384,-21.4597,-21.1913, -21.0107,-20.8287,-20.6449,-20.462, -20.2755,-20.0902,-19.9059,-19.7198, -19.5314,-19.3433,-19.1571,-18.9675, -18.6799,-18.3913,-18.1982,-17.9088, -17.7127,-17.5187,-17.2282,-17.0301, -16.8322,-16.5317,-16.3309,-16.1282, -15.9239,-15.8615,-15.8578,-15.8548, -15.8512,-15.8456,-15.8406,-15.938, -16.1414,-16.3427,-16.5472,-16.7507, -17.0487,-17.2475,-17.4408,-17.7363, -17.9335,-18.1263,-18.3203,-18.6094, -18.7996,-18.9868,-19.1792,-19.3687, -19.653,-19.84,-20.0252,-20.2112, -20.3981,-20.5807,-20.7621,-20.9439, -21.1286,-21.3035,-21.4824,-21.6648, -21.8486,-22.0254,-22.202,-22.4669, -22.6414,-22.8107,-22.9852,-23.2469, -23.5039,-23.761,-23.9323,-24.2706, -24.5232,-24.6916,-25.025,-25.0565)
FOOTPRINT_POINT_LONGITUDE = (59.7337,59.4756,59.1682,58.909,58.6493 ,58.3396,58.2222,58.2186,58.2151, 58.2125,58.2105,58.2084,58.2063,58.204, 58.2017,58.199,58.1963,58.1936,58.1912, 58.1878,58.1842,58.1809,58.1772,58.1722 ,58.1685,58.1647,58.1622,58.1593, 58.1566,58.1529,58.1487,58.1449,58.141, 58.1369,58.1319,58.1269,58.1212,58.1148 ,58.1097,58.1022,58.0969,58.0905, 58.0798,58.0738,58.0679,58.0588,58.0527 ,58.0469,58.0408,58.4801,58.7808, 59.0011,59.221,59.5406,59.7793,60.1028, 60.0984,60.0942,60.0915,60.0883,60.0825 ,60.0784,60.0732,60.0679,60.0645, 60.0605,60.0569,60.0512,60.0473,60.042, 60.0392,60.0361,60.0312,60.0274,60.0238 ,60.0203,60.017,60.0134,60.0092,60.0052 ,60.0023,59.9968,59.9929,59.9901, 59.9881,59.9846,59.9808,59.9749,59.971, 59.9656,59.9621,59.9566,59.9513,59.9459 ,59.9423,59.9349,59.9296,59.9259, 59.9184,59.7337)
ORBIT_NUMBER = 4364
ORBITAL_ECCENTRICITY = 0.571
ORBITAL_INCLINATION = 86.7
ORBITAL_SEMIMAJOR_AXIS = 8569.59
PERIAPSIS_ALTITUDE = 292.16
PERIAPSIS_ARGUMENT_ANGLE = 309.46
PERIAPSIS_TIME = 2007-05-29T15:44:54.000Z
SPACECRAFT_ORIENTATION = (0.0,1.0,0.0)
^MEX_ORIENTATION_DESC = "MEX_ORIENTATION_DESC.TXT"
SPACECRAFT_POINTING_MODE = ACROSSTRACK
^MEX_POINTING_DESC = "MEX_POINTING_DESC.TXT"
RIGHT_ASCENSION = -1e+32
DECLINATION = -1e+32
OFFSET_ANGLE = 0.2
SPACECRAFT_SOLAR_DISTANCE = 2.06704e+08
TARGET_NAME = MARS
/* CAMERA DATA ELEMENTS */
DETECTOR_TEMPERATURE = 19.5939
FOCAL_PLANE_TEMPERATURE = 10.0106
INST_CMPRS_NAME = "DISCRETE COSINE TRANSFORMATION (DCT)"
INST_CMPRS_RATIO = 10.907
INST_CMPRS_QUALITY = 0
INST_CMPRS_QUANTZ_TBL_ID = 0
INSTRUMENT_TEMPERATURE = 13.8847
LENS_TEMPERATURE = 10.2145
MACROPIXEL_SIZE = 2
MISSING_FRAMES = 0
PIXEL_SUBSAMPLING_FLAG = N
SIGNAL_CHAIN_ID = 3
/* RADIOMETRIC DATA ELEMENTS */
BANDWIDTH = 174.0
CENTER_FILTER_WAVELENGTH = 675.0
RADIANCE_OFFSET = 6.15044
RADIANCE_SCALING_FACTOR = 0.0134249
REFLECTANCE_SCALING_FACTOR = 0.000308528
MEX:REFLECTANCE_OFFSET = 0.141348
/* IMAGE OBJECT DEFINITIONS */
OBJECT = IMAGE
  INTERCHANGE_FORMAT = BINARY
  LINES = 21883
  LINE_SAMPLES = 4602
  SAMPLE_TYPE = UNSIGNED_INTEGER
  SAMPLE_BITS = 8
  BANDS = 1
  BAND_STORAGE_TYPE = BAND_SEQUENTIAL
  MAXIMUM = 255
  MEAN = 107.016
  MINIMUM = 1
  STANDARD_DEVIATION = 29.4459
END_OBJECT = IMAGE
/* MAP OBJECT DEFINITIONS */
OBJECT = IMAGE_MAP_PROJECTION
  ^DATA_SET_MAP_PROJECTION_CATALOG= "DSMAP.CAT"
  A_AXIS_RADIUS = 3396.0
  B_AXIS_RADIUS = 3396.0
  C_AXIS_RADIUS = 3396.0
  CENTER_LATITUDE = 0.0
  CENTER_LONGITUDE = 59.0
  COORDINATE_SYSTEM_NAME = PLANETOGRAPHIC
  COORDINATE_SYSTEM_TYPE = "BODY-FIXED ROTATING"
  EASTERNMOST_LONGITUDE = 60.1028
  FIRST_STANDARD_PARALLEL = "N/A"
  LINE_FIRST_PIXEL = 1
  LINE_LAST_PIXEL = 21883
  LINE_PROJECTION_OFFSET = -37573.25
  MAP_PROJECTION_ROTATION = 0.0
  MAP_PROJECTION_TYPE = SINUSOIDAL
  MAP_RESOLUTION = 2370.85521546667
  MAP_SCALE = 0.025
  MAXIMUM_LATITUDE = -15.8406
  MINIMUM_LATITUDE = -25.0602
  POSITIVE_LONGITUDE_DIRECTION = EAST
  REFERENCE_LATITUDE = "N/A"
  REFERENCE_LONGITUDE = "N/A"
  SAMPLE_FIRST_PIXEL = 1
  SAMPLE_LAST_PIXEL = 4602
  SAMPLE_PROJECTION_OFFSET = 2162.25
  SECOND_STANDARD_PARALLEL = "N/A"
  WESTERNMOST_LONGITUDE = 58.0408
END_OBJECT = IMAGE_MAP_PROJECTION
/* The JPEG2000 image data file associated with this label. */
OBJECT = COMPRESSED_FILE
  FILE_NAME = "H4364_0001_P13.JP2"
  RECORD_TYPE = UNDEFINED
  FILE_RECORDS = UNK
  ENCODING_TYPE = "JP2"
  INTERCHANGE_FORMAT = BINARY
  UNCOMPRESSED_FILE_NAME = "H4364_0001_P13.IMG"
  REQUIRED_STORAGE_BYTES = "100733178"
  ^DESCRIPTION = "JP2INFO.TXT"
END_OBJECT = COMPRESSED_FILE
END
