PDS_VERSION_ID = PDS3
/* FILE DATA ELEMENTS */
RECORD_TYPE = STREAM
/* POINTERS TO DATA OBJECTS */
^COMPRESSED_FILE = "H4365_0001_P13.JP2"
/* IDENTIFICATION DATA ELEMENTS */
DATA_SET_ID = "MEX-M-HRSC-5-REFDR-MAPPROJECTED-V3.0"
DATA_SET_NAME = "MARS EXPRESS HRSC MAP PROJECTED REFDR V3.0"
DETECTOR_ID = MEX_HRSC_P1
EVENT_TYPE = "MARS-REGIONAL-MAPPING-Fl-Eo"
INSTRUMENT_HOST_ID = MEX
INSTRUMENT_HOST_NAME = "MARS EXPRESS"
INSTRUMENT_ID = HRSC
INSTRUMENT_NAME = "HIGH RESOLUTION STEREO CAMERA"
MISSION_NAME = "MARS EXPRESS"
MISSION_PHASE_NAME = ME_Phase_7
PROCESSING_LEVEL_ID = 3
PRODUCT_CREATION_TIME = 2016-04-21T11:52:47.000Z
PRODUCT_ID = "H4365_0001_P13.JP2"
RELEASE_ID = 0049
REVISION_ID = 0000
/* QUALITY DATA ELEMENTS */
DATA_QUALITY_ID = 2
DATA_QUALITY_DESC = "Data calculated based on photogrammetrically improved orbit and attitude data"
/* TIME DATA ELEMENTS */
SPACECRAFT_CLOCK_START_COUNT = "1/0128557814.09058"
SPACECRAFT_CLOCK_STOP_COUNT = "1/0128558112.30313"
START_TIME = 2007-05-29T22:31:03.983Z
STOP_TIME = 2007-05-29T22:34:59.370Z
/* ORBITAL DATA ELEMENTS */
ASCENDING_NODE_LONGITUDE = 136.92
MAXIMUM_RESOLUTION = 26.1
FOOTPRINT_POINT_LATITUDE = (-39.9589,-39.9559,-39.9863,-39.7287, -39.4719,-39.2152,-38.9587,-38.5738, -38.3172,-38.052,-37.6531,-37.258, -36.8637,-36.6013,-36.1962,-35.9254, -35.6568,-35.2494,-34.9785,-34.7086, -34.3039,-34.0365,-33.7693,-33.5024, -33.1047,-32.8393,-32.5786,-32.3097, -31.8488,-31.5342,-31.2207,-30.7523, -30.4384,-30.1271,-29.8164,-29.5063, -29.197,-28.8891,-28.4684,-28.1629, -27.6946,-27.3807,-27.0677,-26.7494, -26.4291,-26.1101,-25.7843,-25.4589, -25.4502,-25.4478,-25.4449,-25.4421, -25.4362,-25.7624,-26.089,-26.4086, -26.729,-27.2051,-27.5191,-27.9897, -28.4511,-28.8727,-29.1821,-29.6473, -29.9585,-30.4267,-30.7391,-31.0528, -31.367,-31.6812,-31.9965,-32.3023, -32.5672,-32.8324,-33.0983,-33.3638, -33.6352,-34.0365,-34.2994,-34.5674, -34.9763,-35.2485,-35.5179,-35.7881, -36.0587,-36.3289,-36.597,-36.8583, -37.1224,-37.3861,-37.6466,-37.9131, -38.1836,-38.4451,-38.7055,-38.9623, -39.2183,-39.6017,-39.8561,-39.9589)
FOOTPRINT_POINT_LONGITUDE = (320.386,319.945,319.29,319.302,319.314 ,319.326,319.337,319.354,319.365, 319.377,319.392,319.407,319.421,319.429 ,319.444,319.453,319.459,319.475, 319.484,319.493,319.506,319.512,319.518 ,319.524,319.531,319.535,319.535, 319.544,319.551,319.556,319.559,319.564 ,319.569,319.572,319.574,319.577, 319.578,319.579,319.582,319.581,319.585 ,319.585,319.585,319.585,319.585, 319.585,319.583,319.582,319.881,320.162 ,320.507,320.768,321.276,321.267, 321.259,321.25,321.241,321.228,321.22, 321.206,321.193,321.181,321.172,321.158 ,321.148,321.134,321.124,321.114, 321.104,321.094,321.083,321.073,321.064 ,321.055,321.046,321.037,321.028, 321.013,321.003,320.993,320.979,320.968 ,320.958,320.948,320.937,320.926, 320.915,320.905,320.894,320.883,320.871 ,320.86,320.849,320.837,320.826,320.814 ,320.802,320.785,320.773,320.386)
ORBIT_NUMBER = 4365
ORBITAL_ECCENTRICITY = 0.571
ORBITAL_INCLINATION = 86.7
ORBITAL_SEMIMAJOR_AXIS = 8565.62
PERIAPSIS_ALTITUDE = 292.68
PERIAPSIS_ARGUMENT_ANGLE = 309.29
PERIAPSIS_TIME = 2007-05-29T22:28:06.000Z
SPACECRAFT_ORIENTATION = (0.0,1.0,0.0)
^MEX_ORIENTATION_DESC = "MEX_ORIENTATION_DESC.TXT"
SPACECRAFT_POINTING_MODE = ACROSSTRACK
^MEX_POINTING_DESC = "MEX_POINTING_DESC.TXT"
RIGHT_ASCENSION = -1e+32
DECLINATION = -1e+32
OFFSET_ANGLE = 0.52
SPACECRAFT_SOLAR_DISTANCE = 2.067e+08
TARGET_NAME = MARS
/* CAMERA DATA ELEMENTS */
DETECTOR_TEMPERATURE = 19.7978
FOCAL_PLANE_TEMPERATURE = 9.8067
INST_CMPRS_NAME = "DISCRETE COSINE TRANSFORMATION (DCT)"
INST_CMPRS_RATIO = 12.2865
INST_CMPRS_QUALITY = 0
INST_CMPRS_QUANTZ_TBL_ID = 0
INSTRUMENT_TEMPERATURE = 14.2925
LENS_TEMPERATURE = 10.2145
MACROPIXEL_SIZE = 2
MISSING_FRAMES = 71
PIXEL_SUBSAMPLING_FLAG = N
SIGNAL_CHAIN_ID = 3
/* RADIOMETRIC DATA ELEMENTS */
BANDWIDTH = 174.0
CENTER_FILTER_WAVELENGTH = 675.0
RADIANCE_OFFSET = 6.13605
RADIANCE_SCALING_FACTOR = 0.0145286
REFLECTANCE_SCALING_FACTOR = 0.000333879
MEX:REFLECTANCE_OFFSET = 0.141012
/* IMAGE OBJECT DEFINITIONS */
OBJECT = IMAGE
  INTERCHANGE_FORMAT = BINARY
  LINES = 34533
  LINE_SAMPLES = 4014
  SAMPLE_TYPE = UNSIGNED_INTEGER
  SAMPLE_BITS = 8
  BANDS = 1
  BAND_STORAGE_TYPE = BAND_SEQUENTIAL
  MAXIMUM = 255
  MEAN = 101.12
  MINIMUM = 1
  STANDARD_DEVIATION = 46.668
END_OBJECT = IMAGE
/* MAP OBJECT DEFINITIONS */
OBJECT = IMAGE_MAP_PROJECTION
  ^DATA_SET_MAP_PROJECTION_CATALOG= "DSMAP.CAT"
  A_AXIS_RADIUS = 3396.0
  B_AXIS_RADIUS = 3396.0
  C_AXIS_RADIUS = 3396.0
  CENTER_LATITUDE = 0.0
  CENTER_LONGITUDE = 320.0
  COORDINATE_SYSTEM_NAME = PLANETOGRAPHIC
  COORDINATE_SYSTEM_TYPE = "BODY-FIXED ROTATING"
  EASTERNMOST_LONGITUDE = 321.276
  FIRST_STANDARD_PARALLEL = "N/A"
  LINE_FIRST_PIXEL = 1
  LINE_LAST_PIXEL = 34533
  LINE_PROJECTION_OFFSET = -60305.75
  MAP_PROJECTION_ROTATION = 0.0
  MAP_PROJECTION_TYPE = SINUSOIDAL
  MAP_RESOLUTION = 2370.85521546667
  MAP_SCALE = 0.025
  MAXIMUM_LATITUDE = -25.4362
  MINIMUM_LATITUDE = -39.9863
  POSITIVE_LONGITUDE_DIRECTION = EAST
  REFERENCE_LATITUDE = "N/A"
  REFERENCE_LONGITUDE = "N/A"
  SAMPLE_FIRST_PIXEL = 1
  SAMPLE_LAST_PIXEL = 4014
  SAMPLE_PROJECTION_OFFSET = 1338.75
  SECOND_STANDARD_PARALLEL = "N/A"
  WESTERNMOST_LONGITUDE = 319.29
END_OBJECT = IMAGE_MAP_PROJECTION
/* The JPEG2000 image data file associated with this label. */
OBJECT = COMPRESSED_FILE
  FILE_NAME = "H4365_0001_P13.JP2"
  RECORD_TYPE = UNDEFINED
  FILE_RECORDS = UNK
  ENCODING_TYPE = "JP2"
  INTERCHANGE_FORMAT = BINARY
  UNCOMPRESSED_FILE_NAME = "H4365_0001_P13.IMG"
  REQUIRED_STORAGE_BYTES = "138639546"
  ^DESCRIPTION = "JP2INFO.TXT"
END_OBJECT = COMPRESSED_FILE
END
