PDS_VERSION_ID = PDS3
/* FILE DATA ELEMENTS */
RECORD_TYPE = STREAM
/* POINTERS TO DATA OBJECTS */
^COMPRESSED_FILE = "H4369_0001_BL3.JP2"
/* IDENTIFICATION DATA ELEMENTS */
DATA_SET_ID = "MEX-M-HRSC-5-REFDR-MAPPROJECTED-V3.0"
DATA_SET_NAME = "MARS EXPRESS HRSC MAP PROJECTED REFDR V3.0"
DETECTOR_ID = MEX_HRSC_BLUE
EVENT_TYPE = "MARS-REGIONAL-MAPPING-Vo-Te-Im"
INSTRUMENT_HOST_ID = MEX
INSTRUMENT_HOST_NAME = "MARS EXPRESS"
INSTRUMENT_ID = HRSC
INSTRUMENT_NAME = "HIGH RESOLUTION STEREO CAMERA"
MISSION_NAME = "MARS EXPRESS"
MISSION_PHASE_NAME = ME_Phase_7
PROCESSING_LEVEL_ID = 3
PRODUCT_CREATION_TIME = 2016-04-21T11:52:47.000Z
PRODUCT_ID = "H4369_0001_BL3.JP2"
RELEASE_ID = 0049
REVISION_ID = 0000
/* QUALITY DATA ELEMENTS */
DATA_QUALITY_ID = 2
DATA_QUALITY_DESC = "Data calculated based on photogrammetrically improved orbit and attitude data"
/* TIME DATA ELEMENTS */
SPACECRAFT_CLOCK_START_COUNT = "1/0128654769.07306"
SPACECRAFT_CLOCK_STOP_COUNT = "1/0128655033.10928"
START_TIME = 2007-05-31T01:26:41.585Z
STOP_TIME = 2007-05-31T01:29:30.071Z
/* ORBITAL DATA ELEMENTS */
ASCENDING_NODE_LONGITUDE = 136.83
MAXIMUM_RESOLUTION = 61.8
FOOTPRINT_POINT_LATITUDE = (-28.4639,-28.4626,-28.4608,-28.4567, -28.4538,-28.3506,-28.1582,-27.9661, -27.7741,-27.5824,-27.2948,-27.1028, -26.7211,-26.3355,-26.1398,-25.9444, -25.7491,-25.5541,-25.355,-25.1553, -24.8558,-24.6565,-24.4542,-24.2498, -23.9446,-23.7411,-23.534,-23.3259, -23.1178,-22.9102,-22.6995,-22.4874, -22.2757,-22.0641,-21.7409,-21.5252, -21.3096,-20.9812,-20.7613,-20.5416, -20.2073,-19.9834,-19.7599,-19.419, -19.1913,-18.964,-18.7321,-18.5004, -18.2693,-18.0363,-18.0367,-18.0364, -18.0357,-18.0337,-18.0329,-18.2691, -18.5009,-18.733,-18.9655,-19.1934, -19.4217,-19.7634,-19.9875,-20.2119, -20.547,-20.767,-20.9873,-21.3162, -21.5323,-21.7486,-22.0723,-22.2843, -22.4966,-22.7092,-22.9202,-23.1283, -23.3367,-23.5443,-23.7525,-23.9561, -24.1602,-24.3646,-24.6694,-24.9692, -25.1691,-25.3693,-25.5686,-25.764, -25.9596,-26.1552,-26.3512,-26.5464, -26.833,-27.2155,-27.4078,-27.5999, -27.7922,-28.0806,-28.273,-28.4639)
FOOTPRINT_POINT_LONGITUDE = (288.434,288.208,287.967,287.556, 287.328,286.968,286.967,286.967,286.967 ,286.967,286.966,286.964,286.964, 286.963,286.961,286.96,286.959,286.958, 286.957,286.955,286.952,286.951,286.949 ,286.946,286.943,286.941,286.938, 286.935,286.932,286.929,286.926,286.923 ,286.92,286.917,286.912,286.909,286.905 ,286.9,286.896,286.891,286.885,286.88, 286.876,286.869,286.864,286.859,286.854 ,286.848,286.843,286.957,287.337, 287.699,287.992,288.404,288.685,288.681 ,288.678,288.674,288.67,288.666,288.663 ,288.657,288.653,288.649,288.643,288.64 ,288.636,288.631,288.627,288.623, 288.618,288.614,288.61,288.606,288.602, 288.598,288.594,288.592,288.586,288.583 ,288.579,288.575,288.569,288.563, 288.559,288.555,288.551,288.548,288.544 ,288.54,288.536,288.532,288.526,288.519 ,288.515,288.51,288.506,288.5,288.496, 288.434)
ORBIT_NUMBER = 4369
ORBITAL_ECCENTRICITY = 0.571
ORBITAL_INCLINATION = 86.68
ORBITAL_SEMIMAJOR_AXIS = 8566.95
PERIAPSIS_ALTITUDE = 292.46
PERIAPSIS_ARGUMENT_ANGLE = 308.59
PERIAPSIS_TIME = 2007-05-31T01:20:58.000Z
SPACECRAFT_ORIENTATION = (0.0,1.0,0.0)
^MEX_ORIENTATION_DESC = "MEX_ORIENTATION_DESC.TXT"
SPACECRAFT_POINTING_MODE = ACROSSTRACK
^MEX_POINTING_DESC = "MEX_POINTING_DESC.TXT"
RIGHT_ASCENSION = -1e+32
DECLINATION = -1e+32
OFFSET_ANGLE = 0.1
SPACECRAFT_SOLAR_DISTANCE = 2.06688e+08
TARGET_NAME = MARS
/* CAMERA DATA ELEMENTS */
DETECTOR_TEMPERATURE = 20.4095
FOCAL_PLANE_TEMPERATURE = 10.4184
INST_CMPRS_NAME = "DISCRETE COSINE TRANSFORMATION (DCT)"
INST_CMPRS_RATIO = 15.9944
INST_CMPRS_QUALITY = 0
INST_CMPRS_QUANTZ_TBL_ID = 0
INSTRUMENT_TEMPERATURE = 14.7003
LENS_TEMPERATURE = 10.8262
MACROPIXEL_SIZE = 4
MISSING_FRAMES = 0
PIXEL_SUBSAMPLING_FLAG = N
SIGNAL_CHAIN_ID = 2
/* RADIOMETRIC DATA ELEMENTS */
BANDWIDTH = 76.0
CENTER_FILTER_WAVELENGTH = 444.0
RADIANCE_OFFSET = 1.08503
RADIANCE_SCALING_FACTOR = 0.00125801
REFLECTANCE_SCALING_FACTOR = 5.52165e-05
MEX:REFLECTANCE_OFFSET = 0.0476243
/* IMAGE OBJECT DEFINITIONS */
OBJECT = IMAGE
  INTERCHANGE_FORMAT = BINARY
  LINES = 12375
  LINE_SAMPLES = 2203
  SAMPLE_TYPE = UNSIGNED_INTEGER
  SAMPLE_BITS = 8
  BANDS = 1
  BAND_STORAGE_TYPE = BAND_SEQUENTIAL
  MAXIMUM = 255
  MEAN = 149.21
  MINIMUM = 1
  STANDARD_DEVIATION = 26.1382
END_OBJECT = IMAGE
/* MAP OBJECT DEFINITIONS */
OBJECT = IMAGE_MAP_PROJECTION
  ^DATA_SET_MAP_PROJECTION_CATALOG= "DSMAP.CAT"
  A_AXIS_RADIUS = 3396.0
  B_AXIS_RADIUS = 3396.0
  C_AXIS_RADIUS = 3396.0
  CENTER_LATITUDE = 0.0
  CENTER_LONGITUDE = 288.0
  COORDINATE_SYSTEM_NAME = PLANETOGRAPHIC
  COORDINATE_SYSTEM_TYPE = "BODY-FIXED ROTATING"
  EASTERNMOST_LONGITUDE = 288.685
  FIRST_STANDARD_PARALLEL = "N/A"
  LINE_FIRST_PIXEL = 1
  LINE_LAST_PIXEL = 12375
  LINE_PROJECTION_OFFSET = -21366.375
  MAP_PROJECTION_ROTATION = 0.0
  MAP_PROJECTION_TYPE = SINUSOIDAL
  MAP_RESOLUTION = 1185.42760773333
  MAP_SCALE = 0.05
  MAXIMUM_LATITUDE = -18.0329
  MINIMUM_LATITUDE = -28.4639
  POSITIVE_LONGITUDE_DIRECTION = EAST
  REFERENCE_LATITUDE = "N/A"
  REFERENCE_LONGITUDE = "N/A"
  SAMPLE_FIRST_PIXEL = 1
  SAMPLE_LAST_PIXEL = 2203
  SAMPLE_PROJECTION_OFFSET = 1377.875
  SECOND_STANDARD_PARALLEL = "N/A"
  WESTERNMOST_LONGITUDE = 286.843
END_OBJECT = IMAGE_MAP_PROJECTION
/* The JPEG2000 image data file associated with this label. */
OBJECT = COMPRESSED_FILE
  FILE_NAME = "H4369_0001_BL3.JP2"
  RECORD_TYPE = UNDEFINED
  FILE_RECORDS = UNK
  ENCODING_TYPE = "JP2"
  INTERCHANGE_FORMAT = BINARY
  UNCOMPRESSED_FILE_NAME = "H4369_0001_BL3.IMG"
  REQUIRED_STORAGE_BYTES = "27284155"
  ^DESCRIPTION = "JP2INFO.TXT"
END_OBJECT = COMPRESSED_FILE
END
