PDS_VERSION_ID = PDS3
/* FILE DATA ELEMENTS */
RECORD_TYPE = STREAM
/* POINTERS TO DATA OBJECTS */
^COMPRESSED_FILE = "H4372_0000_S23.JP2"
/* IDENTIFICATION DATA ELEMENTS */
DATA_SET_ID = "MEX-M-HRSC-5-REFDR-MAPPROJECTED-V3.0"
DATA_SET_NAME = "MARS EXPRESS HRSC MAP PROJECTED REFDR V3.0"
DETECTOR_ID = MEX_HRSC_S2
EVENT_TYPE = "MARS-REGIONAL-MAPPING-Vo-Im"
INSTRUMENT_HOST_ID = MEX
INSTRUMENT_HOST_NAME = "MARS EXPRESS"
INSTRUMENT_ID = HRSC
INSTRUMENT_NAME = "HIGH RESOLUTION STEREO CAMERA"
MISSION_NAME = "MARS EXPRESS"
MISSION_PHASE_NAME = ME_Phase_7
PROCESSING_LEVEL_ID = 3
PRODUCT_CREATION_TIME = 2016-04-21T11:52:47.000Z
PRODUCT_ID = "H4372_0000_S23.JP2"
RELEASE_ID = 0049
REVISION_ID = 0000
/* QUALITY DATA ELEMENTS */
DATA_QUALITY_ID = 2
DATA_QUALITY_DESC = "Data calculated based on photogrammetrically improved orbit and attitude data"
/* TIME DATA ELEMENTS */
SPACECRAFT_CLOCK_START_COUNT = "1/0128727070.09049"
SPACECRAFT_CLOCK_STOP_COUNT = "1/0128727316.32399"
START_TIME = 2007-05-31T21:31:14.228Z
STOP_TIME = 2007-05-31T21:34:16.016Z
/* ORBITAL DATA ELEMENTS */
ASCENDING_NODE_LONGITUDE = 136.77
MAXIMUM_RESOLUTION = 24.7
FOOTPRINT_POINT_LATITUDE = (-47.2389,-47.2264,-47.2108,-46.9257, -46.5842,-46.2419,-46.014,-45.6728, -45.4444,-45.2159,-44.8613,-44.6241, -44.2636,-44.0238,-43.7862,-43.5495, -43.3154,-43.0777,-42.8405,-42.6024, -42.3661,-42.1269,-41.8817,-41.6425, -41.4048,-41.1722,-40.9341,-40.6871, -40.4389,-40.1916,-39.943,-39.6949, -39.4478,-39.2008,-38.9539,-38.5824, -38.3349,-38.0838,-37.8271,-37.4447, -37.0585,-36.803,-36.543,-36.2911, -36.0337,-35.7691,-35.5059,-35.2411, -34.9616,-34.9707,-34.9852,-34.9883, -35.1248,-35.3877,-35.6526,-35.9167, -36.1789,-36.4346,-36.8192,-37.0767, -37.3278,-37.586,-37.8464,-38.0942, -38.4776,-38.8486,-39.0961,-39.3437, -39.7156,-39.9637,-40.2115,-40.4588, -40.707,-41.0765,-41.3161,-41.5569, -41.7947,-42.152,-42.3897,-42.6282, -42.8664,-43.1049,-43.3441,-43.5831, -43.8218,-44.0596,-44.2977,-44.5358, -44.7734,-45.0112,-45.2478,-45.4775, -45.7068,-46.0498,-46.2785,-46.5061, -46.7341,-46.963,-47.1918,-47.2389)
FOOTPRINT_POINT_LONGITUDE = (352.594,352.199,351.776,351.685,351.71 ,351.734,351.75,351.773,351.788,351.803 ,351.825,351.84,351.86,351.873,351.886, 351.9,351.914,351.926,351.939,351.951, 351.963,351.974,351.983,351.994,352.005 ,352.017,352.028,352.038,352.048, 352.057,352.066,352.075,352.084,352.093 ,352.102,352.114,352.122,352.13,352.138 ,352.15,352.159,352.166,352.171,352.179 ,352.185,352.191,352.197,352.203,352.33 ,352.771,353.115,353.349,353.625, 353.618,353.611,353.604,353.597,353.59, 353.579,353.571,353.566,353.557,353.548 ,353.543,353.529,353.517,353.509, 353.501,353.488,353.48,353.471,353.462, 353.453,353.439,353.43,353.42,353.412, 353.398,353.389,353.38,353.37,353.36, 353.35,353.34,353.329,353.319,353.309, 353.298,353.288,353.277,353.266,353.255 ,353.244,353.228,353.217,353.206, 353.194,353.183,353.171,352.594)
ORBIT_NUMBER = 4372
ORBITAL_ECCENTRICITY = 0.571
ORBITAL_INCLINATION = 86.69
ORBITAL_SEMIMAJOR_AXIS = 8564.96
PERIAPSIS_ALTITUDE = 292.53
PERIAPSIS_ARGUMENT_ANGLE = 308.04
PERIAPSIS_TIME = 2007-05-31T21:30:30.000Z
SPACECRAFT_ORIENTATION = (0.0,1.0,0.0)
^MEX_ORIENTATION_DESC = "MEX_ORIENTATION_DESC.TXT"
SPACECRAFT_POINTING_MODE = NADIR
^MEX_POINTING_DESC = "MEX_POINTING_DESC.TXT"
RIGHT_ASCENSION = -1e+32
DECLINATION = -1e+32
OFFSET_ANGLE = -1e+32
SPACECRAFT_SOLAR_DISTANCE = 2.06681e+08
TARGET_NAME = MARS
/* CAMERA DATA ELEMENTS */
DETECTOR_TEMPERATURE = 18.7783
FOCAL_PLANE_TEMPERATURE = 10.6223
INST_CMPRS_NAME = "DISCRETE COSINE TRANSFORMATION (DCT)"
INST_CMPRS_RATIO = 10.8545
INST_CMPRS_QUALITY = 0
INST_CMPRS_QUANTZ_TBL_ID = 0
INSTRUMENT_TEMPERATURE = 11.6418
LENS_TEMPERATURE = 10.8262
MACROPIXEL_SIZE = 2
MISSING_FRAMES = 0
PIXEL_SUBSAMPLING_FLAG = N
SIGNAL_CHAIN_ID = 1
/* RADIOMETRIC DATA ELEMENTS */
BANDWIDTH = 178.0
CENTER_FILTER_WAVELENGTH = 679.0
RADIANCE_OFFSET = 7.81309
RADIANCE_SCALING_FACTOR = 0.0114202
REFLECTANCE_SCALING_FACTOR = 0.000258347
MEX:REFLECTANCE_OFFSET = 0.176747
/* IMAGE OBJECT DEFINITIONS */
OBJECT = IMAGE
  INTERCHANGE_FORMAT = BINARY
  LINES = 28996
  LINE_SAMPLES = 3537
  SAMPLE_TYPE = UNSIGNED_INTEGER
  SAMPLE_BITS = 8
  BANDS = 1
  BAND_STORAGE_TYPE = BAND_SEQUENTIAL
  MAXIMUM = 255
  MEAN = 108.223
  MINIMUM = 1
  STANDARD_DEVIATION = 24.6539
END_OBJECT = IMAGE
/* MAP OBJECT DEFINITIONS */
OBJECT = IMAGE_MAP_PROJECTION
  ^DATA_SET_MAP_PROJECTION_CATALOG= "DSMAP.CAT"
  A_AXIS_RADIUS = 3396.0
  B_AXIS_RADIUS = 3396.0
  C_AXIS_RADIUS = 3396.0
  CENTER_LATITUDE = 0.0
  CENTER_LONGITUDE = 353.0
  COORDINATE_SYSTEM_NAME = PLANETOGRAPHIC
  COORDINATE_SYSTEM_TYPE = "BODY-FIXED ROTATING"
  EASTERNMOST_LONGITUDE = 353.625
  FIRST_STANDARD_PARALLEL = "N/A"
  LINE_FIRST_PIXEL = 1
  LINE_LAST_PIXEL = 28996
  LINE_PROJECTION_OFFSET = -82893.25
  MAP_PROJECTION_ROTATION = 0.0
  MAP_PROJECTION_TYPE = SINUSOIDAL
  MAP_RESOLUTION = 2370.85521546667
  MAP_SCALE = 0.025
  MAXIMUM_LATITUDE = -34.9616
  MINIMUM_LATITUDE = -47.2389
  POSITIVE_LONGITUDE_DIRECTION = EAST
  REFERENCE_LATITUDE = "N/A"
  REFERENCE_LONGITUDE = "N/A"
  SAMPLE_FIRST_PIXEL = 1
  SAMPLE_LAST_PIXEL = 3537
  SAMPLE_PROJECTION_OFFSET = 2197.75
  SECOND_STANDARD_PARALLEL = "N/A"
  WESTERNMOST_LONGITUDE = 351.685
END_OBJECT = IMAGE_MAP_PROJECTION
/* The JPEG2000 image data file associated with this label. */
OBJECT = COMPRESSED_FILE
  FILE_NAME = "H4372_0000_S23.JP2"
  RECORD_TYPE = UNDEFINED
  FILE_RECORDS = UNK
  ENCODING_TYPE = "JP2"
  INTERCHANGE_FORMAT = BINARY
  UNCOMPRESSED_FILE_NAME = "H4372_0000_S23.IMG"
  REQUIRED_STORAGE_BYTES = "102583611"
  ^DESCRIPTION = "JP2INFO.TXT"
END_OBJECT = COMPRESSED_FILE
END
